BEGIN:VCALENDAR
VERSION:2.0
PRODID:-//Nakonhaka Region 13 - ECPv6.15.20//NONSGML v1.0//EN
CALSCALE:GREGORIAN
METHOD:PUBLISH
X-WR-CALNAME:Nakonhaka Region 13
X-ORIGINAL-URL:https://nakonhakaucc.ca
X-WR-CALDESC:Events for Nakonhaka Region 13
REFRESH-INTERVAL;VALUE=DURATION:PT1H
X-Robots-Tag:noindex
X-PUBLISHED-TTL:PT1H
BEGIN:VTIMEZONE
TZID:America/Toronto
BEGIN:DAYLIGHT
TZOFFSETFROM:-0500
TZOFFSETTO:-0400
TZNAME:EDT
DTSTART:20190310T070000
END:DAYLIGHT
BEGIN:STANDARD
TZOFFSETFROM:-0400
TZOFFSETTO:-0500
TZNAME:EST
DTSTART:20191103T060000
END:STANDARD
BEGIN:DAYLIGHT
TZOFFSETFROM:-0500
TZOFFSETTO:-0400
TZNAME:EDT
DTSTART:20200308T070000
END:DAYLIGHT
BEGIN:STANDARD
TZOFFSETFROM:-0400
TZOFFSETTO:-0500
TZNAME:EST
DTSTART:20201101T060000
END:STANDARD
BEGIN:DAYLIGHT
TZOFFSETFROM:-0500
TZOFFSETTO:-0400
TZNAME:EDT
DTSTART:20210314T070000
END:DAYLIGHT
BEGIN:STANDARD
TZOFFSETFROM:-0400
TZOFFSETTO:-0500
TZNAME:EST
DTSTART:20211107T060000
END:STANDARD
END:VTIMEZONE
BEGIN:VEVENT
DTSTART;TZID=America/Toronto:20201121T083000
DTEND;TZID=America/Toronto:20201121T120000
DTSTAMP:20260425T061910
CREATED:20200616T145655Z
LAST-MODIFIED:20201124T163820Z
UID:3314-1605947400-1605960000@nakonhakaucc.ca
SUMMARY:Regional Council Fall Gathering 2020
DESCRIPTION:Despite being physically distanced\, we continue to be community\, accompanied by our God.  \n			\n				\n				\n				\n				\n				Agenda\n				  \n\n\n\n8:30-9:00\nCoffee Time & Signing in\n\n\n9:00-9:10\nTech Time: Instructions & Clarifications\n\n\n9:10-9:30\nWelcoming and Opening Prayer (Acknowledgement (Welcome) of the land)\n\n\n9:30-9:45\nCall to Order\, Enabling Motions\, intros\, Duty of Care\, etc. (Purpose of the outlined day)\n\n\n9:45-10:05\nGovernance: *2021 Budget (Property & Finance) (20min)\n\n\n10:05-10:15\nGood News in exile\n\n\n10:15-10:35\nSmall Group conversation: *Good News in exile\n\n\n10:35-10:45\nBreak\n\n\n10:45-11:05\nGovernance: *2021 Funding Ministry & Mission (Granting & Enabling) (20min)\n\n\n11:05-11:15\nRemit (10 minutes)\n\n\n11:15-11:20\nUpdate from the COVID Task Group\n\n\n11:20-11:25\nGovernance: *Nomination Team\n\n\n11:25-11:50\nCovenanting with LLWL\n\n\n11:50-12:00\nClosing Prayer (with reminders and enabling motions)\n\n\n12:00 – ???\nOptional online lunch groups\n\n\n\n			\n				\n				\n				\n				\n				Registration form\n				\n \n			\n				\n				\n				\n				\n				Download documents \n				Motions / Decisions: 2020-04-25_General Annual Meeting_Minutes_Session 1 / 2020-05-30_General Annual Meeting_Minutes_Session 2 / 2020-11-21_Decisions and Appendices_Décisions et annexes – v2 \nRegional Council Budget 2021: Region 13 – Draft 2021 Budget – prepared 2020-11-05 \nFinance and Extension Board Budget 2021: 2021 Budget F & E – Draft 2020-10-30 \nGranting & Enabling 2021: budget: GrantsDisbursements-Jan01-Nov20-2020 / presentation: GELT Nov 2020 \nCOVID Response Task Group: NRC COVID19 Task Group Nov Update \nRemit: Remit 1 (Learn more: https://generalcouncil43.ca/council/remit) \nLicensed Lay Worship Leaders: LLWL-2020-2022 \nAdditional documents\nReport from La Table des ministères en français (in French): 2020-11-07-Rapport-LaTable \nReport from Emmanuel College: Emmanuel-Report-F2020 \nPreliminary Communications Survey Results: CommunicationsSurvey-PreliminaryResults-2020-11-08 \nColouring pages / activity sheets (for children\, youth or adults): We Are not alone worksheet \nUPDATES \n2020-11-20Report from United Theological College: UTC Report to Regional Councils Oct 2020 \n2020-11-24: 2020-11-21_Decisions and Appendices_Décisions et annexes_FINAL \n  \nPlease note that French versions of documents are available at https://nakonhakaucc.ca/fr/evenement/rassemblement-dautomne-2020-du-conseil-regional/ \n			\n				\n				\n				\n				\n				BONUS – Food for the Soul\nSome of you have lamented that one of the things you miss most about gathering in person (aside from the people!) is the delicious treats that have been shared over the years. We know this isn’t quite the same\, but a few of our famous bakers have shared their recipes so that you can enjoy those well-loved treats in the comfort of your own home during the meeting. Bon appetit! \n			\n			\n				\n				\n				\n				\n			\n				\n				\n				\n				\n				\n				\n				\n				\n				\n				\n				\n			\n				\n				\n				\n				\n				\n					\n					\n						Shirley Stark's Empire Biscuits\n						Download recipe \n					\n				\n			\n			\n				\n				\n				\n				\n				\n				\n				\n				\n				\n				\n				\n			\n				\n				\n				\n				\n				\n					\n					\n						Cinnamon Rolls with "Dragon" (AKA Mead Baldwin)\n						Watch video (includes recipe)
URL:https://nakonhakaucc.ca/event/crnrc-fall-gathering-2020/
CATEGORIES:ONLINE,Regional Gathering
ATTACH;FMTTYPE=image/png:https://nakonhakaucc.ca/wp-content/uploads/2020/06/WeAreNotAlone-Fall2020-logo.png
ORGANIZER;CN="Rev. Tami Spires":MAILTO:spiresta@hotmail.com
END:VEVENT
END:VCALENDAR