BEGIN:VCALENDAR
VERSION:2.0
PRODID:-//Nakonhaka Region 13 - ECPv6.15.20//NONSGML v1.0//EN
CALSCALE:GREGORIAN
METHOD:PUBLISH
X-WR-CALNAME:Nakonhaka Region 13
X-ORIGINAL-URL:https://nakonhakaucc.ca
X-WR-CALDESC:Events for Nakonhaka Region 13
REFRESH-INTERVAL;VALUE=DURATION:PT1H
X-Robots-Tag:noindex
X-PUBLISHED-TTL:PT1H
BEGIN:VTIMEZONE
TZID:America/Toronto
BEGIN:DAYLIGHT
TZOFFSETFROM:-0500
TZOFFSETTO:-0400
TZNAME:EDT
DTSTART:20210314T070000
END:DAYLIGHT
BEGIN:STANDARD
TZOFFSETFROM:-0400
TZOFFSETTO:-0500
TZNAME:EST
DTSTART:20211107T060000
END:STANDARD
BEGIN:DAYLIGHT
TZOFFSETFROM:-0500
TZOFFSETTO:-0400
TZNAME:EDT
DTSTART:20220313T070000
END:DAYLIGHT
BEGIN:STANDARD
TZOFFSETFROM:-0400
TZOFFSETTO:-0500
TZNAME:EST
DTSTART:20221106T060000
END:STANDARD
BEGIN:DAYLIGHT
TZOFFSETFROM:-0500
TZOFFSETTO:-0400
TZNAME:EDT
DTSTART:20230312T070000
END:DAYLIGHT
BEGIN:STANDARD
TZOFFSETFROM:-0400
TZOFFSETTO:-0500
TZNAME:EST
DTSTART:20231105T060000
END:STANDARD
END:VTIMEZONE
BEGIN:VEVENT
DTSTART;TZID=America/Toronto:20220528T130000
DTEND;TZID=America/Toronto:20220528T160000
DTSTAMP:20260423T091753
CREATED:20220504T163149Z
LAST-MODIFIED:20220922T160006Z
UID:5478-1653742800-1653753600@nakonhakaucc.ca
SUMMARY:Blanket Exercise for Leadership Teams
DESCRIPTION:Members of Executive and leadership teams are invited to participate in a blanket exercise on May 28 at\n1 pm (alternate date June 11) at Maison Saint Columba House – 2365 rue Grand Trunk\, Montreal H3K 1M8 (parking available on the street). \nWe will be accompanied by Tom Dearhouse\, Mohawk/Ojibwe\, counselor and facilitator\, land based teacher\, pipe carrier\, advocate\, elder. \nPlease RSVP to the LIRR team at rightrelationsnakonhaka@gmail.com\nLearn more about the blanket exercise: https://www.kairosblanketexercise.org/ \n  \n  \n 
URL:https://nakonhakaucc.ca/event/blanket-exercise-for-leadership-teams/
LOCATION:Maison Saint Columba House\, 2365 rue Grand Trunk\, Montreal\, QC\, H3K 1M8\, Canada
CATEGORIES:Right Relations,Workshop
END:VEVENT
END:VCALENDAR