BEGIN:VCALENDAR
VERSION:2.0
PRODID:-//Nakonhaka Region 13 - ECPv6.15.20//NONSGML v1.0//EN
CALSCALE:GREGORIAN
METHOD:PUBLISH
X-ORIGINAL-URL:https://nakonhakaucc.ca
X-WR-CALDESC:Events for Nakonhaka Region 13
REFRESH-INTERVAL;VALUE=DURATION:PT1H
X-Robots-Tag:noindex
X-PUBLISHED-TTL:PT1H
BEGIN:VTIMEZONE
TZID:America/Toronto
BEGIN:DAYLIGHT
TZOFFSETFROM:-0500
TZOFFSETTO:-0400
TZNAME:EDT
DTSTART:20210314T070000
END:DAYLIGHT
BEGIN:STANDARD
TZOFFSETFROM:-0400
TZOFFSETTO:-0500
TZNAME:EST
DTSTART:20211107T060000
END:STANDARD
BEGIN:DAYLIGHT
TZOFFSETFROM:-0500
TZOFFSETTO:-0400
TZNAME:EDT
DTSTART:20220313T070000
END:DAYLIGHT
BEGIN:STANDARD
TZOFFSETFROM:-0400
TZOFFSETTO:-0500
TZNAME:EST
DTSTART:20221106T060000
END:STANDARD
BEGIN:DAYLIGHT
TZOFFSETFROM:-0500
TZOFFSETTO:-0400
TZNAME:EDT
DTSTART:20230312T070000
END:DAYLIGHT
BEGIN:STANDARD
TZOFFSETFROM:-0400
TZOFFSETTO:-0500
TZNAME:EST
DTSTART:20231105T060000
END:STANDARD
END:VTIMEZONE
BEGIN:VEVENT
DTSTART;TZID=America/Toronto:20220913T190000
DTEND;TZID=America/Toronto:20220913T200000
DTSTAMP:20260422T204729
CREATED:20220815T215414Z
LAST-MODIFIED:20220922T171007Z
UID:5773-1663095600-1663099200@nakonhakaucc.ca
SUMMARY:An open chat with Marc Grenon\, Regional Council President
DESCRIPTION:Thanks to those who joined us for an informal conversation with our new Regional Council president\, Marc Grenon\, on September 13\, 2022 . Contact Judy at jcoffin@united-church.ca if you would like to submit additional questions or suggestions to Marc.  \n			\n				Watch video of conversation\n			\n				\n				\n				\n				\n				Additional resources: A recent recording of a one-on-one interview with Marc Grenon offers an opportunity to learn more about his background\, where he sees both hope and challenge ahead\, his vision on how we might move forward together as a regional council and how people can engage and share their ideas and suggestions.[NOTE: The English and French versions of the conversation are similar but not identical\, so please feel free to watch both!] \n			\n				Watch video of interview (English)\n			\n				Watch video of interview (French)
URL:https://nakonhakaucc.ca/event/an-open-chat-with-marc-grenon-regional-council-president/
CATEGORIES:Conversation,ONLINE,Regional Gathering
ATTACH;FMTTYPE=image/jpeg:https://nakonhakaucc.ca/wp-content/uploads/2022/08/2022-MarcGrenon.jpg
ORGANIZER;CN="Conseil r%C3%A9gional Nakonha%3Aka Regional Council":MAILTO:jcoffin@united-church.ca
END:VEVENT
END:VCALENDAR