BEGIN:VCALENDAR
VERSION:2.0
PRODID:-//Nakonhaka Region 13 - ECPv6.15.20//NONSGML v1.0//EN
CALSCALE:GREGORIAN
METHOD:PUBLISH
X-WR-CALNAME:Nakonhaka Region 13
X-ORIGINAL-URL:https://nakonhakaucc.ca
X-WR-CALDESC:Events for Nakonhaka Region 13
REFRESH-INTERVAL;VALUE=DURATION:PT1H
X-Robots-Tag:noindex
X-PUBLISHED-TTL:PT1H
BEGIN:VTIMEZONE
TZID:America/Toronto
BEGIN:DAYLIGHT
TZOFFSETFROM:-0500
TZOFFSETTO:-0400
TZNAME:EDT
DTSTART:20210314T070000
END:DAYLIGHT
BEGIN:STANDARD
TZOFFSETFROM:-0400
TZOFFSETTO:-0500
TZNAME:EST
DTSTART:20211107T060000
END:STANDARD
BEGIN:DAYLIGHT
TZOFFSETFROM:-0500
TZOFFSETTO:-0400
TZNAME:EDT
DTSTART:20220313T070000
END:DAYLIGHT
BEGIN:STANDARD
TZOFFSETFROM:-0400
TZOFFSETTO:-0500
TZNAME:EST
DTSTART:20221106T060000
END:STANDARD
BEGIN:DAYLIGHT
TZOFFSETFROM:-0500
TZOFFSETTO:-0400
TZNAME:EDT
DTSTART:20230312T070000
END:DAYLIGHT
BEGIN:STANDARD
TZOFFSETFROM:-0400
TZOFFSETTO:-0500
TZNAME:EST
DTSTART:20231105T060000
END:STANDARD
END:VTIMEZONE
BEGIN:VEVENT
DTSTART;TZID=America/Toronto:20220924T090000
DTEND;TZID=America/Toronto:20220924T120000
DTSTAMP:20260422T204644
CREATED:20220913T162053Z
LAST-MODIFIED:20220913T162053Z
UID:5862-1664010000-1664020800@nakonhakaucc.ca
SUMMARY:Rummage Sale - Valois United Church
DESCRIPTION:A Rummage Sale of used clothing\, books\, jewelry\, kitchenware and toys is being held at Valois United Church\,  70 Belmont Ave.\, Pointe Claire on Saturday\,  September 24th from 9 am to 12 noon.  At the same time there is a Bake Sale of a wonderful variety of homemade sweets and goodies to choose from.   www.valoisunited.ca
URL:https://nakonhakaucc.ca/event/rummage-sale-valois-united-church/
LOCATION:Valois United Church\, 70 Belmont Avenue\, Pointe Claire\, Quebec\, H9R 2N5\, Canada
CATEGORIES:Fundraiser
END:VEVENT
END:VCALENDAR