BEGIN:VCALENDAR
VERSION:2.0
PRODID:-//Nakonhaka Region 13 - ECPv6.15.20//NONSGML v1.0//EN
CALSCALE:GREGORIAN
METHOD:PUBLISH
X-ORIGINAL-URL:https://nakonhakaucc.ca
X-WR-CALDESC:Events for Nakonhaka Region 13
REFRESH-INTERVAL;VALUE=DURATION:PT1H
X-Robots-Tag:noindex
X-PUBLISHED-TTL:PT1H
BEGIN:VTIMEZONE
TZID:America/Toronto
BEGIN:DAYLIGHT
TZOFFSETFROM:-0500
TZOFFSETTO:-0400
TZNAME:EDT
DTSTART:20210314T070000
END:DAYLIGHT
BEGIN:STANDARD
TZOFFSETFROM:-0400
TZOFFSETTO:-0500
TZNAME:EST
DTSTART:20211107T060000
END:STANDARD
BEGIN:DAYLIGHT
TZOFFSETFROM:-0500
TZOFFSETTO:-0400
TZNAME:EDT
DTSTART:20220313T070000
END:DAYLIGHT
BEGIN:STANDARD
TZOFFSETFROM:-0400
TZOFFSETTO:-0500
TZNAME:EST
DTSTART:20221106T060000
END:STANDARD
BEGIN:DAYLIGHT
TZOFFSETFROM:-0500
TZOFFSETTO:-0400
TZNAME:EDT
DTSTART:20230312T070000
END:DAYLIGHT
BEGIN:STANDARD
TZOFFSETFROM:-0400
TZOFFSETTO:-0500
TZNAME:EST
DTSTART:20231105T060000
END:STANDARD
END:VTIMEZONE
BEGIN:VEVENT
DTSTART;TZID=America/Toronto:20221003T190000
DTEND;TZID=America/Toronto:20221003T210000
DTSTAMP:20260422T184613
CREATED:20220909T172040Z
LAST-MODIFIED:20220922T155729Z
UID:5856-1664823600-1664830800@nakonhakaucc.ca
SUMMARY:Book Launch: Water from the Dragon's Well (David Kim-Cragg)
DESCRIPTION:Emmanuel College’s Centre for Religion and Its Contexts is proud to be hosting the launch of David Kim-Cragg’s book\, Water from Dragon’s Well: The History of a Korean-Canadian Church Relationship on Monday\, October 3 at 7 p.m. EDT. The launch is online and free\, but registration is required. Kim-Cragg is both a sessional lecturer at Emmanuel College and minister at St. Matthew’s United Church in Richmond Hill. \nKim-Cragg will be joined by Phyllis D. Airhart (professor emerita\, Emmanuel College)\, Dr. Keith Carlson (Tier 1 Canada Research Chair in Indigenous and Community-Engaged History and director of the Peace and Reconciliation Centre\, University of the Fraser Valley) and Kang-hee Han (sessional lecturer of Christian history\, Hanshin University) for a conversation about his book. \nWater from Dragon’s Well is available at a 30% discount by using code MQFA until 31 December 2022 at https://www.mqup.ca/water-from-dragon-s-well-products-9780228010852.php \nFor full details about the book and Kim-Cragg’s bio\, please visit the launch’s web page.
URL:https://nakonhakaucc.ca/event/book-launch-water-from-the-dragons-well-david-kim-cragg/
CATEGORIES:Book launch
ATTACH;FMTTYPE=image/jpeg:https://nakonhakaucc.ca/wp-content/uploads/2022/09/2022-10-03-Water-from-Dragons-Well-Book-Launch-IG-Poster.jpg
END:VEVENT
END:VCALENDAR