BEGIN:VCALENDAR
VERSION:2.0
PRODID:-//Nakonhaka Region 13 - ECPv6.15.20//NONSGML v1.0//EN
CALSCALE:GREGORIAN
METHOD:PUBLISH
X-ORIGINAL-URL:https://nakonhakaucc.ca
X-WR-CALDESC:Events for Nakonhaka Region 13
REFRESH-INTERVAL;VALUE=DURATION:PT1H
X-Robots-Tag:noindex
X-PUBLISHED-TTL:PT1H
BEGIN:VTIMEZONE
TZID:America/Toronto
BEGIN:DAYLIGHT
TZOFFSETFROM:-0500
TZOFFSETTO:-0400
TZNAME:EDT
DTSTART:20210314T070000
END:DAYLIGHT
BEGIN:STANDARD
TZOFFSETFROM:-0400
TZOFFSETTO:-0500
TZNAME:EST
DTSTART:20211107T060000
END:STANDARD
BEGIN:DAYLIGHT
TZOFFSETFROM:-0500
TZOFFSETTO:-0400
TZNAME:EDT
DTSTART:20220313T070000
END:DAYLIGHT
BEGIN:STANDARD
TZOFFSETFROM:-0400
TZOFFSETTO:-0500
TZNAME:EST
DTSTART:20221106T060000
END:STANDARD
BEGIN:DAYLIGHT
TZOFFSETFROM:-0500
TZOFFSETTO:-0400
TZNAME:EDT
DTSTART:20230312T070000
END:DAYLIGHT
BEGIN:STANDARD
TZOFFSETFROM:-0400
TZOFFSETTO:-0500
TZNAME:EST
DTSTART:20231105T060000
END:STANDARD
END:VTIMEZONE
BEGIN:VEVENT
DTSTART;TZID=America/Toronto:20221013T190000
DTEND;TZID=America/Toronto:20221013T203000
DTSTAMP:20260422T194058
CREATED:20221006T151334Z
LAST-MODIFIED:20221006T151334Z
UID:5991-1665687600-1665693000@nakonhakaucc.ca
SUMMARY:Wisdom Literature Study
DESCRIPTION:A six-week series on the Wisdom books of Ecclesiastes (Qohelet) and Proverbs. We will explore what exactly these books are\, and spend some time reading them and discovering what insight they might have for our lives today. Hosted by Riverside and Beaconsfield United Churches on Zoom\, all are welcome. Contact community@beaconsfieldunitedchurch.com for the Zoom link.
URL:https://nakonhakaucc.ca/event/wisdom-literature-study/
LOCATION:online
ATTACH;FMTTYPE=image/jpeg:https://nakonhakaucc.ca/wp-content/uploads/2022/10/Riverside-and-Beaconsfield-United-Churches-PResent-1.jpg
ORGANIZER;CN="Beaconsfield United Church":MAILTO:community@beaconsfieldunitedchurch.ca
END:VEVENT
END:VCALENDAR