BEGIN:VCALENDAR
VERSION:2.0
PRODID:-//Nakonhaka Region 13 - ECPv6.15.20//NONSGML v1.0//EN
CALSCALE:GREGORIAN
METHOD:PUBLISH
X-ORIGINAL-URL:https://nakonhakaucc.ca
X-WR-CALDESC:Events for Nakonhaka Region 13
REFRESH-INTERVAL;VALUE=DURATION:PT1H
X-Robots-Tag:noindex
X-PUBLISHED-TTL:PT1H
BEGIN:VTIMEZONE
TZID:America/Toronto
BEGIN:DAYLIGHT
TZOFFSETFROM:-0500
TZOFFSETTO:-0400
TZNAME:EDT
DTSTART:20210314T070000
END:DAYLIGHT
BEGIN:STANDARD
TZOFFSETFROM:-0400
TZOFFSETTO:-0500
TZNAME:EST
DTSTART:20211107T060000
END:STANDARD
BEGIN:DAYLIGHT
TZOFFSETFROM:-0500
TZOFFSETTO:-0400
TZNAME:EDT
DTSTART:20220313T070000
END:DAYLIGHT
BEGIN:STANDARD
TZOFFSETFROM:-0400
TZOFFSETTO:-0500
TZNAME:EST
DTSTART:20221106T060000
END:STANDARD
BEGIN:DAYLIGHT
TZOFFSETFROM:-0500
TZOFFSETTO:-0400
TZNAME:EDT
DTSTART:20230312T070000
END:DAYLIGHT
BEGIN:STANDARD
TZOFFSETFROM:-0400
TZOFFSETTO:-0500
TZNAME:EST
DTSTART:20231105T060000
END:STANDARD
END:VTIMEZONE
BEGIN:VEVENT
DTSTART;TZID=America/Toronto:20221018T190000
DTEND;TZID=America/Toronto:20221018T203000
DTSTAMP:20260422T184614
CREATED:20220929T160805Z
LAST-MODIFIED:20221101T143230Z
UID:5932-1666119600-1666125000@nakonhakaucc.ca
SUMMARY:Conversation with GC44 Commissioners
DESCRIPTION:Join a conversation with some of our GC44 commissioners on Tuesday\, October 18 at 7 pm to hear highlights of discussions at General Council 44\, and how decisions may impact communities of faith in this regional council. All are welcome. \n			\n				Recording of conversation
URL:https://nakonhakaucc.ca/event/conversation-with-gc44-commissioners/
CATEGORIES:Conversation,ONLINE
ATTACH;FMTTYPE=image/png:https://nakonhakaucc.ca/wp-content/uploads/2022/09/GC44-logo-trilingual.png
ORGANIZER;CN="Judy Coffin":MAILTO:jcoffin@united-church.ca
END:VEVENT
END:VCALENDAR