BEGIN:VCALENDAR
VERSION:2.0
PRODID:-//Nakonhaka Region 13 - ECPv6.15.20//NONSGML v1.0//EN
CALSCALE:GREGORIAN
METHOD:PUBLISH
X-ORIGINAL-URL:https://nakonhakaucc.ca
X-WR-CALDESC:Events for Nakonhaka Region 13
REFRESH-INTERVAL;VALUE=DURATION:PT1H
X-Robots-Tag:noindex
X-PUBLISHED-TTL:PT1H
BEGIN:VTIMEZONE
TZID:America/Toronto
BEGIN:DAYLIGHT
TZOFFSETFROM:-0500
TZOFFSETTO:-0400
TZNAME:EDT
DTSTART:20210314T070000
END:DAYLIGHT
BEGIN:STANDARD
TZOFFSETFROM:-0400
TZOFFSETTO:-0500
TZNAME:EST
DTSTART:20211107T060000
END:STANDARD
BEGIN:DAYLIGHT
TZOFFSETFROM:-0500
TZOFFSETTO:-0400
TZNAME:EDT
DTSTART:20220313T070000
END:DAYLIGHT
BEGIN:STANDARD
TZOFFSETFROM:-0400
TZOFFSETTO:-0500
TZNAME:EST
DTSTART:20221106T060000
END:STANDARD
BEGIN:DAYLIGHT
TZOFFSETFROM:-0500
TZOFFSETTO:-0400
TZNAME:EDT
DTSTART:20230312T070000
END:DAYLIGHT
BEGIN:STANDARD
TZOFFSETFROM:-0400
TZOFFSETTO:-0500
TZNAME:EST
DTSTART:20231105T060000
END:STANDARD
END:VTIMEZONE
BEGIN:VEVENT
DTSTART;TZID=America/Toronto:20221029T090000
DTEND;TZID=America/Toronto:20221029T160000
DTSTAMP:20260422T184614
CREATED:20221018T155359Z
LAST-MODIFIED:20221025T161643Z
UID:6078-1667034000-1667059200@nakonhakaucc.ca
SUMMARY:What Next for the Church? Congregational Ministry in a Pandemic-Shaped World
DESCRIPTION:The Covid pandemic has raised new questions about the future of Christian ministry in a changing world. This interactive one-day conference is an opportunity to explore strategies for adaptive change in a new environment. The focus will be on connecting congregations with their local contexts\, building inter-cultural community\, and responding to ministry environments marked by secularism\, pluralism\, and diversity. Featuring an engaging keynote speaker as well as Christian leaders from around the region who are engaging in innovative and transformative ministries\, join us to reflect\, discuss\, and learn as we look together with hope toward ministry in a world shaped by the pandemic.
URL:https://nakonhakaucc.ca/event/what-next-for-the-church-congregational-ministry-in-a-pandemic-shaped-world-2/
LOCATION:The Church of St. Mark and St. Peter\, 1650 Rue Decelles\, St. Laurent\, QC\, H4L 2E6
CATEGORIES:Conversation,Interdenominational
ATTACH;FMTTYPE=image/png:https://nakonhakaucc.ca/wp-content/uploads/2022/10/What-Next-for-the-Church-FB-Event-header.png
ORGANIZER;CN="Montreal Diocesan Theological College":MAILTO:info@montrealdio.ca
END:VEVENT
END:VCALENDAR