BEGIN:VCALENDAR
VERSION:2.0
PRODID:-//Nakonhaka Region 13 - ECPv6.15.20//NONSGML v1.0//EN
CALSCALE:GREGORIAN
METHOD:PUBLISH
X-ORIGINAL-URL:https://nakonhakaucc.ca
X-WR-CALDESC:Events for Nakonhaka Region 13
REFRESH-INTERVAL;VALUE=DURATION:PT1H
X-Robots-Tag:noindex
X-PUBLISHED-TTL:PT1H
BEGIN:VTIMEZONE
TZID:America/Toronto
BEGIN:DAYLIGHT
TZOFFSETFROM:-0500
TZOFFSETTO:-0400
TZNAME:EDT
DTSTART:20210314T070000
END:DAYLIGHT
BEGIN:STANDARD
TZOFFSETFROM:-0400
TZOFFSETTO:-0500
TZNAME:EST
DTSTART:20211107T060000
END:STANDARD
BEGIN:DAYLIGHT
TZOFFSETFROM:-0500
TZOFFSETTO:-0400
TZNAME:EDT
DTSTART:20220313T070000
END:DAYLIGHT
BEGIN:STANDARD
TZOFFSETFROM:-0400
TZOFFSETTO:-0500
TZNAME:EST
DTSTART:20221106T060000
END:STANDARD
BEGIN:DAYLIGHT
TZOFFSETFROM:-0500
TZOFFSETTO:-0400
TZNAME:EDT
DTSTART:20230312T070000
END:DAYLIGHT
BEGIN:STANDARD
TZOFFSETFROM:-0400
TZOFFSETTO:-0500
TZNAME:EST
DTSTART:20231105T060000
END:STANDARD
END:VTIMEZONE
BEGIN:VEVENT
DTSTART;TZID=America/Toronto:20221118T183000
DTEND;TZID=America/Toronto:20221119T183000
DTSTAMP:20260422T165752
CREATED:20221220T170726Z
LAST-MODIFIED:20221220T175232Z
UID:6439-1668796200-1668882600@nakonhakaucc.ca
SUMMARY:November 2022 Regional Council Gathering (online)
DESCRIPTION:The next regional council gathering will be held online on Friday evening (Nov 18) and Saturday morning (Nov 19) and will focus on the theme of deep spirituality. \nIf you have any ideas or resources for exploring the concept of deep spirituality as a regional council and would like to participate in the planning process\, please contact the new planning team chair\, Valerie Nickson. \n			\n				\n				\n				\n				\n				Registration\n				 \n			\n				\n				\n				\n				\n				Agenda\n				\n\n\nOnline meeting: Friday Nov 18th 6:30-9:00pm\n\n\n6:30\nSign in/ Registration\n\n\n6:45\nThe words before all words: Acknowledgement (Welcome) of the land\, Prayer of Thanksgiving & Opening Worship\n\n\n7:00\n\nCall to Order\, Enabling Motions\, Officers\, announce acting Executive Minister Rev. Dan Hayward \nBehavioural Covenant (Holy Manners) \n\n\n\n7:20\nFinance and Extension Board / Property & Finance Leadership Team2023 Budget (FE and RC)\n\n\n7:45\nTable Group Discussions – Deep Spirituality\n\n\n8:05\nGranting and Enabling Leadership Team\n\n\n8:10\nGC 44 updates\n\n\n8:25\nBill-96 (legal implications)\n\n\n8:45\nHymn / Prayer\n\n\n8:50\nGood-night blessing\n\n\n\n    \n\n\n\nOnline meeting: Saturday\, Nov 19th  9am-12pm\n\n\n8:45\nCoffee & Conversation (Sign in/ Registration)\n\n\n8:50\nTech instructions (Zoom\, translations)\n\n\n8:55\nGathering Music\n\n\n9:00\nMorning Worship\n\n\n9:10\n\nPresentations: Clusters and Network \n\nWest Island and Riverside Cluster\nSaint-Francis Cluster\nSouth Shore and Valleys Cluster\nLaurentian Area Ministry Cluster\n\n\n\n\n9:35\nFirst Third Ministries: United Spirit Camp\, Youth Forum updates\n\n\n9:45\nOffice of Vocation: Rev. Caroline Penhale and Rev. Lillian Roberts\n\n\n9:55\nLLWL presentation\n\n\n10:10\nVote on the 2023 Budget\n\n\n10:20\nBreak\n\n\n10:30\nReturn with gathering hymn / prayer\n\n\n10:35\n\nDeep Spirituality – Spiritual Practices \n\nLabyrinth\nTaizé\nCeltic\nNature Walk\n\n\n\n\n10:55\nTable Group Discussions – Deep Spirituality\n\n\n11:25\nRecognition of Rev. Rosemary Lambie’s retirement\n\n\n11:35\nClosing of business meeting\n\n\n11:40\n\nCovenant with LLWL and closing worship \nReflections \nClosing words \n\n\n\n\nDownload PDF \n			\n				\n				\n				\n				\n				Documents to download\n				Minutes / Motions\n\n2022-06-04 Minutes\n2022-11-18-19 Motions\n\n\nBudget 2023\n\nSpreadsheet\nCharts\nSpreadsheet (FE)\nCharts (FE) \n\n\nSpiritual Practices\nAdvent Celtic Meditation (PDF) \n\nUpdates\n2022-11-17 Update from Shanna Bernier: each person should bring a small stone and a piece of chocolate to the Friday evening meeting! \n			\n				\n				\n				\n				\n				Post-meeting updates\n				Decisions\nFinal version to come \n\nSpiritual Practices\nBody Prayer (Valerie Nickson)Praying with the Senses (Shanna Bernier)Christian Meditation (Joel Miller)Labyrinths (Rev. Elisabeth Jones)Taizé (Connie Osborne and Rev. Christine Marie Gladu) Advent Celtic Meditation (Rev. Darryl Macdonald) – PDFWild Church (Rev. Neil Whitehouse) \n\nClusters\nIntroduction (David-Roger Gagnon)Laurentian Area Ministry – LAM (Kelley Molloy)St. Francis Cluster (Ann Fowlis)West Island and Riverside Cluster (Rev. Helen Hliaras and Rev. Christine Marie Gladu)South Shore and Valleys Cluster (Rev. Jennifer Mountain) \n\nOther resources and videos\nBudget (Fred Braman) – to come  [Learn more: Budget Conversation-2022-11-08]GC44 highlights (Rev. Cathy Hamilton)  [Learn more: GC44Conversation-2022-10-18]Impact of Bill 96 (Fred Braman)Granting and Enabling Leadership Team – GELT (Rev. Barbara Bryce) – to comeFirst Third Ministries (Shanna Bernier)LLWL Presentation (Charlotte Griffith and Rev. Lee Ann Hogle) – to comeRecommendation of LLWL Leadership Team: https://bit.ly/2022-10-20-LLWLRecommendation
URL:https://nakonhakaucc.ca/event/november-2022-regional-council-gathering-online/
CATEGORIES:ONLINE,Regional Gathering
ATTACH;FMTTYPE=image/png:https://nakonhakaucc.ca/wp-content/uploads/2022/03/DeepSpirituality.png
ORGANIZER;CN="Valerie Nickson":MAILTO:valerieepps00@gmail.com
END:VEVENT
END:VCALENDAR