BEGIN:VCALENDAR
VERSION:2.0
PRODID:-//Nakonhaka Region 13 - ECPv6.15.20//NONSGML v1.0//EN
CALSCALE:GREGORIAN
METHOD:PUBLISH
X-ORIGINAL-URL:https://nakonhakaucc.ca
X-WR-CALDESC:Events for Nakonhaka Region 13
REFRESH-INTERVAL;VALUE=DURATION:PT1H
X-Robots-Tag:noindex
X-PUBLISHED-TTL:PT1H
BEGIN:VTIMEZONE
TZID:America/Toronto
BEGIN:DAYLIGHT
TZOFFSETFROM:-0500
TZOFFSETTO:-0400
TZNAME:EDT
DTSTART:20220313T070000
END:DAYLIGHT
BEGIN:STANDARD
TZOFFSETFROM:-0400
TZOFFSETTO:-0500
TZNAME:EST
DTSTART:20221106T060000
END:STANDARD
BEGIN:DAYLIGHT
TZOFFSETFROM:-0500
TZOFFSETTO:-0400
TZNAME:EDT
DTSTART:20230312T070000
END:DAYLIGHT
BEGIN:STANDARD
TZOFFSETFROM:-0400
TZOFFSETTO:-0500
TZNAME:EST
DTSTART:20231105T060000
END:STANDARD
BEGIN:DAYLIGHT
TZOFFSETFROM:-0500
TZOFFSETTO:-0400
TZNAME:EDT
DTSTART:20240310T070000
END:DAYLIGHT
BEGIN:STANDARD
TZOFFSETFROM:-0400
TZOFFSETTO:-0500
TZNAME:EST
DTSTART:20241103T060000
END:STANDARD
END:VTIMEZONE
BEGIN:VEVENT
DTSTART;TZID=America/Toronto:20230324T183000
DTEND;TZID=America/Toronto:20230325T120000
DTSTAMP:20260422T095300
CREATED:20220815T221101Z
LAST-MODIFIED:20230406T212832Z
UID:5788-1679682600-1679745600@nakonhakaucc.ca
SUMMARY:March 2023 Regional Council Gathering (online)
DESCRIPTION:The regional council meeting on March 24 and 25 (on Zoom) will be an opportunity to learn more about the new strategic plan for The United Church of Canada and to explore how our regional council resonates with different aspects of that plan. We are eager for feedback and guidance from our grassroots\, so please invite any members of your communities of faith who are interested to register and participate in the discussion. \nIn addition to the conversation about the strategic plan\, we plan to have presentations about environmental grants available to communities of faith for upgrading their buildings (Faithful Footprints) and about the Affirming Process for our Regional Council. \nThe draft agenda for the day is now available to download\, including some questions for small group discussion in case you would like to reflect on them in advance; additional documents will be shared as they become available. \n			\n				\n				\n				\n				\n				Registration\n				 \n			\n				\n				\n				\n				\n				Documents\n				(click on titles to download) \n\nAgenda – updated March 23\, 2023\nMotions for March 2023 meeting – added March 23\, 2023\nStrategic plan diagram (fish) – added March 23\, 2023\nQuestions for small group discussion – updated March 23\, 2023\nMinutes of November 2022 meeting (2022-11-18-19)\nPolicy on Donations\nReport Book 2022 – updated March 23\, 2023\nRetirees \n\nBonus: Shanna Bernier will lead us in an embodied spirituality exercise on Saturday morning to create an origami fish (see video below). Bring a rectangular or square piece of coloured paper to take part! \n  \n			\n				\n				\n				\n				\n				\n				\n			\n				\n				\n				\n				\n				Post-meeting survey\n				 \n			\n				\n				\n				\n				\n				Post-meeting resources\n				\nDecisions\nVideo (Friday night)\nVideo (Saturday morning) \n\nThanks to Natacha Sanson for sharing a photo of her notes and her origami fish from the meeting! (see photo below) \n			\n				\n				\n				\n				\n				\n			\n			\n				\n				\n				\n				\n			\n				\n				\n				\n				\n				\n				\n				\n				\n				\n				\n				Friday evening\n			\n				\n				\n				\n				\n				\n				\n			\n			\n				\n				\n				\n				\n				\n				\n				\n				\n				\n				Saturday morning
URL:https://nakonhakaucc.ca/event/march-2023-regional-council-gathering-online/
CATEGORIES:ONLINE,Regional Gathering
ATTACH;FMTTYPE=image/png:https://nakonhakaucc.ca/wp-content/uploads/2022/08/Reservez-la-date-1.png
ORGANIZER;CN="Valerie Nickson":MAILTO:valerieepps00@gmail.com
END:VEVENT
END:VCALENDAR