BEGIN:VCALENDAR
VERSION:2.0
PRODID:-//Nakonhaka Region 13 - ECPv6.15.20//NONSGML v1.0//EN
CALSCALE:GREGORIAN
METHOD:PUBLISH
X-ORIGINAL-URL:https://nakonhakaucc.ca
X-WR-CALDESC:Events for Nakonhaka Region 13
REFRESH-INTERVAL;VALUE=DURATION:PT1H
X-Robots-Tag:noindex
X-PUBLISHED-TTL:PT1H
BEGIN:VTIMEZONE
TZID:America/Toronto
BEGIN:DAYLIGHT
TZOFFSETFROM:-0500
TZOFFSETTO:-0400
TZNAME:EDT
DTSTART:20220313T070000
END:DAYLIGHT
BEGIN:STANDARD
TZOFFSETFROM:-0400
TZOFFSETTO:-0500
TZNAME:EST
DTSTART:20221106T060000
END:STANDARD
BEGIN:DAYLIGHT
TZOFFSETFROM:-0500
TZOFFSETTO:-0400
TZNAME:EDT
DTSTART:20230312T070000
END:DAYLIGHT
BEGIN:STANDARD
TZOFFSETFROM:-0400
TZOFFSETTO:-0500
TZNAME:EST
DTSTART:20231105T060000
END:STANDARD
BEGIN:DAYLIGHT
TZOFFSETFROM:-0500
TZOFFSETTO:-0400
TZNAME:EDT
DTSTART:20240310T070000
END:DAYLIGHT
BEGIN:STANDARD
TZOFFSETFROM:-0400
TZOFFSETTO:-0500
TZNAME:EST
DTSTART:20241103T060000
END:STANDARD
END:VTIMEZONE
BEGIN:VEVENT
DTSTART;TZID=America/Toronto:20230506T080000
DTEND;TZID=America/Toronto:20230506T130000
DTSTAMP:20260422T063659
CREATED:20230501T145557Z
LAST-MODIFIED:20230501T145557Z
UID:7315-1683360000-1683378000@nakonhakaucc.ca
SUMMARY:GARAGE SALE (Mount Bruno)
DESCRIPTION:If you are looking for Bits and Pieces\nCome Tour Our\nGARAGE SALE\nSaturday\, May 6\, 2023 from 08h to 13h\nMount Bruno / Richelieu Valley United Church\n25 Lakeview\, St-Bruno de Montarville\, J3V 2L4 \nConsult With The\nBICYCLE WORKSHOP & MAINTENANCE ADVISOR\nBrowse through the kitchen items\, lamps\, small furniture\, toys and games\, bric a brac\, jewelry\, books\, yard tools\, sports gear\, bicycles\, tricycles\, as well as push cycles and baby gear. \nIf you have items to donate\, goods may be received\,\nFriday\, May 5th\, 2023\, from 10 am. to 4 pm.\n(we cannot accept clothing\, plush toys\, electronics or big furniture.)
URL:https://nakonhakaucc.ca/event/garage-sale-mount-bruno/
LOCATION:Mount Bruno United Church\, 25 Rue Lakeview\, Saint-Bruno-de-Montarville\, QC\, J3V 2L4\, Canada
CATEGORIES:Fundraiser
ATTACH;FMTTYPE=image/png:https://nakonhakaucc.ca/wp-content/uploads/2023/05/2023-05-06-GarageSale-MountBruno.png
END:VEVENT
BEGIN:VEVENT
DTSTART;TZID=America/Toronto:20230506T090000
DTEND;TZID=America/Toronto:20230506T120000
DTSTAMP:20260422T063659
CREATED:20230501T174004Z
LAST-MODIFIED:20230501T174004Z
UID:7299-1683363600-1683374400@nakonhakaucc.ca
SUMMARY:Spring Rummage Sale & Bake Sale
DESCRIPTION:Sale of used clothing and accessories\, books\, toys\, puzzles\, household items\, kitchenware\, jewellery\, office furniture\, tools and more. A Bake Table will offer a wonderful variety of homemade baked goodies.
URL:https://nakonhakaucc.ca/event/spring-rummage-sale-bake-sale/
LOCATION:Valois United Church\, 70 Belmont Avenue\, Pointe Claire\, Quebec\, H9R 2N5\, Canada
CATEGORIES:Fundraiser
ORGANIZER;CN="Valois United UCW":MAILTO:kaner@colba.net
END:VEVENT
END:VCALENDAR