BEGIN:VCALENDAR
VERSION:2.0
PRODID:-//Nakonhaka Region 13 - ECPv6.15.20//NONSGML v1.0//EN
CALSCALE:GREGORIAN
METHOD:PUBLISH
X-ORIGINAL-URL:https://nakonhakaucc.ca
X-WR-CALDESC:Events for Nakonhaka Region 13
REFRESH-INTERVAL;VALUE=DURATION:PT1H
X-Robots-Tag:noindex
X-PUBLISHED-TTL:PT1H
BEGIN:VTIMEZONE
TZID:America/Toronto
BEGIN:DAYLIGHT
TZOFFSETFROM:-0500
TZOFFSETTO:-0400
TZNAME:EDT
DTSTART:20220313T070000
END:DAYLIGHT
BEGIN:STANDARD
TZOFFSETFROM:-0400
TZOFFSETTO:-0500
TZNAME:EST
DTSTART:20221106T060000
END:STANDARD
BEGIN:DAYLIGHT
TZOFFSETFROM:-0500
TZOFFSETTO:-0400
TZNAME:EDT
DTSTART:20230312T070000
END:DAYLIGHT
BEGIN:STANDARD
TZOFFSETFROM:-0400
TZOFFSETTO:-0500
TZNAME:EST
DTSTART:20231105T060000
END:STANDARD
BEGIN:DAYLIGHT
TZOFFSETFROM:-0500
TZOFFSETTO:-0400
TZNAME:EDT
DTSTART:20240310T070000
END:DAYLIGHT
BEGIN:STANDARD
TZOFFSETFROM:-0400
TZOFFSETTO:-0500
TZNAME:EST
DTSTART:20241103T060000
END:STANDARD
END:VTIMEZONE
BEGIN:VEVENT
DTSTART;TZID=America/Toronto:20230909T100000
DTEND;TZID=America/Toronto:20230909T140000
DTSTAMP:20260420T005057
CREATED:20230907T152430Z
LAST-MODIFIED:20230907T152430Z
UID:7954-1694253600-1694268000@nakonhakaucc.ca
SUMMARY:Plant Sale
DESCRIPTION:House plant sale.  Tea\, coffee\, and muffins will be available.
URL:https://nakonhakaucc.ca/event/plant-sale/
LOCATION:Merging Waters United Church (Maple)\, 24 Rue Maple\, Sainte-Anne-de-Bellevue\, QC\, H9X 2E1\, Canada
CATEGORIES:Fundraiser
END:VEVENT
BEGIN:VEVENT
DTSTART;TZID=America/Toronto:20230909T110000
DTEND;TZID=America/Toronto:20230909T130000
DTSTAMP:20260420T005057
CREATED:20220711T190740Z
LAST-MODIFIED:20231026T180432Z
UID:5733-1694257200-1694264400@nakonhakaucc.ca
SUMMARY:Dedication of Mohawk Bible translation
DESCRIPTION:If you have made plans to attend the Dedication of the Mohawk Bible at Kanesatake United Church\, please note the parking instructions below. \nIn addition to public places all around\, there is free parking during the service at the CHURCH HALL: \n240 Rue St Michel\, Oka\, QC\, J0N 1E0\n			\n				\n				\n				\n				\n				Photo Gallery
URL:https://nakonhakaucc.ca/event/dedication-of-mohawk-bible-translation/
LOCATION:Kanesatake United Church\, 209 des Anges\, Kanesatake\, QC\, J0N 1E0\, Canada
CATEGORIES:Book launch,Community event,Worship
ATTACH;FMTTYPE=image/jpeg:https://nakonhakaucc.ca/wp-content/uploads/2022/07/2023-09-09-MBDL.jpeg
ORGANIZER;CN="Kanesatake United Church":MAILTO:satewas.karenhatasegabriel@gmail.com
END:VEVENT
END:VCALENDAR