BEGIN:VCALENDAR
VERSION:2.0
PRODID:-//Nakonhaka Region 13 - ECPv6.15.20//NONSGML v1.0//EN
CALSCALE:GREGORIAN
METHOD:PUBLISH
X-ORIGINAL-URL:https://nakonhakaucc.ca
X-WR-CALDESC:Events for Nakonhaka Region 13
REFRESH-INTERVAL;VALUE=DURATION:PT1H
X-Robots-Tag:noindex
X-PUBLISHED-TTL:PT1H
BEGIN:VTIMEZONE
TZID:America/Toronto
BEGIN:DAYLIGHT
TZOFFSETFROM:-0500
TZOFFSETTO:-0400
TZNAME:EDT
DTSTART:20220313T070000
END:DAYLIGHT
BEGIN:STANDARD
TZOFFSETFROM:-0400
TZOFFSETTO:-0500
TZNAME:EST
DTSTART:20221106T060000
END:STANDARD
BEGIN:DAYLIGHT
TZOFFSETFROM:-0500
TZOFFSETTO:-0400
TZNAME:EDT
DTSTART:20230312T070000
END:DAYLIGHT
BEGIN:STANDARD
TZOFFSETFROM:-0400
TZOFFSETTO:-0500
TZNAME:EST
DTSTART:20231105T060000
END:STANDARD
BEGIN:DAYLIGHT
TZOFFSETFROM:-0500
TZOFFSETTO:-0400
TZNAME:EDT
DTSTART:20240310T070000
END:DAYLIGHT
BEGIN:STANDARD
TZOFFSETFROM:-0400
TZOFFSETTO:-0500
TZNAME:EST
DTSTART:20241103T060000
END:STANDARD
END:VTIMEZONE
BEGIN:VEVENT
DTSTART;TZID=America/Toronto:20230915T180000
DTEND;TZID=America/Toronto:20230917T110000
DTSTAMP:20260419T212406
CREATED:20230821T190214Z
LAST-MODIFIED:20230821T190214Z
UID:7890-1694800800-1694948400@nakonhakaucc.ca
SUMMARY:Young Adult Retreat - Show Up for yourself
DESCRIPTION:A spiritual retreat for folks aged 18 to 40ish.\nTheme: How do we show up for ourselves?\nLocation: Camp D’Action Biblique (Cleveland QC)\nCost: 60$ per person.
URL:https://nakonhakaucc.ca/event/young-adult-retreat-show-up-for-yourself/
LOCATION:Camp D’Action Biblique\, 422 Chemin de Camp\, Richmond\, J0B2H0
CATEGORIES:Youth and Young Adult
ORGANIZER;CN="Shanna Bernier":MAILTO:sbernier@united-church.ca
END:VEVENT
BEGIN:VEVENT
DTSTART;TZID=America/Toronto:20230917T100000
DTEND;TZID=America/Toronto:20230917T170000
DTSTAMP:20260419T212406
CREATED:20230830T150411Z
LAST-MODIFIED:20230830T150411Z
UID:7919-1694944800-1694970000@nakonhakaucc.ca
SUMMARY:Community Art Fair Hosted by Emmanuel
DESCRIPTION:Emmanuel is hosting an Art fair  and open house\, featuring local artists and a few friends from Montreal. All crafts are handmade\, including jams\, jellies and preserves plus “living art” in the sanctuary and a historial overview of Emmanuel’s faith community. Community Art Fair and open house is on rain or shine\, inside and outside. No entry fee\, all are welcome! Lots going on in and around Emmanuel in Cowansville Quebec. Join us for worship at 11:00am with a hymn sing and enjoy your journey and our “artful” surroundings!!!
URL:https://nakonhakaucc.ca/event/community-art-fair-hosted-by-emmanuel/
LOCATION:Emmanuel United Church\, 203 rue Principale\, Cowansville\, QC\, J2K 1J3\, Canada
CATEGORIES:Community event
ATTACH;FMTTYPE=image/jpeg:https://nakonhakaucc.ca/wp-content/uploads/2023/08/363442912_276029365044799_4253342330377268737_n.jpg
ORGANIZER;CN="Emmanuel United Church":MAILTO:capcchurchoffice@bellnet.ca
END:VEVENT
END:VCALENDAR