BEGIN:VCALENDAR
VERSION:2.0
PRODID:-//Nakonhaka Region 13 - ECPv6.15.20//NONSGML v1.0//EN
CALSCALE:GREGORIAN
METHOD:PUBLISH
X-WR-CALNAME:Nakonhaka Region 13
X-ORIGINAL-URL:https://nakonhakaucc.ca
X-WR-CALDESC:Events for Nakonhaka Region 13
REFRESH-INTERVAL;VALUE=DURATION:PT1H
X-Robots-Tag:noindex
X-PUBLISHED-TTL:PT1H
BEGIN:VTIMEZONE
TZID:America/Toronto
BEGIN:DAYLIGHT
TZOFFSETFROM:-0500
TZOFFSETTO:-0400
TZNAME:EDT
DTSTART:20220313T070000
END:DAYLIGHT
BEGIN:STANDARD
TZOFFSETFROM:-0400
TZOFFSETTO:-0500
TZNAME:EST
DTSTART:20221106T060000
END:STANDARD
BEGIN:DAYLIGHT
TZOFFSETFROM:-0500
TZOFFSETTO:-0400
TZNAME:EDT
DTSTART:20230312T070000
END:DAYLIGHT
BEGIN:STANDARD
TZOFFSETFROM:-0400
TZOFFSETTO:-0500
TZNAME:EST
DTSTART:20231105T060000
END:STANDARD
BEGIN:DAYLIGHT
TZOFFSETFROM:-0500
TZOFFSETTO:-0400
TZNAME:EDT
DTSTART:20240310T070000
END:DAYLIGHT
BEGIN:STANDARD
TZOFFSETFROM:-0400
TZOFFSETTO:-0500
TZNAME:EST
DTSTART:20241103T060000
END:STANDARD
END:VTIMEZONE
BEGIN:VEVENT
DTSTART;VALUE=DATE:20230929
DTEND;VALUE=DATE:20231002
DTSTAMP:20260419T173614
CREATED:20230831T180338Z
LAST-MODIFIED:20231024T155948Z
UID:7930-1695945600-1696204799@nakonhakaucc.ca
SUMMARY:Retreat for all who minister
DESCRIPTION:The deadline is approaching to register for next month’s bilingual Ministers’ Retreat. We need to confirm the number of rooms by September 8. \nFriday\, September 29 is earmarked as a retreat day for Ordered Ministers. \nSaturday\, September 30 is set aside as a Co-Learning Day for Ordered Ministers\, DLMs and LLWL. \nFinally\, October 1 is a Retreat Day for DLMs and LLWLs. \nThis retreat is taking place at Manoir D’Youville located on l’île Bernard in Châteauguay\, Québec. \nI have often heard ministers and lay persons involved in ministry of all sorts speak of feelings of isolation and of the wish for more connections with colleagues and others who share a similar call to ministry. This retreat is an opportunity to break this isolation and create new bonds with others who provide leadership to those who follow Christ. \nAnd so\, I invite you to join us in prayer\, learning\, and fellowship\, and register now before the deadline passes. \n\nFor more information\, contact \nDan Hayward:dhayward@united-church.ca \nDavid-Roger Gagnon:drgagnon@united-church.ca \n  \n\n			\n				\n				\n				\n				\n				Post-retreat evaluation survey
URL:https://nakonhakaucc.ca/event/retreat-for-all-who-minister/
LOCATION:Manoir d’Youville\, 498\, boul. d'Youville\, Châteauguay\, QC\, Canada
CATEGORIES:Ministry personnel,Retreat
ATTACH;FMTTYPE=image/jpeg:https://nakonhakaucc.ca/wp-content/uploads/2023/08/2023-MinistryRetreat-banner.jpg
ORGANIZER;CN="Rev. Dan Hayward":MAILTO:dhayward@united-church.ca
END:VEVENT
END:VCALENDAR