BEGIN:VCALENDAR
VERSION:2.0
PRODID:-//Nakonhaka Region 13 - ECPv6.15.20//NONSGML v1.0//EN
CALSCALE:GREGORIAN
METHOD:PUBLISH
X-ORIGINAL-URL:https://nakonhakaucc.ca
X-WR-CALDESC:Events for Nakonhaka Region 13
REFRESH-INTERVAL;VALUE=DURATION:PT1H
X-Robots-Tag:noindex
X-PUBLISHED-TTL:PT1H
BEGIN:VTIMEZONE
TZID:America/Toronto
BEGIN:DAYLIGHT
TZOFFSETFROM:-0500
TZOFFSETTO:-0400
TZNAME:EDT
DTSTART:20220313T070000
END:DAYLIGHT
BEGIN:STANDARD
TZOFFSETFROM:-0400
TZOFFSETTO:-0500
TZNAME:EST
DTSTART:20221106T060000
END:STANDARD
BEGIN:DAYLIGHT
TZOFFSETFROM:-0500
TZOFFSETTO:-0400
TZNAME:EDT
DTSTART:20230312T070000
END:DAYLIGHT
BEGIN:STANDARD
TZOFFSETFROM:-0400
TZOFFSETTO:-0500
TZNAME:EST
DTSTART:20231105T060000
END:STANDARD
BEGIN:DAYLIGHT
TZOFFSETFROM:-0500
TZOFFSETTO:-0400
TZNAME:EDT
DTSTART:20240310T070000
END:DAYLIGHT
BEGIN:STANDARD
TZOFFSETFROM:-0400
TZOFFSETTO:-0500
TZNAME:EST
DTSTART:20241103T060000
END:STANDARD
END:VTIMEZONE
BEGIN:VEVENT
DTSTART;TZID=America/Toronto:20231021T140000
DTEND;TZID=America/Toronto:20231021T160000
DTSTAMP:20260419T154855
CREATED:20231004T153907Z
LAST-MODIFIED:20231004T153907Z
UID:8131-1697896800-1697904000@nakonhakaucc.ca
SUMMARY:Community Singers Concert (Benefit of Creek United Church)
DESCRIPTION:The Community Singers\, under the direction of John and Laura Barr\, will hold a fundraiser concert of Broadway Show Tunes\, on Saturday\, October 21\, 2023 starting at 2:00PM.  The Concert will be held at the Creek United Church\, 278 Brill Road\, West Bolton\, J0E 2T0.  All of the proceeds from the concert will go to help support the Creek United Church. \nTickets are $20 and will be available at the door.  Please call (450) 521-6124 for further information.  Everyone is welcome for a wonderful afternoon of well known music performed by a great ensemble\, all for a good cause.  Any and all donations are welcome. \n 
URL:https://nakonhakaucc.ca/event/community-singers-concert-benefit-of-creek-united-church/
LOCATION:Creek United Church\, 278 Brill Road\, West Bolton\, J0E 2T2
CATEGORIES:Fundraiser,Music
ATTACH;FMTTYPE=image/png:https://nakonhakaucc.ca/wp-content/uploads/2023/10/Concert-Oct-21-.png
END:VEVENT
END:VCALENDAR