BEGIN:VCALENDAR
VERSION:2.0
PRODID:-//Nakonhaka Region 13 - ECPv6.15.20//NONSGML v1.0//EN
CALSCALE:GREGORIAN
METHOD:PUBLISH
X-ORIGINAL-URL:https://nakonhakaucc.ca
X-WR-CALDESC:Events for Nakonhaka Region 13
REFRESH-INTERVAL;VALUE=DURATION:PT1H
X-Robots-Tag:noindex
X-PUBLISHED-TTL:PT1H
BEGIN:VTIMEZONE
TZID:America/Toronto
BEGIN:DAYLIGHT
TZOFFSETFROM:-0500
TZOFFSETTO:-0400
TZNAME:EDT
DTSTART:20220313T070000
END:DAYLIGHT
BEGIN:STANDARD
TZOFFSETFROM:-0400
TZOFFSETTO:-0500
TZNAME:EST
DTSTART:20221106T060000
END:STANDARD
BEGIN:DAYLIGHT
TZOFFSETFROM:-0500
TZOFFSETTO:-0400
TZNAME:EDT
DTSTART:20230312T070000
END:DAYLIGHT
BEGIN:STANDARD
TZOFFSETFROM:-0400
TZOFFSETTO:-0500
TZNAME:EST
DTSTART:20231105T060000
END:STANDARD
BEGIN:DAYLIGHT
TZOFFSETFROM:-0500
TZOFFSETTO:-0400
TZNAME:EDT
DTSTART:20240310T070000
END:DAYLIGHT
BEGIN:STANDARD
TZOFFSETFROM:-0400
TZOFFSETTO:-0500
TZNAME:EST
DTSTART:20241103T060000
END:STANDARD
END:VTIMEZONE
BEGIN:VEVENT
DTSTART;TZID=America/Toronto:20231202T110000
DTEND;TZID=America/Toronto:20231202T133000
DTSTAMP:20260419T135813
CREATED:20231113T183942Z
LAST-MODIFIED:20231113T183942Z
UID:8706-1701514800-1701523800@nakonhakaucc.ca
SUMMARY:Emmanuel United Advent Tea
DESCRIPTION:Enjoy and bowl of soup (several choices)and an apple crisp dessert\, tea and coffee and conversation on Saturday Dec. 2\n\n$10 adults \n$5 children \nChildren under 5 are free.
URL:https://nakonhakaucc.ca/event/emmanuel-united-advent-tea/
LOCATION:Emmanuel United Church\, 203 rue Principale\, Cowansville\, QC\, J2K 1J3\, Canada
CATEGORIES:Community event
ATTACH;FMTTYPE=image/jpeg:https://nakonhakaucc.ca/wp-content/uploads/2023/11/Advent-Soup-Dessert-Poster.jpg
ORGANIZER;CN="Emmanuel United Church":MAILTO:capcchurchoffice@bellnet.ca
END:VEVENT
BEGIN:VEVENT
DTSTART;TZID=America/Toronto:20231202T140000
DTEND;TZID=America/Toronto:20231202T150000
DTSTAMP:20260419T135813
CREATED:20231113T184058Z
LAST-MODIFIED:20231113T184058Z
UID:8710-1701525600-1701529200@nakonhakaucc.ca
SUMMARY:Christmas Concert featuring Knowlton Harmony Band
DESCRIPTION:Enjoy Christmas music featuring the Knowlton Harmony Band led by our Emmanuel Music Director Susan Reininger. Freewill offering.
URL:https://nakonhakaucc.ca/event/christmas-concert-featuring-knowlton-harmony-band/
LOCATION:Emmanuel United Church\, 203 rue Principale\, Cowansville\, QC\, J2K 1J3\, Canada
CATEGORIES:Music
ATTACH;FMTTYPE=image/jpeg:https://nakonhakaucc.ca/wp-content/uploads/2023/11/Knowlton-Harmony-Band-Xmas-Concert.jpg
ORGANIZER;CN="Emmanuel United Church":MAILTO:capcchurchoffice@bellnet.ca
END:VEVENT
END:VCALENDAR