BEGIN:VCALENDAR
VERSION:2.0
PRODID:-//Nakonhaka Region 13 - ECPv6.15.20//NONSGML v1.0//EN
CALSCALE:GREGORIAN
METHOD:PUBLISH
X-ORIGINAL-URL:https://nakonhakaucc.ca
X-WR-CALDESC:Events for Nakonhaka Region 13
REFRESH-INTERVAL;VALUE=DURATION:PT1H
X-Robots-Tag:noindex
X-PUBLISHED-TTL:PT1H
BEGIN:VTIMEZONE
TZID:America/Toronto
BEGIN:DAYLIGHT
TZOFFSETFROM:-0500
TZOFFSETTO:-0400
TZNAME:EDT
DTSTART:20230312T070000
END:DAYLIGHT
BEGIN:STANDARD
TZOFFSETFROM:-0400
TZOFFSETTO:-0500
TZNAME:EST
DTSTART:20231105T060000
END:STANDARD
BEGIN:DAYLIGHT
TZOFFSETFROM:-0500
TZOFFSETTO:-0400
TZNAME:EDT
DTSTART:20240310T070000
END:DAYLIGHT
BEGIN:STANDARD
TZOFFSETFROM:-0400
TZOFFSETTO:-0500
TZNAME:EST
DTSTART:20241103T060000
END:STANDARD
BEGIN:DAYLIGHT
TZOFFSETFROM:-0500
TZOFFSETTO:-0400
TZNAME:EDT
DTSTART:20250309T070000
END:DAYLIGHT
BEGIN:STANDARD
TZOFFSETFROM:-0400
TZOFFSETTO:-0500
TZNAME:EST
DTSTART:20251102T060000
END:STANDARD
END:VTIMEZONE
BEGIN:VEVENT
DTSTART;TZID=America/Toronto:20240213T170000
DTEND;TZID=America/Toronto:20240214T120000
DTSTAMP:20260419T083949
CREATED:20240206T162905Z
LAST-MODIFIED:20240209T162644Z
UID:9937-1707843600-1707912000@nakonhakaucc.ca
SUMMARY:Shrove Tuesday and Ash Wednesday
DESCRIPTION:Roxboro United starts our Lenten Season with a combined Shrove Tuesday Pancake dinner hosted by Cedar Park United\, 204 Ave\, Lakeview\, Pointe-Claire from 5pm to 6:30pm. If you want to attend\, you can indicate on either Cedar Park or Roxboro’s FaceBook pages and indicate “Going” on the posted event. This is a pay as you can event. Then On Wednesday we are having a time of prayer and self care at noon as we celebrate Ash Wednesday. This service will take place in our sanctuary at 116 Rue Cartier\, Roxboro. All are welcome. \nFacebook pages: \n\nCedar Park: https://www.facebook.com/cedarparkunitedchurch\nRoxboro: https://www.facebook.com/groups/roxborounited
URL:https://nakonhakaucc.ca/event/shrove-tuesday-and-ash-wednesday/
ATTACH;FMTTYPE=image/jpeg:https://nakonhakaucc.ca/wp-content/uploads/2024/02/2024-02-13-PancakeSupper-Roxboro-CPUC.jpg
END:VEVENT
END:VCALENDAR