BEGIN:VCALENDAR
VERSION:2.0
PRODID:-//Nakonhaka Region 13 - ECPv6.15.20//NONSGML v1.0//EN
CALSCALE:GREGORIAN
METHOD:PUBLISH
X-WR-CALNAME:Nakonhaka Region 13
X-ORIGINAL-URL:https://nakonhakaucc.ca
X-WR-CALDESC:Events for Nakonhaka Region 13
REFRESH-INTERVAL;VALUE=DURATION:PT1H
X-Robots-Tag:noindex
X-PUBLISHED-TTL:PT1H
BEGIN:VTIMEZONE
TZID:America/Toronto
BEGIN:DAYLIGHT
TZOFFSETFROM:-0500
TZOFFSETTO:-0400
TZNAME:EDT
DTSTART:20230312T070000
END:DAYLIGHT
BEGIN:STANDARD
TZOFFSETFROM:-0400
TZOFFSETTO:-0500
TZNAME:EST
DTSTART:20231105T060000
END:STANDARD
BEGIN:DAYLIGHT
TZOFFSETFROM:-0500
TZOFFSETTO:-0400
TZNAME:EDT
DTSTART:20240310T070000
END:DAYLIGHT
BEGIN:STANDARD
TZOFFSETFROM:-0400
TZOFFSETTO:-0500
TZNAME:EST
DTSTART:20241103T060000
END:STANDARD
BEGIN:DAYLIGHT
TZOFFSETFROM:-0500
TZOFFSETTO:-0400
TZNAME:EDT
DTSTART:20250309T070000
END:DAYLIGHT
BEGIN:STANDARD
TZOFFSETFROM:-0400
TZOFFSETTO:-0500
TZNAME:EST
DTSTART:20251102T060000
END:STANDARD
END:VTIMEZONE
BEGIN:VEVENT
DTSTART;TZID=America/Toronto:20240428T120000
DTEND;TZID=America/Toronto:20240428T140000
DTSTAMP:20260419T120609
CREATED:20240307T150343Z
LAST-MODIFIED:20240307T150343Z
UID:10343-1714305600-1714312800@nakonhakaucc.ca
SUMMARY:Resurrect Your Bike
DESCRIPTION:Evaluations and minor tune-ups for free\nAs part of our commitment to live in respect with creation\, \nSte Genevieve United Church is offering to give your bicycle a boost of life on Earth Day Sunday. \nActive transportation is part of the solution to fight climate change\, and a bike in good working condition is a good place to start! \nThis event is open to people of all faiths and no faith. \nWe can get your bike ready for the season and advice about any major repairs it might need. \nApril 21 & 28\, 2024   Noon to 2 pm (weather permitting) \nSte Genevieve United Church\, 4697 St-Jean\, Dollard-des-Ormeaux
URL:https://nakonhakaucc.ca/event/resurrect-your-bike/
LOCATION:Ste. Genevieve United Church\, 4697 boulevard Saint-Jean\, Dollard-des-Ormeaux\, QC\, Canada
CATEGORIES:Adults of all ages,children and youth,Community event,Environment
ATTACH;FMTTYPE=image/jpeg:https://nakonhakaucc.ca/wp-content/uploads/2024/03/2024-04-21_Ressurect-your-Bike_Plant-Sale_Final_page-0002-1.jpg
ORGANIZER;CN="Ste Genevieve United Church":MAILTO:donna.stegennys@gmail.com
END:VEVENT
BEGIN:VEVENT
DTSTART;TZID=America/Toronto:20240428T140000
DTEND;TZID=America/Toronto:20240428T140000
DTSTAMP:20260419T120609
CREATED:20240408T142347Z
LAST-MODIFIED:20240408T142701Z
UID:10915-1714312800-1714312800@nakonhakaucc.ca
SUMMARY:Tendances mondiales : l’état du déplacement forcé
DESCRIPTION:Download poster: tendances-mondiales_v3 (1)\n(*This event will be in French\, but the speaker is fully bilingual and will be taking questions in English\, too.)
URL:https://nakonhakaucc.ca/event/tendances-mondiales-letat-du-deplacement-force/
LOCATION:Mount Bruno United Church\, 25 Rue Lakeview\, Saint-Bruno-de-Montarville\, QC\, J3V 2L4\, Canada
CATEGORIES:Community event,Conversation,Justice,Partner event,Refugees
ATTACH;FMTTYPE=image/jpeg:https://nakonhakaucc.ca/wp-content/uploads/2024/04/tendances-mondiales_v3.jpg
END:VEVENT
END:VCALENDAR