BEGIN:VCALENDAR
VERSION:2.0
PRODID:-//Nakonhaka Region 13 - ECPv6.15.20//NONSGML v1.0//EN
CALSCALE:GREGORIAN
METHOD:PUBLISH
X-ORIGINAL-URL:https://nakonhakaucc.ca
X-WR-CALDESC:Events for Nakonhaka Region 13
REFRESH-INTERVAL;VALUE=DURATION:PT1H
X-Robots-Tag:noindex
X-PUBLISHED-TTL:PT1H
BEGIN:VTIMEZONE
TZID:America/Toronto
BEGIN:DAYLIGHT
TZOFFSETFROM:-0500
TZOFFSETTO:-0400
TZNAME:EDT
DTSTART:20230312T070000
END:DAYLIGHT
BEGIN:STANDARD
TZOFFSETFROM:-0400
TZOFFSETTO:-0500
TZNAME:EST
DTSTART:20231105T060000
END:STANDARD
BEGIN:DAYLIGHT
TZOFFSETFROM:-0500
TZOFFSETTO:-0400
TZNAME:EDT
DTSTART:20240310T070000
END:DAYLIGHT
BEGIN:STANDARD
TZOFFSETFROM:-0400
TZOFFSETTO:-0500
TZNAME:EST
DTSTART:20241103T060000
END:STANDARD
BEGIN:DAYLIGHT
TZOFFSETFROM:-0500
TZOFFSETTO:-0400
TZNAME:EDT
DTSTART:20250309T070000
END:DAYLIGHT
BEGIN:STANDARD
TZOFFSETFROM:-0400
TZOFFSETTO:-0500
TZNAME:EST
DTSTART:20251102T060000
END:STANDARD
END:VTIMEZONE
BEGIN:VEVENT
DTSTART;TZID=America/Toronto:20240910T190000
DTEND;TZID=America/Toronto:20240910T190000
DTSTAMP:20260420T005032
CREATED:20240813T153024Z
LAST-MODIFIED:20240829T145756Z
UID:14090-1725994800-1725994800@nakonhakaucc.ca
SUMMARY:CANCELLED! Candidates Connect - September 2024
DESCRIPTION:NOTE: DUE TO SCHEDULING CONFLICTS\, THE SEPTEMBER GATHERING IS CANCELLED; STAY TUNED FOR REVISED DATE FOR OCTOBER.\n\n Attention Candidates and Applicants\nJoin Caroline Penhale Lukacs\, Vocational Minister for Quebec and East Ontario for an hour of conversation and connection the second Tuesday of every month. Come and share your Candidacy Pathway journey with others who are walking a similar road.\nZoom link: https://united-church.zoom.us/j/87692462278\n\nPlease note that this program will also be offered in French on the second Tuesday of each month at noon. See the French version of this event for more information and the Zoom link.
URL:https://nakonhakaucc.ca/event/candidates-connect-september-2024/
CATEGORIES:Conversation,ONLINE,Support Group
ORGANIZER;CN="Rev. Caroline Penhale":MAILTO:cpenhale@united-church.ca
END:VEVENT
END:VCALENDAR