BEGIN:VCALENDAR
VERSION:2.0
PRODID:-//Nakonhaka Region 13 - ECPv6.15.20//NONSGML v1.0//EN
CALSCALE:GREGORIAN
METHOD:PUBLISH
X-ORIGINAL-URL:https://nakonhakaucc.ca
X-WR-CALDESC:Events for Nakonhaka Region 13
REFRESH-INTERVAL;VALUE=DURATION:PT1H
X-Robots-Tag:noindex
X-PUBLISHED-TTL:PT1H
BEGIN:VTIMEZONE
TZID:America/Toronto
BEGIN:DAYLIGHT
TZOFFSETFROM:-0500
TZOFFSETTO:-0400
TZNAME:EDT
DTSTART:20230312T070000
END:DAYLIGHT
BEGIN:STANDARD
TZOFFSETFROM:-0400
TZOFFSETTO:-0500
TZNAME:EST
DTSTART:20231105T060000
END:STANDARD
BEGIN:DAYLIGHT
TZOFFSETFROM:-0500
TZOFFSETTO:-0400
TZNAME:EDT
DTSTART:20240310T070000
END:DAYLIGHT
BEGIN:STANDARD
TZOFFSETFROM:-0400
TZOFFSETTO:-0500
TZNAME:EST
DTSTART:20241103T060000
END:STANDARD
BEGIN:DAYLIGHT
TZOFFSETFROM:-0500
TZOFFSETTO:-0400
TZNAME:EDT
DTSTART:20250309T070000
END:DAYLIGHT
BEGIN:STANDARD
TZOFFSETFROM:-0400
TZOFFSETTO:-0500
TZNAME:EST
DTSTART:20251102T060000
END:STANDARD
END:VTIMEZONE
BEGIN:VEVENT
DTSTART;VALUE=DATE:20241025
DTEND;VALUE=DATE:20241028
DTSTAMP:20260420T005038
CREATED:20240215T171830Z
LAST-MODIFIED:20241007T181442Z
UID:10115-1729814400-1730073599@nakonhakaucc.ca
SUMMARY:Retreat for all who minister (2024)
DESCRIPTION:Friday\, October 25 is earmarked as a retreat day for Ordered Ministers. \nSaturday\, October 26 is set aside as a Co-Learning Day for Ordered Ministers\, DLMs and LLWL. \nSunday\, October 27 is a Retreat Day for DLMs and LLWLs. \n​ \nPROGRAMMING \na) discussion about the Refus Global and its effect on spiritual life in Quebec : Speakers Louise Gagné\, Doug Throop & Dan Hayward \nb) music workshop with well-known Quebec musician/composer Lambert \nc) self-care and professional development \nd) visioning of the movie ‘Vas-vers-toi – part 2 of Heureux Naufrage with discussion with the film directors. \ne) lots of time for quiet reflection\, singing and walks in nature \nFood at the Manor is excellent\, rooms are comfortable and cozy. Île Saint-Bernard is now a wildlife sanctuary where wild birds come to pick seeds in your hand and where the silence and presence of the Saint-Lawrence River create a moment of connection between Nature\, us and God. \nWe sincerely hope that you will take advantage of this retreat which will bring you great spiritual benefits in order to keep up the Mission of Christ. Give yourself this moment of faith and replenishment: you will find spiritual growth\, new happiness and serenity. \nREGISTRATION DETAILS \n\nRates include room and board (4 meals) at the idyllic site of Manoir Youville\nEarly bird rate: $175 if paid by Aug. 15\nRegular rate: $200\nDeadline to register is Sept. 23\n\nPlaces are limited\, so please register ASAP. We look forward to receiving your registration! \n\nFor more information\, contact \nDan Hayward:dhayward@united-church.ca \nDavid-Roger Gagnon:drgagnon@united-church.ca \n  \n\n			\n				Registration (if paying by cheque or e-transfer)\n			\n				Registration (if paying by credit card)
URL:https://nakonhakaucc.ca/event/retreat-for-all-who-minister-2024/
CATEGORIES:Ministry personnel,Retreat
ATTACH;FMTTYPE=image/png:https://nakonhakaucc.ca/wp-content/uploads/2024/02/2024-10-25-Retreat.png
ORGANIZER;CN="David-Roger Gagnon":MAILTO:drgagnon@united-church.ca
END:VEVENT
END:VCALENDAR