BEGIN:VCALENDAR
VERSION:2.0
PRODID:-//Nakonhaka Region 13 - ECPv6.15.20//NONSGML v1.0//EN
CALSCALE:GREGORIAN
METHOD:PUBLISH
X-ORIGINAL-URL:https://nakonhakaucc.ca
X-WR-CALDESC:Events for Nakonhaka Region 13
REFRESH-INTERVAL;VALUE=DURATION:PT1H
X-Robots-Tag:noindex
X-PUBLISHED-TTL:PT1H
BEGIN:VTIMEZONE
TZID:America/Toronto
BEGIN:DAYLIGHT
TZOFFSETFROM:-0500
TZOFFSETTO:-0400
TZNAME:EDT
DTSTART:20230312T070000
END:DAYLIGHT
BEGIN:STANDARD
TZOFFSETFROM:-0400
TZOFFSETTO:-0500
TZNAME:EST
DTSTART:20231105T060000
END:STANDARD
BEGIN:DAYLIGHT
TZOFFSETFROM:-0500
TZOFFSETTO:-0400
TZNAME:EDT
DTSTART:20240310T070000
END:DAYLIGHT
BEGIN:STANDARD
TZOFFSETFROM:-0400
TZOFFSETTO:-0500
TZNAME:EST
DTSTART:20241103T060000
END:STANDARD
BEGIN:DAYLIGHT
TZOFFSETFROM:-0500
TZOFFSETTO:-0400
TZNAME:EDT
DTSTART:20250309T070000
END:DAYLIGHT
BEGIN:STANDARD
TZOFFSETFROM:-0400
TZOFFSETTO:-0500
TZNAME:EST
DTSTART:20251102T060000
END:STANDARD
END:VTIMEZONE
BEGIN:VEVENT
DTSTART;TZID=America/Toronto:20241109T090000
DTEND;TZID=America/Toronto:20241109T120000
DTSTAMP:20260422T045747
CREATED:20240924T182118Z
LAST-MODIFIED:20240924T182510Z
UID:15524-1731142800-1731153600@nakonhakaucc.ca
SUMMARY:Tri-region online workshop for Ministry and Personnel Committee members
DESCRIPTION:There will be an M&P Committee online workshop on Saturday\, November 9\, 2024 (9am – 12noon). This workshop is open to M&P Ctte members (both new and current)\, Council members\, and Ministry Personnel. All new members to M&P Cttes are strongly urged to participate.  While this will be a repeat of past M&P workshops\, it will be a good refresher for all current M&P members. \nIf you have any questions\, please contact Rev. Whit Strong wstrong@united-church.ca \nPre-registration is required.  https://united-church.zoom.us/meeting/register/tZMucu6qrjIrH9zRqkbFDkXEIBPx3go7aB7O
URL:https://nakonhakaucc.ca/event/tri-region-online-workshop-for-ministry-and-personnel-committee-members/
CATEGORIES:Learning Session,ONLINE,Workshop
ATTACH;FMTTYPE=image/jpeg:https://nakonhakaucc.ca/wp-content/uploads/2022/12/Nakonhaka-Logo.jpg
ORGANIZER;CN="Rev. Whitman Strong":MAILTO:wstrong@united-church.ca
END:VEVENT
BEGIN:VEVENT
DTSTART;TZID=America/Toronto:20241109T090000
DTEND;TZID=America/Toronto:20241109T130000
DTSTAMP:20260422T045747
CREATED:20241022T150843Z
LAST-MODIFIED:20241022T150843Z
UID:16337-1731142800-1731157200@nakonhakaucc.ca
SUMMARY:Bazaar Roxboro United Church
DESCRIPTION:Bazaar at Roxboro United Church will be held on November 9th\, 2024 from 9 a.m. to 1 p.m. \nWe offer something for everyone: Fresh and frozen meals\, baked goods\, jewelry\, books\, discriminating discards\, knitting\, crafts\, sewing and much more. \n116 Rue Cartier\, Roxboro\, Quebec \n 
URL:https://nakonhakaucc.ca/event/bazaar-roxboro-united-church/
LOCATION:Roxboro United Church\, 116 Cartier\, Roxboro\, Quebec\, H8Y 1G8\, Canada
CATEGORIES:UCW
ATTACH;FMTTYPE=image/jpeg:https://nakonhakaucc.ca/wp-content/uploads/2024/10/Screenshot_20241021_211411_Slides.jpg
ORGANIZER;CN="Roxboro United Church Events Committee":MAILTO:roxborounited@gmail.com
END:VEVENT
BEGIN:VEVENT
DTSTART;TZID=America/Toronto:20241109T100000
DTEND;TZID=America/Toronto:20241109T143000
DTSTAMP:20260422T045747
CREATED:20241030T151144Z
LAST-MODIFIED:20241030T151144Z
UID:16529-1731146400-1731162600@nakonhakaucc.ca
SUMMARY:Christmas Bazaar
DESCRIPTION:Montreal West United Church is holding its annual Christmas Bazaar on Saturday November 9 from !0 am to 2:30 pm. Come to 88 Ballantyne Avenue N\, Montreal West to experience the fun of a traditional Christmas Bazaar with its warm knitted goods\, homemade goodies\, Christmas decorations galore and much more\, including a silent auction with a great array of items to bid on. Be it a wonderful gift or a treat to enjoy yourself\, you might find exactly what you were looking for!
URL:https://nakonhakaucc.ca/event/christmas-bazaar/
LOCATION:Montreal West United Church\, 88 Av. Ballantyne N\,\, Montréal-Ouest\, QC\, H4X 2B8\, Canada
CATEGORIES:Community event
END:VEVENT
END:VCALENDAR