BEGIN:VCALENDAR
VERSION:2.0
PRODID:-//Nakonhaka Region 13 - ECPv6.15.20//NONSGML v1.0//EN
CALSCALE:GREGORIAN
METHOD:PUBLISH
X-ORIGINAL-URL:https://nakonhakaucc.ca
X-WR-CALDESC:Events for Nakonhaka Region 13
REFRESH-INTERVAL;VALUE=DURATION:PT1H
X-Robots-Tag:noindex
X-PUBLISHED-TTL:PT1H
BEGIN:VTIMEZONE
TZID:America/Toronto
BEGIN:DAYLIGHT
TZOFFSETFROM:-0500
TZOFFSETTO:-0400
TZNAME:EDT
DTSTART:20240310T070000
END:DAYLIGHT
BEGIN:STANDARD
TZOFFSETFROM:-0400
TZOFFSETTO:-0500
TZNAME:EST
DTSTART:20241103T060000
END:STANDARD
BEGIN:DAYLIGHT
TZOFFSETFROM:-0500
TZOFFSETTO:-0400
TZNAME:EDT
DTSTART:20250309T070000
END:DAYLIGHT
BEGIN:STANDARD
TZOFFSETFROM:-0400
TZOFFSETTO:-0500
TZNAME:EST
DTSTART:20251102T060000
END:STANDARD
BEGIN:DAYLIGHT
TZOFFSETFROM:-0500
TZOFFSETTO:-0400
TZNAME:EDT
DTSTART:20260308T070000
END:DAYLIGHT
BEGIN:STANDARD
TZOFFSETFROM:-0400
TZOFFSETTO:-0500
TZNAME:EST
DTSTART:20261101T060000
END:STANDARD
END:VTIMEZONE
BEGIN:VEVENT
DTSTART;TZID=America/Toronto:20250328T183000
DTEND;TZID=America/Toronto:20250329T130000
DTSTAMP:20260422T175223
CREATED:20240108T155427Z
LAST-MODIFIED:20260318T124237Z
UID:9479-1743186600-1743253200@nakonhakaucc.ca
SUMMARY:Regional Council Gathering - March 2025 (online)
DESCRIPTION:The regional council gathering on March 28 and 29 will be held on Zoom. Presentations offered during this meeting will explore the theme Daring Justice in Humility through such presentations like the following: Re-examining Colonialism and Resurrection of Affirming Council process.  We hope to see you there!\n			\n				\n				\n				\n				\n				Registration\n				 \n			\n				\n				\n				\n				\n				Documents\n				(documents will be posted as available) \n\nAGENDA\, March 28-29 2025– updated 2025-03-27\n2025-03-28-29_AGM_MOTIONS_EN– updated 2025-03-27\nAppendix A –2024-11-01-02_Fall General Meeting Minutes-Draft– updated 2025-03-11\nAppendix B –2024-11-01 Nakonhaka Strategic Plan Interim Report– updated 2025-03-25\nGovernance Handbook (March 2025)– updated 2025-04-09\nFirst Third Ministries Strategic Plan– updated 2025-03-28\n2025-03-28-29_AGM_DECISIONS_EN– updated 2025-03-29\n2025-03-28-29_Winter AGM Minutes – updated 2026-03-18\n\n			\n				\n				\n				\n				\n				Post-meeting resources\n				“Upholding Sacred Obligations: Final Report Of The Special Interlocutor For Missing And Disappeared Children And Unmarked Burials” – Sara Stratton\, Reconciliation and Indigenous Justice Animator Nakonhaka SI Presentation Notes and video presentation. \n“On Becomming an Affirming Regional Council” Affirm – RC Meeting March 2025 \n“The United Church of Canada Foundation / Mission & Service” – Sarah Charters\, CFRE\, Executive Officer\, Philanthropy\, The United Church of Canada\, President\, United Church of Canada Foundation Mission and Service and Foundation presentation\, Mission and Service RC Video-en-US\, Mission and Service_Camp cosmos video transcript
URL:https://nakonhakaucc.ca/event/regional-council-gathering-march-2025-online/
CATEGORIES:ONLINE,Regional Gathering
ATTACH;FMTTYPE=image/jpeg:https://nakonhakaucc.ca/wp-content/uploads/2025/02/Daring-Justice-in-Humility-poster-Last-1mg-Version-scaled.jpg
ORGANIZER;CN="Valerie Nickson":MAILTO:valerieepps00@gmail.com
END:VEVENT
END:VCALENDAR