BEGIN:VCALENDAR
VERSION:2.0
PRODID:-//Nakonhaka Region 13 - ECPv6.15.20//NONSGML v1.0//EN
CALSCALE:GREGORIAN
METHOD:PUBLISH
X-ORIGINAL-URL:https://nakonhakaucc.ca
X-WR-CALDESC:Events for Nakonhaka Region 13
REFRESH-INTERVAL;VALUE=DURATION:PT1H
X-Robots-Tag:noindex
X-PUBLISHED-TTL:PT1H
BEGIN:VTIMEZONE
TZID:America/Toronto
BEGIN:DAYLIGHT
TZOFFSETFROM:-0500
TZOFFSETTO:-0400
TZNAME:EDT
DTSTART:20240310T070000
END:DAYLIGHT
BEGIN:STANDARD
TZOFFSETFROM:-0400
TZOFFSETTO:-0500
TZNAME:EST
DTSTART:20241103T060000
END:STANDARD
BEGIN:DAYLIGHT
TZOFFSETFROM:-0500
TZOFFSETTO:-0400
TZNAME:EDT
DTSTART:20250309T070000
END:DAYLIGHT
BEGIN:STANDARD
TZOFFSETFROM:-0400
TZOFFSETTO:-0500
TZNAME:EST
DTSTART:20251102T060000
END:STANDARD
BEGIN:DAYLIGHT
TZOFFSETFROM:-0500
TZOFFSETTO:-0400
TZNAME:EDT
DTSTART:20260308T070000
END:DAYLIGHT
BEGIN:STANDARD
TZOFFSETFROM:-0400
TZOFFSETTO:-0500
TZNAME:EST
DTSTART:20261101T060000
END:STANDARD
END:VTIMEZONE
BEGIN:VEVENT
DTSTART;TZID=America/Toronto:20250426T173000
DTEND;TZID=America/Toronto:20250426T193000
DTSTAMP:20260422T125107
CREATED:20250425T191053Z
LAST-MODIFIED:20250425T191334Z
UID:22322-1745688600-1745695800@nakonhakaucc.ca
SUMMARY:Blue Met Literary Festival – Bold and Creative – The Talks
DESCRIPTION:“Some people contribute in a unique way to the health and betterment of their community. \nThey are often called “game-changers”. Bold & Creative is an interdisciplinary Blue Metropolis project which aims to showcase non-Francophone game-changers from diverse milieus and communities from Quebec and beyond.” \nOur own bold and creative Anwar Alhjooj – MCM Assistant Director – is one of Blue Met’s  7  game changers that will be giving a talk  on April 26th –  about his journey from Israel where he worked as a lawyer in the prison system\,  to Montreal and MCM\, and  how as a Palestinian Muslim\, he was welcomed with open arms by the United Church of Canada. You don’t want to miss this exciting event!
URL:https://nakonhakaucc.ca/event/blue-met-literary-festival-bold-and-creative-the-talks/
LOCATION:Hotel 10\, Espace Godin\, 10 Sherbrooke West\, Montreal
ATTACH;FMTTYPE=image/jpeg:https://nakonhakaucc.ca/wp-content/uploads/2025/04/Screenshot-2025-04-25-112611.jpg
END:VEVENT
END:VCALENDAR