BEGIN:VCALENDAR
VERSION:2.0
PRODID:-//Nakonhaka Region 13 - ECPv6.15.20//NONSGML v1.0//EN
CALSCALE:GREGORIAN
METHOD:PUBLISH
X-WR-CALNAME:Nakonhaka Region 13
X-ORIGINAL-URL:https://nakonhakaucc.ca
X-WR-CALDESC:Events for Nakonhaka Region 13
REFRESH-INTERVAL;VALUE=DURATION:PT1H
X-Robots-Tag:noindex
X-PUBLISHED-TTL:PT1H
BEGIN:VTIMEZONE
TZID:America/Toronto
BEGIN:DAYLIGHT
TZOFFSETFROM:-0500
TZOFFSETTO:-0400
TZNAME:EDT
DTSTART:20240310T070000
END:DAYLIGHT
BEGIN:STANDARD
TZOFFSETFROM:-0400
TZOFFSETTO:-0500
TZNAME:EST
DTSTART:20241103T060000
END:STANDARD
BEGIN:DAYLIGHT
TZOFFSETFROM:-0500
TZOFFSETTO:-0400
TZNAME:EDT
DTSTART:20250309T070000
END:DAYLIGHT
BEGIN:STANDARD
TZOFFSETFROM:-0400
TZOFFSETTO:-0500
TZNAME:EST
DTSTART:20251102T060000
END:STANDARD
BEGIN:DAYLIGHT
TZOFFSETFROM:-0500
TZOFFSETTO:-0400
TZNAME:EDT
DTSTART:20260308T070000
END:DAYLIGHT
BEGIN:STANDARD
TZOFFSETFROM:-0400
TZOFFSETTO:-0500
TZNAME:EST
DTSTART:20261101T060000
END:STANDARD
END:VTIMEZONE
BEGIN:VEVENT
DTSTART;TZID=America/Toronto:20251115T090000
DTEND;TZID=America/Toronto:20251115T160000
DTSTAMP:20260419T212005
CREATED:20240109T161343Z
LAST-MODIFIED:20260318T124531Z
UID:9492-1763197200-1763222400@nakonhakaucc.ca
SUMMARY:Regional Council Gathering - November 15\, 2025
DESCRIPTION:The regional council gathering on November 15 will be held on Zoom and in person from 9:00am to 4:00pm at St. Paul’s United Church in Magog. Registration is now open below. Documents are now posted below. Thank you! \n\n\n\n \nAgenda\n\n\nTime\n \n\n\n8:45\nGathering time\n\n\n9:00\nLand Acknowledgement;  Ohenton Kariwatekwon\n\n\n9:15\nWorship (including Reading from the Mohawk Bible)\n\n\n9:30\nReport on GC\n\n\n10:00\n2035\, Vision Statement\, Vision Keepers\n\n\n10:20\nAffirm Process – Intro\, Testimonials\n\n\n10:35\nAffirm Process – Discussion\n\n\n10:45\nIntro HFTB & Health Break\n\n\n11:00\nNominations Leadership Team\, President Elect\n\n\n11:15\nBudget 2026\n\n\n11:20\nGranting and Enabling – Status of Funding\n\n\n11:30\nKeynote – Morgan Bell\n\n\n12:00\nKeynote – Discussion\n\n\n12:15\nEmerging Issues\n\n\n12:25\nDeclaration of the closing of our meeting\n\n\n12:30\nLunch\n\n\n13:00\nLunch Continues and Choir Practice\n\n\n13:45\nSanctuary Open to Welcome All\n\n\n14:00\n100th Celebration including closing words\n\n\n\n			\n				\n				\n				\n				\n				Registration\n				\n\n                \n                        \n                            2025-11-15 Regional Council Gathering\n                            Registration form for adult\, youth and young adult lay representatives\, active and retired ministry personnel\, staff\, guests and visitors for Conseil régional Nakonha:ka Regional Council gathering \n                        \n                        X/TwitterThis field is for validation purposes and should be left unchanged.IdentificationName\n                            \n                            \n                                                    First\n                                                    \n                                                \n                            \n                            \n                                                            Last\n                                                            \n                                                        \n                            \n                        Email\n                                \n                                    \n                                    Enter Email\n                                \n                                \n                                    \n                                    Confirm Email\n                                \n                                \n                            Primary PhoneExtension (if applicable)RegistrationIf you are unable to attend\, please let Joel Miller know at jmiller@united-church.ca.\n								\n								I will attend in person\n							\n								\n								I will attend via Zoom\n							Child CareIf you attend in person\, will you need child care? If it's the case\, please indicate the number of children that will be present and their age.RolePlease select the descriptions below that best describe your connection to Conseil régional Nakonha:ka Regional Council.\n								\n								Lay representative (adult > 35)\n							\n								\n								Ordained Minister (ordained\, diaconal)\n							\n								\n								Designated Lay Ministers\n							\n								\n								Candidate for Ministry\n							\n								\n								Visitor/guest (non-voting)\n							\n								\n								Staff (Regional Council or General Council)\n							\n								\n								First Third (under 35)\n							\n								\n								Other\n							If other\, please specifyCommunity of Faith / or 'None' if not applicableThe name of your community of faith as of January 1\, 2025.Location of Community of Faith / or 'None' if not applicableThe city or town where your community of faith is situated.PronounsHow would you like us to refer to you?\n			\n					\n					he/him\n			\n			\n					\n					she/her\n			\n			\n					\n					they/them\n			\n			\n					\n					Other\n			OPTIONAL: Update address for database (if you have moved)    \n                    \n                         \n                                        Street Address\n                                        \n                                   \n                                        Address Line 2\n                                        \n                                    \n                                    City\n                                    \n                                 \n                                        Province\n                                        \n                                      \n                                    Postal Code\n                                    \n                                \n                                        Country\n                                        AfghanistanAlbaniaAlgeriaAmerican SamoaAndorraAngolaAnguillaAntarcticaAntigua and BarbudaArgentinaArmeniaArubaAustraliaAustriaAzerbaijanBahamasBahrainBangladeshBarbadosBelarusBelgiumBelizeBeninBermudaBhutanBoliviaBonaire\, Sint Eustatius and SabaBosnia and HerzegovinaBotswanaBouvet IslandBrazilBritish Indian Ocean TerritoryBrunei DarussalamBulgariaBurkina FasoBurundiCabo VerdeCambodiaCameroonCanadaCayman IslandsCentral African RepublicChadChileChinaChristmas IslandCocos IslandsColombiaComorosCongoCongo\, Democratic Republic of theCook IslandsCosta RicaCroatiaCubaCuraçaoCyprusCzechiaCôte d'IvoireDenmarkDjiboutiDominicaDominican RepublicEcuadorEgyptEl SalvadorEquatorial GuineaEritreaEstoniaEswatiniEthiopiaFalkland IslandsFaroe IslandsFijiFinlandFranceFrench GuianaFrench PolynesiaFrench Southern TerritoriesGabonGambiaGeorgiaGermanyGhanaGibraltarGreeceGreenlandGrenadaGuadeloupeGuamGuatemalaGuernseyGuineaGuinea-BissauGuyanaHaitiHeard Island and McDonald IslandsHoly SeeHondurasHong KongHungaryIcelandIndiaIndonesiaIranIraqIrelandIsle of ManIsraelItalyJamaicaJapanJerseyJordanKazakhstanKenyaKiribatiKorea\, Democratic People's Republic ofKorea\, Republic ofKuwaitKyrgyzstanLao People's Democratic RepublicLatviaLebanonLesothoLiberiaLibyaLiechtensteinLithuaniaLuxembourgMacaoMadagascarMalawiMalaysiaMaldivesMaliMaltaMarshall IslandsMartiniqueMauritaniaMauritiusMayotteMexicoMicronesiaMoldovaMonacoMongoliaMontenegroMontserratMoroccoMozambiqueMyanmarNamibiaNauruNepalNetherlandsNew CaledoniaNew ZealandNicaraguaNigerNigeriaNiueNorfolk IslandNorth MacedoniaNorthern Mariana IslandsNorwayOmanPakistanPalauPalestine\, State ofPanamaPapua New GuineaParaguayPeruPhilippinesPitcairnPolandPortugalPuerto RicoQatarRomaniaRussian FederationRwandaRéunionSaint BarthélemySaint Helena\, Ascension and Tristan da CunhaSaint Kitts and NevisSaint LuciaSaint MartinSaint Pierre and MiquelonSaint Vincent and the GrenadinesSamoaSan MarinoSao Tome and PrincipeSaudi ArabiaSenegalSerbiaSeychellesSierra LeoneSingaporeSint MaartenSlovakiaSloveniaSolomon IslandsSomaliaSouth AfricaSouth Georgia and the South Sandwich IslandsSouth SudanSpainSri LankaSudanSurinameSvalbard and Jan MayenSwedenSwitzerlandSyria Arab RepublicTaiwanTajikistanTanzania\, the United Republic ofThailandTimor-LesteTogoTokelauTongaTrinidad and TobagoTunisiaTurkmenistanTurks and Caicos IslandsTuvaluTürkiyeUS Minor Outlying IslandsUgandaUkraineUnited Arab EmiratesUnited KingdomUnited StatesUruguayUzbekistanVanuatuVenezuelaViet NamVirgin Islands\, BritishVirgin Islands\, U.S.Wallis and FutunaWestern SaharaYemenZambiaZimbabweÅland Islands \n                                    \n                    \n                Participation in MeetingI am interested in helping out for this meeting (or a future meeting)\n								\n								Worship\n							\n								\n								Equity team\n							\n								\n								Planning future meetings\n							\n								\n								Other\n							What is your preferred language for table groups?\n								\n								English\n							\n								\n								French\n							\n								\n								Bilingual\n							Do you require simultaneous translation?\n			\n					\n					Yes\n			\n			\n					\n					No\n			Do you require special accommodation? If so\, please specify below:Privacy Information and ConsentThe collection of information on this registration form is for the purposes of Conseil régional Nakonha:ka Regional Council only.\n\nPlease be aware that video recording will occur at the online regional meeting. Photos or videos of participants may\, or may not\, be taken during the event/activities. In turn these images may be published in print or posted online on our website photo galleries or used at the discretion of Conseil régional Nakonha:ka Regional Council.\n\nBy submitting this registration form you are indicating your consent to the collection and use of your information and photo and/or video for the use of Conseil régional Nakonha:ka Regional Council.Consent (information) I agree to the privacy policy and the collection of personal information.Consent (photos) I agree that screenshots\, videos and photos of this event may be used on regional council communications platforms (Web\, social media\, newsletter\, etc.)End of registration: click "Submit" to proceed.If you have any questions\, please contact Aviyah (aabrams@united-church.ca)Untitled\n          \n            \n            \n            \n            \n            \n            \n            \n            \n            \n            \n            \n            \n            \n        \n                        \n                        \n \n			\n				\n				\n				\n				\n				Documents\n				\nMOTIONS 2025-11-15_Fall GM MOTIONS Updated 2025-11-10\nAppendix A – AGM (June 2025) Draft Minutes 2025-06-07_Spring General Meeting Minutes (draft) Updated 2025-11-13\nAppendix B1 – RC 2026 Budget Details Appendix B1_2026 CrNRC Budget – E – Details Updated 2025-11-10\nAppendix B2 – RC 2026 Budget Graphs Appendix B2_2026 CnRNC Budget GRAPHS Updated 2025-11-10\nAppendix C1 – F&E 2026 Budget Details Appenidx C1_2026 F & E Budget – E – Details Updated 2025-11-10\nAppendix C2 – F&E 2026 Budget Graphs Appendix C2_2026 F & E Budget – E&F GRAPHS Updated 2025-11-10\nAppendix D – Granting & Enabling Leadership Team Report (November 2025) Appendix D_Granting & Enabling Report (Nov. 2025) Updated 2025-11-10\n\n			\n				\n				\n				\n				\n				Post-meeting resources\n				2025-11-15_Fall GM DECISIONS \nAppendix C_2024_Report Book \nAppendix D Governance Handbook March 2025
URL:https://nakonhakaucc.ca/event/regional-council-gathering-november-2025-online/
LOCATION:St. Paul’s United Church\, 211 Rue des Pins\, Magog\, Quebec\, J1X 2H8\, Canada
CATEGORIES:ONLINE,Regional Gathering
ATTACH;FMTTYPE=image/jpeg:https://nakonhakaucc.ca/wp-content/uploads/2024/01/A-100-years-poster-Version-1-1-scaled.jpg
ORGANIZER;CN="Rev. Virginia Wallace":MAILTO:virlynwal@hotmail.ca
END:VEVENT
END:VCALENDAR