BEGIN:VCALENDAR
VERSION:2.0
PRODID:-//Nakonhaka Region 13 - ECPv6.15.20//NONSGML v1.0//EN
CALSCALE:GREGORIAN
METHOD:PUBLISH
X-WR-CALNAME:Nakonhaka Region 13
X-ORIGINAL-URL:https://nakonhakaucc.ca
X-WR-CALDESC:Events for Nakonhaka Region 13
REFRESH-INTERVAL;VALUE=DURATION:PT1H
X-Robots-Tag:noindex
X-PUBLISHED-TTL:PT1H
BEGIN:VTIMEZONE
TZID:America/Toronto
BEGIN:DAYLIGHT
TZOFFSETFROM:-0500
TZOFFSETTO:-0400
TZNAME:EDT
DTSTART:20230312T070000
END:DAYLIGHT
BEGIN:STANDARD
TZOFFSETFROM:-0400
TZOFFSETTO:-0500
TZNAME:EST
DTSTART:20231105T060000
END:STANDARD
BEGIN:DAYLIGHT
TZOFFSETFROM:-0500
TZOFFSETTO:-0400
TZNAME:EDT
DTSTART:20240310T070000
END:DAYLIGHT
BEGIN:STANDARD
TZOFFSETFROM:-0400
TZOFFSETTO:-0500
TZNAME:EST
DTSTART:20241103T060000
END:STANDARD
BEGIN:DAYLIGHT
TZOFFSETFROM:-0500
TZOFFSETTO:-0400
TZNAME:EDT
DTSTART:20250309T070000
END:DAYLIGHT
BEGIN:STANDARD
TZOFFSETFROM:-0400
TZOFFSETTO:-0500
TZNAME:EST
DTSTART:20251102T060000
END:STANDARD
END:VTIMEZONE
BEGIN:VEVENT
DTSTART;TZID=America/Toronto:20241109T100000
DTEND;TZID=America/Toronto:20241109T143000
DTSTAMP:20260420T180458
CREATED:20241030T151144Z
LAST-MODIFIED:20241030T151144Z
UID:16529-1731146400-1731162600@nakonhakaucc.ca
SUMMARY:Christmas Bazaar
DESCRIPTION:Montreal West United Church is holding its annual Christmas Bazaar on Saturday November 9 from !0 am to 2:30 pm. Come to 88 Ballantyne Avenue N\, Montreal West to experience the fun of a traditional Christmas Bazaar with its warm knitted goods\, homemade goodies\, Christmas decorations galore and much more\, including a silent auction with a great array of items to bid on. Be it a wonderful gift or a treat to enjoy yourself\, you might find exactly what you were looking for!
URL:https://nakonhakaucc.ca/event/christmas-bazaar/
LOCATION:Montreal West United Church\, 88 Av. Ballantyne N\,\, Montréal-Ouest\, QC\, H4X 2B8\, Canada
CATEGORIES:Community event
END:VEVENT
BEGIN:VEVENT
DTSTART;TZID=America/Toronto:20241115T193000
DTEND;TZID=America/Toronto:20241116T220000
DTSTAMP:20260420T180458
CREATED:20241023T173551Z
LAST-MODIFIED:20241023T173648Z
UID:16362-1731699000-1731794400@nakonhakaucc.ca
SUMMARY:Vive le pique-nique
DESCRIPTION:A zesty cabaret full of good cheer! (see poster for details)
URL:https://nakonhakaucc.ca/event/vive-le-pique-nique/
LOCATION:Merging Waters United Church (Maple)\, 24 Rue Maple\, Sainte-Anne-de-Bellevue\, QC\, H9X 2E1\, Canada
CATEGORIES:Community event
ATTACH;FMTTYPE=image/jpeg:https://nakonhakaucc.ca/wp-content/uploads/2024/10/LitePoster-ViveLePique-nique.jpeg
END:VEVENT
BEGIN:VEVENT
DTSTART;TZID=America/Toronto:20241116T100000
DTEND;TZID=America/Toronto:20241116T130000
DTSTAMP:20260420T180458
CREATED:20241009T150656Z
LAST-MODIFIED:20241009T150737Z
UID:16100-1731751200-1731762000@nakonhakaucc.ca
SUMMARY:Christmas Bake and Craft Sale
DESCRIPTION:We are Back! Our 1st Christmas Bake and Craft Sale since we sold our building!\n\n\nCOME VISIT US ON 16 NOVEMBER 2024 between 10:00 to 13:00\nBaked Goods\, Crafts\, Draws and more!\n\n\nPlease share this to your page to pass on the word!
URL:https://nakonhakaucc.ca/event/christmas-bake-and-craft-sale/
LOCATION:Ste. Genevieve United Church\, 4697 boulevard Saint-Jean\, Dollard-des-Ormeaux\, QC\, Canada
CATEGORIES:Community event
ATTACH;FMTTYPE=image/jpeg:https://nakonhakaucc.ca/wp-content/uploads/2024/10/2024-11-16_Bake-Sale-Poster_page-0001.jpg
ORGANIZER;CN="Ste Genevieve United Church":MAILTO:donna.stegennys@gmail.com
END:VEVENT
END:VCALENDAR