BEGIN:VCALENDAR
VERSION:2.0
PRODID:-//Nakonhaka Region 13 - ECPv6.15.20//NONSGML v1.0//EN
CALSCALE:GREGORIAN
METHOD:PUBLISH
X-ORIGINAL-URL:https://nakonhakaucc.ca
X-WR-CALDESC:Events for Nakonhaka Region 13
REFRESH-INTERVAL;VALUE=DURATION:PT1H
X-Robots-Tag:noindex
X-PUBLISHED-TTL:PT1H
BEGIN:VTIMEZONE
TZID:America/Toronto
BEGIN:DAYLIGHT
TZOFFSETFROM:-0500
TZOFFSETTO:-0400
TZNAME:EDT
DTSTART:20230312T070000
END:DAYLIGHT
BEGIN:STANDARD
TZOFFSETFROM:-0400
TZOFFSETTO:-0500
TZNAME:EST
DTSTART:20231105T060000
END:STANDARD
BEGIN:DAYLIGHT
TZOFFSETFROM:-0500
TZOFFSETTO:-0400
TZNAME:EDT
DTSTART:20240310T070000
END:DAYLIGHT
BEGIN:STANDARD
TZOFFSETFROM:-0400
TZOFFSETTO:-0500
TZNAME:EST
DTSTART:20241103T060000
END:STANDARD
BEGIN:DAYLIGHT
TZOFFSETFROM:-0500
TZOFFSETTO:-0400
TZNAME:EDT
DTSTART:20250309T070000
END:DAYLIGHT
BEGIN:STANDARD
TZOFFSETFROM:-0400
TZOFFSETTO:-0500
TZNAME:EST
DTSTART:20251102T060000
END:STANDARD
END:VTIMEZONE
BEGIN:VEVENT
DTSTART;TZID=America/Toronto:20241001T183000
DTEND;TZID=America/Toronto:20241001T193000
DTSTAMP:20260424T123135
CREATED:20240813T153120Z
LAST-MODIFIED:20240829T175621Z
UID:14093-1727807400-1727811000@nakonhakaucc.ca
SUMMARY:Candidates Connect - October 2024
DESCRIPTION:Attention Candidates and Applicants\nJoin Caroline Penhale Lukacs\, Vocational Minister for Quebec and East Ontario for an hour of conversation and connection the first Tuesday of every month from October to May at 6:30 pm. Come and share your Candidacy Pathway journey with others who are walking a similar road.\nZoom link: https://united-church.zoom.us/j/83183977228\n\nPlease note that this program will also be offered in French on the fourth Tuesday of each month at 11 am. See the French version of this event for more information and the Zoom link.
URL:https://nakonhakaucc.ca/event/candidates-connect-october-2024/
LOCATION:Quebec
CATEGORIES:Conversation,ONLINE,Support Group
ATTACH;FMTTYPE=image/png:https://nakonhakaucc.ca/wp-content/uploads/2024/08/CandidatesConnect-NEW-2025.png
ORGANIZER;CN="Rev. Caroline Penhale":MAILTO:cpenhale@united-church.ca
END:VEVENT
BEGIN:VEVENT
DTSTART;TZID=America/Toronto:20241030T180000
DTEND;TZID=America/Toronto:20241030T190000
DTSTAMP:20260424T123135
CREATED:20241017T130613Z
LAST-MODIFIED:20241017T130718Z
UID:16264-1730311200-1730314800@nakonhakaucc.ca
SUMMARY:Wacky Wednesday Trivia Night
DESCRIPTION:Join Virginia Wallace for her monthly Trivia Night – Wacky Wednesday – Combines Biblical Learning with Secular Tidbits –  next event is Wednesday\, October 30th at 6pm on zoom. This month’s theme – Are You Scared Yet? \nJoin Zoom Meeting\nhttps://us02web.zoom.us/j/81120886382?pwd=1lkeaIxfROmxrV4vJMxzimMOZsuaCu.1 \nMeeting ID: 811 2088 6382    Passcode: 106900
URL:https://nakonhakaucc.ca/event/wacky-wednesday-trivia-night/
LOCATION:Quebec
CATEGORIES:Conversation,ONLINE
END:VEVENT
END:VCALENDAR