BEGIN:VCALENDAR
VERSION:2.0
PRODID:-//Nakonhaka Region 13 - ECPv6.15.20//NONSGML v1.0//EN
CALSCALE:GREGORIAN
METHOD:PUBLISH
X-WR-CALNAME:Nakonhaka Region 13
X-ORIGINAL-URL:https://nakonhakaucc.ca
X-WR-CALDESC:Events for Nakonhaka Region 13
REFRESH-INTERVAL;VALUE=DURATION:PT1H
X-Robots-Tag:noindex
X-PUBLISHED-TTL:PT1H
BEGIN:VTIMEZONE
TZID:America/Toronto
BEGIN:DAYLIGHT
TZOFFSETFROM:-0500
TZOFFSETTO:-0400
TZNAME:EDT
DTSTART:20240310T070000
END:DAYLIGHT
BEGIN:STANDARD
TZOFFSETFROM:-0400
TZOFFSETTO:-0500
TZNAME:EST
DTSTART:20241103T060000
END:STANDARD
BEGIN:DAYLIGHT
TZOFFSETFROM:-0500
TZOFFSETTO:-0400
TZNAME:EDT
DTSTART:20250309T070000
END:DAYLIGHT
BEGIN:STANDARD
TZOFFSETFROM:-0400
TZOFFSETTO:-0500
TZNAME:EST
DTSTART:20251102T060000
END:STANDARD
BEGIN:DAYLIGHT
TZOFFSETFROM:-0500
TZOFFSETTO:-0400
TZNAME:EDT
DTSTART:20260308T070000
END:DAYLIGHT
BEGIN:STANDARD
TZOFFSETFROM:-0400
TZOFFSETTO:-0500
TZNAME:EST
DTSTART:20261101T060000
END:STANDARD
END:VTIMEZONE
BEGIN:VEVENT
DTSTART;TZID=America/Toronto:20250605T110000
DTEND;TZID=America/Toronto:20250607T220000
DTSTAMP:20260425T114756
CREATED:20250523T143357Z
LAST-MODIFIED:20250523T143713Z
UID:22854-1749121200-1749333600@nakonhakaucc.ca
SUMMARY:Resonance2025
DESCRIPTION:You are invited to the Montreal Resonance 2025\, held at the Montreal Convention Centre\, from June 5-7. \nRESONANCE2025  is an invitation to explore how the secular and the spiritual can come together and inform one another in modern spaces of Resonance: work\, family\, art\, religion and nature. \nJoin us for what promises to be a dynamic and engaging conference hosted by Montreal City Mission. The event will feature a rich lineup of thought-provoking speakers\, interactive workshops\, immersive sensory experiences\, and meaningful conversations—all complemented by delicious meals and snacks. \nYou can find full details and register here. There is a discount for UCC members! Whether you’re able to attend just the opening afternoon\, the entire event\, or anything in between\, your presence will support and strengthen this vital initiative. Don’t miss the opportunity to be part of this important gathering. \nhttps://www.resonance2025.com/
URL:https://nakonhakaucc.ca/event/resonance2025/
LOCATION:Palais des congrès de Montréal\, 1001 Place Jean-Paul-Riopelle\, Montreal\, Quebec\, H2Z 1H5\, Canada
CATEGORIES:Community event,Conversation,Growth-Invite,Intercultural,Interfaith,Meeting
ATTACH;FMTTYPE=image/png:https://nakonhakaucc.ca/wp-content/uploads/2025/05/Resonance-2025.png
ORGANIZER;CN="Montreal City Mission":MAILTO:maan@montrealcitymission.org
END:VEVENT
BEGIN:VEVENT
DTSTART;TZID=America/Toronto:20251017T093000
DTEND;TZID=America/Toronto:20251018T160000
DTSTAMP:20260425T114756
CREATED:20250813T172914Z
LAST-MODIFIED:20250814T161739Z
UID:23289-1760693400-1760803200@nakonhakaucc.ca
SUMMARY:Holding a vision for the future: A gathering of United Church leadership from every congregation
DESCRIPTION:Conseil régional Nakonha:ka Regional Council has decided to hold two gatherings of congregational leaders and ministry personnel to discuss our future as the United Church of Canada\, for the first time ever in our Region. The one-day events will take place on October 17th\, 2025 at Beaconsfield United Church (202 Woodside Rd\, Beaconsfield) and on October 18th\, 2025 at Lennoxville United Church (6 Rue Church\, Sherbrooke). Please choose whichever location and date is most convenient for you. October 17th will be led by Rev. Éric Hébert-Daly\, our Executive Minister\, and Dr. Esther Guillén\, our Community of Faith Support Minister. October 18th will be led by Esther Guillén and Royal Orr\, chair of the region’s Finance & Extension Board and a member of the Towards 2035 Vision Keeper Team. \nAt this full-day event\, participants will be given the opportunity to hear about the state of the church today\, where we would be in ten years if the trajectory were to continue\, and how we might work collaboratively to impact and shape that future. \nThe events will take place 9:30am to 4pm on their respective dates. Lunch will be provided at no cost. Vegetarian and gluten-free options will be available\, but you may decide to bring your lunch if you have more specific needs. Please note that registration to include lunch will close on October 5. \nWe encourage members of your decision-making body (Church Council or Board) to attend. Chairs and Presidents of congregations and pastoral charges\, as well as key decision-makers in your community of faith are key players in the future of the church. This is why we are asking you to take this time out of your schedules to come and reflect together how we move forward. \nSince this could be the largest gathering of our region in its history\, registration will help us plan and prepare\, including meals and group facilitation. Please register here. \nLooking forward to working with you in this new way so that we may all shape our future intentionally and with discernment. \nBlessings\, \n\n\n\n\nRev. Éric Hébert-Daly\nRegional Executive Minister\n\nDr. Esther Guillén\nCommunity of Faith Support Minister
URL:https://nakonhakaucc.ca/event/holding-a-vision-for-the-future-a-gathering-of-united-church-leadership-from-every-congregation/
LOCATION:Beaconsfield United Church and Lennoxville United Church\, Quebec\, Canada
CATEGORIES:Adults of all ages,Conversation,Meeting,Ministry personnel
ATTACH;FMTTYPE=image/png:https://nakonhakaucc.ca/wp-content/uploads/2025/08/ENG_FullText_Strategic_Plan_The_Call_whiteBKG-e1755110158432.png
ORGANIZER;CN="Dr. Esther Guill%C3%A9n":MAILTO:EGuillen@united-church.ca
END:VEVENT
END:VCALENDAR