BEGIN:VCALENDAR
VERSION:2.0
PRODID:-//Nakonhaka Region 13 - ECPv6.15.20//NONSGML v1.0//EN
CALSCALE:GREGORIAN
METHOD:PUBLISH
X-WR-CALNAME:Nakonhaka Region 13
X-ORIGINAL-URL:https://nakonhakaucc.ca
X-WR-CALDESC:Events for Nakonhaka Region 13
REFRESH-INTERVAL;VALUE=DURATION:PT1H
X-Robots-Tag:noindex
X-PUBLISHED-TTL:PT1H
BEGIN:VTIMEZONE
TZID:America/Toronto
BEGIN:DAYLIGHT
TZOFFSETFROM:-0500
TZOFFSETTO:-0400
TZNAME:EDT
DTSTART:20210314T070000
END:DAYLIGHT
BEGIN:STANDARD
TZOFFSETFROM:-0400
TZOFFSETTO:-0500
TZNAME:EST
DTSTART:20211107T060000
END:STANDARD
BEGIN:DAYLIGHT
TZOFFSETFROM:-0500
TZOFFSETTO:-0400
TZNAME:EDT
DTSTART:20220313T070000
END:DAYLIGHT
BEGIN:STANDARD
TZOFFSETFROM:-0400
TZOFFSETTO:-0500
TZNAME:EST
DTSTART:20221106T060000
END:STANDARD
BEGIN:DAYLIGHT
TZOFFSETFROM:-0500
TZOFFSETTO:-0400
TZNAME:EDT
DTSTART:20230312T070000
END:DAYLIGHT
BEGIN:STANDARD
TZOFFSETFROM:-0400
TZOFFSETTO:-0500
TZNAME:EST
DTSTART:20231105T060000
END:STANDARD
BEGIN:DAYLIGHT
TZOFFSETFROM:-0500
TZOFFSETTO:-0400
TZNAME:EDT
DTSTART:20240310T070000
END:DAYLIGHT
BEGIN:STANDARD
TZOFFSETFROM:-0400
TZOFFSETTO:-0500
TZNAME:EST
DTSTART:20241103T060000
END:STANDARD
END:VTIMEZONE
BEGIN:VEVENT
DTSTART;TZID=America/Toronto:20230318T100000
DTEND;TZID=America/Toronto:20230318T123000
DTSTAMP:20260419T083946
CREATED:20230303T163205Z
LAST-MODIFIED:20230303T163244Z
UID:6962-1679133600-1679142600@nakonhakaucc.ca
SUMMARY:Book\, Bake & Craft Sale
DESCRIPTION:A sale of homemade baked goods\, used books\, quilts\, handmade craft\, sewn and knit items and occasion/note cards.
URL:https://nakonhakaucc.ca/event/book-bake-craft-sale/
LOCATION:Valois United Church\, 70 Belmont Avenue\, Pointe Claire\, Quebec\, H9R 2N5\, Canada
CATEGORIES:Fundraiser
ORGANIZER;CN="Valois United UCW":MAILTO:kaner@colba.net
END:VEVENT
BEGIN:VEVENT
DTSTART;TZID=America/Toronto:20230311T100000
DTEND;TZID=America/Toronto:20230311T120000
DTSTAMP:20260419T083946
CREATED:20230309T165511Z
LAST-MODIFIED:20230309T165511Z
UID:6916-1678528800-1678536000@nakonhakaucc.ca
SUMMARY:Balcony Boutique
DESCRIPTION:Sale of gently used clothing for excellent prices. Coffee and sweets available
URL:https://nakonhakaucc.ca/event/balcony-boutique/
LOCATION:Lakeshore Trinity United Church\, 98 Aurora Ave\, Pointe-Claire\, QC\, H9R 3G7\, Canada
CATEGORIES:Community event,Fundraiser
ATTACH;FMTTYPE=image/jpeg:https://nakonhakaucc.ca/wp-content/uploads/2023/02/BalconyBoutique-LakeshoreTrinityUC.jpg
ORGANIZER;CN="Lakeshore Trinity United Church":MAILTO:lakeshoretrinityunited@gmail.com
END:VEVENT
BEGIN:VEVENT
DTSTART;TZID=America/Toronto:20230221T123000
DTEND;TZID=America/Toronto:20230221T143000
DTSTAMP:20260419T083946
CREATED:20230119T163548Z
LAST-MODIFIED:20230119T163548Z
UID:6609-1676982600-1676989800@nakonhakaucc.ca
SUMMARY:Shrove Tuesday Pancake Lunch
DESCRIPTION:Mount Bruno and Richelieu Valley United Churches will be\nholding our FIRST Shrove Tuesday Luncheon since 2020.\nDate: February 21\, 2023\nTime: 12:30 pm to 2:30 pm.\nPlace: Mount Bruno United Church\, 25 Lakeview\, St. Bruno J3V 2L4.\nWelcome All!! Bring a Friend!!\nCost: Free Will Offering
URL:https://nakonhakaucc.ca/event/shrove-tuesday-pancake-lunch/
LOCATION:Mount Bruno United Church\, 25 Rue Lakeview\, Saint-Bruno-de-Montarville\, QC\, J3V 2L4\, Canada
CATEGORIES:Fundraiser,Meal
ATTACH;FMTTYPE=image/jpeg:https://nakonhakaucc.ca/wp-content/uploads/2023/01/nikldn-qp7WA8AV2x0-unsplash-1.jpg
END:VEVENT
BEGIN:VEVENT
DTSTART;TZID=America/Toronto:20221015T190000
DTEND;TZID=America/Toronto:20221015T210000
DTSTAMP:20260419T083946
CREATED:20221006T190943Z
LAST-MODIFIED:20221006T190943Z
UID:6012-1665860400-1665867600@nakonhakaucc.ca
SUMMARY:Fieldstone Reverie
DESCRIPTION:
URL:https://nakonhakaucc.ca/event/fieldstone-reverie/
LOCATION:Howick United Church\, 2 Bridge\, Howick\, QC\, J0S 1G0\, Canada
CATEGORIES:Community event,Fundraiser,Music
ATTACH;FMTTYPE=image/jpeg:https://nakonhakaucc.ca/wp-content/uploads/2022/10/2022-10-15-FieldstoneRevery-HowickUC.jpg
ORGANIZER;CN="Studio Tolhurst":MAILTO:studio.tolhurst@gmail.com
END:VEVENT
BEGIN:VEVENT
DTSTART;TZID=America/Toronto:20220924T090000
DTEND;TZID=America/Toronto:20220924T120000
DTSTAMP:20260419T083946
CREATED:20220913T162053Z
LAST-MODIFIED:20220913T162053Z
UID:5862-1664010000-1664020800@nakonhakaucc.ca
SUMMARY:Rummage Sale - Valois United Church
DESCRIPTION:A Rummage Sale of used clothing\, books\, jewelry\, kitchenware and toys is being held at Valois United Church\,  70 Belmont Ave.\, Pointe Claire on Saturday\,  September 24th from 9 am to 12 noon.  At the same time there is a Bake Sale of a wonderful variety of homemade sweets and goodies to choose from.   www.valoisunited.ca
URL:https://nakonhakaucc.ca/event/rummage-sale-valois-united-church/
LOCATION:Valois United Church\, 70 Belmont Avenue\, Pointe Claire\, Quebec\, H9R 2N5\, Canada
CATEGORIES:Fundraiser
END:VEVENT
BEGIN:VEVENT
DTSTART;TZID=America/Toronto:20220722T190000
DTEND;TZID=America/Toronto:20220722T203000
DTSTAMP:20260419T083946
CREATED:20220711T164503Z
LAST-MODIFIED:20220922T155837Z
UID:5729-1658516400-1658521800@nakonhakaucc.ca
SUMMARY:Magic Hour
DESCRIPTION:MAGIC HOUR Magicians Grant McSorley and Derrick Chung will present a Magic Hour\, Friday Evening\, July 22\, 2022 at 19h00 (7 p.m.).  Both Grant and Derrick have waved profits to Mount Bruno United Church.  Tickets are $20 / person and available at the church Tuesday & Thursday 09h30 to 14h00\, Wednesday 13h00 to 16h00 as well as Sunday’s following church service when the office is open.  Exact purchase is needed as the church staff does not have change.  Wearing of Masks will be required.
URL:https://nakonhakaucc.ca/event/magic-hour/
LOCATION:Mount Bruno United Church\, 25 Rue Lakeview\, Saint-Bruno-de-Montarville\, QC\, J3V 2L4\, Canada
CATEGORIES:Adults of all ages,children and youth,Community event,Fundraiser
ATTACH;FMTTYPE=image/jpeg:https://nakonhakaucc.ca/wp-content/uploads/2022/07/McSorley-Chung-Magic-Hour.jpg
END:VEVENT
BEGIN:VEVENT
DTSTART;TZID=America/Toronto:20220605T150000
DTEND;TZID=America/Toronto:20220605T163000
DTSTAMP:20260419T083946
CREATED:20220518T161800Z
LAST-MODIFIED:20220922T155927Z
UID:5558-1654441200-1654446600@nakonhakaucc.ca
SUMMARY:Solidarity concert for the Rodriguez-Flores family
DESCRIPTION:Save the date! Attend a concert at 3 pm on Sunday\, June 5 at Plymouth-Trinity United Church (380 Dufferin\, Sherbrooke). Members of the Choeur des Sangs mélés will honour the courage and persistence of the Rodriguez-Flores family; no reservations; first come\, first seated; free will donation after the concert. See you there!
URL:https://nakonhakaucc.ca/event/solidarity-concert-for-the-rodriguez-flores-family/
LOCATION:Plymouth-Trinity United Church\, 380 Dufferin\, Sherbrooke\, Quebec\, J1H 4M7
CATEGORIES:Community event,Fundraiser,Music
ATTACH;FMTTYPE=image/jpeg:https://nakonhakaucc.ca/wp-content/uploads/2022/05/2022-06-05-Rodrigues-Flores-Concert-PlymouthTrinity.jpg
END:VEVENT
BEGIN:VEVENT
DTSTART;TZID=America/Toronto:20220410T163000
DTEND;TZID=America/Toronto:20220410T183000
DTSTAMP:20260419T083946
CREATED:20220406T001928Z
LAST-MODIFIED:20220922T160216Z
UID:5396-1649608200-1649615400@nakonhakaucc.ca
SUMMARY:Benefit Concert for Ukraine
DESCRIPTION:
URL:https://nakonhakaucc.ca/event/benefit-concert-for-ukraine/
LOCATION:Lakeshore Trinity United Church\, 98 Aurora Ave\, Pointe-Claire\, QC\, H9R 3G7\, Canada
CATEGORIES:Fundraiser,Music
ATTACH;FMTTYPE=image/png:https://nakonhakaucc.ca/wp-content/uploads/2022/04/2022-04-UkraineBenefit-LakeshoreTrinityUC.png
END:VEVENT
END:VCALENDAR