BEGIN:VCALENDAR
VERSION:2.0
PRODID:-//Nakonhaka Region 13 - ECPv6.15.20//NONSGML v1.0//EN
CALSCALE:GREGORIAN
METHOD:PUBLISH
X-ORIGINAL-URL:https://nakonhakaucc.ca
X-WR-CALDESC:Events for Nakonhaka Region 13
REFRESH-INTERVAL;VALUE=DURATION:PT1H
X-Robots-Tag:noindex
X-PUBLISHED-TTL:PT1H
BEGIN:VTIMEZONE
TZID:America/Toronto
BEGIN:DAYLIGHT
TZOFFSETFROM:-0500
TZOFFSETTO:-0400
TZNAME:EDT
DTSTART:20240310T070000
END:DAYLIGHT
BEGIN:STANDARD
TZOFFSETFROM:-0400
TZOFFSETTO:-0500
TZNAME:EST
DTSTART:20241103T060000
END:STANDARD
BEGIN:DAYLIGHT
TZOFFSETFROM:-0500
TZOFFSETTO:-0400
TZNAME:EDT
DTSTART:20250309T070000
END:DAYLIGHT
BEGIN:STANDARD
TZOFFSETFROM:-0400
TZOFFSETTO:-0500
TZNAME:EST
DTSTART:20251102T060000
END:STANDARD
BEGIN:DAYLIGHT
TZOFFSETFROM:-0500
TZOFFSETTO:-0400
TZNAME:EDT
DTSTART:20260308T070000
END:DAYLIGHT
BEGIN:STANDARD
TZOFFSETFROM:-0400
TZOFFSETTO:-0500
TZNAME:EST
DTSTART:20261101T060000
END:STANDARD
END:VTIMEZONE
BEGIN:VEVENT
DTSTART;VALUE=DATE:20250404
DTEND;VALUE=DATE:20250406
DTSTAMP:20260422T182219
CREATED:20250311T234542Z
LAST-MODIFIED:20250311T234542Z
UID:19265-1743724800-1743897599@nakonhakaucc.ca
SUMMARY:Healing Pathway Phase 1 Training
DESCRIPTION:The Cedar Park United Healing Pathway ministry will be hosting a Phase 1 workshop on Friday and Saturday\, April 4-5\, 2025 at Cedar Park United in Pointe-Claire. It will introduce the basic concepts of healing hands with an emphasis on learning to be a healing presence and an instrument of God’s healing power. \nParticipants will learn healing techniques that can bring balance to the human energy system. \nFor more information and to register please consult the details on the brochure
URL:https://nakonhakaucc.ca/event/healing-pathway-phase-1-training/
LOCATION:Cedar Park United Church\, 204 Lakeview Ave.\, Pointe-Claire\, QC\, H9S 4C5\, Canada
CATEGORIES:Health
ATTACH;FMTTYPE=image/png:https://nakonhakaucc.ca/wp-content/uploads/2025/03/Healing-Pathway-Insta-post-1.png
ORGANIZER;CN="Isabelle Sayed":MAILTO:cpu.healingpathway@cedarparkunited.org
END:VEVENT
END:VCALENDAR