BEGIN:VCALENDAR
VERSION:2.0
PRODID:-//Nakonhaka Region 13 - ECPv6.15.20//NONSGML v1.0//EN
CALSCALE:GREGORIAN
METHOD:PUBLISH
X-WR-CALNAME:Nakonhaka Region 13
X-ORIGINAL-URL:https://nakonhakaucc.ca
X-WR-CALDESC:Events for Nakonhaka Region 13
REFRESH-INTERVAL;VALUE=DURATION:PT1H
X-Robots-Tag:noindex
X-PUBLISHED-TTL:PT1H
BEGIN:VTIMEZONE
TZID:America/Toronto
BEGIN:DAYLIGHT
TZOFFSETFROM:-0500
TZOFFSETTO:-0400
TZNAME:EDT
DTSTART:20210314T070000
END:DAYLIGHT
BEGIN:STANDARD
TZOFFSETFROM:-0400
TZOFFSETTO:-0500
TZNAME:EST
DTSTART:20211107T060000
END:STANDARD
BEGIN:DAYLIGHT
TZOFFSETFROM:-0500
TZOFFSETTO:-0400
TZNAME:EDT
DTSTART:20220313T070000
END:DAYLIGHT
BEGIN:STANDARD
TZOFFSETFROM:-0400
TZOFFSETTO:-0500
TZNAME:EST
DTSTART:20221106T060000
END:STANDARD
BEGIN:DAYLIGHT
TZOFFSETFROM:-0500
TZOFFSETTO:-0400
TZNAME:EDT
DTSTART:20230312T070000
END:DAYLIGHT
BEGIN:STANDARD
TZOFFSETFROM:-0400
TZOFFSETTO:-0500
TZNAME:EST
DTSTART:20231105T060000
END:STANDARD
BEGIN:DAYLIGHT
TZOFFSETFROM:-0500
TZOFFSETTO:-0400
TZNAME:EDT
DTSTART:20240310T070000
END:DAYLIGHT
BEGIN:STANDARD
TZOFFSETFROM:-0400
TZOFFSETTO:-0500
TZNAME:EST
DTSTART:20241103T060000
END:STANDARD
BEGIN:DAYLIGHT
TZOFFSETFROM:-0500
TZOFFSETTO:-0400
TZNAME:EDT
DTSTART:20250309T070000
END:DAYLIGHT
BEGIN:STANDARD
TZOFFSETFROM:-0400
TZOFFSETTO:-0500
TZNAME:EST
DTSTART:20251102T060000
END:STANDARD
BEGIN:DAYLIGHT
TZOFFSETFROM:-0500
TZOFFSETTO:-0400
TZNAME:EDT
DTSTART:20260308T070000
END:DAYLIGHT
BEGIN:STANDARD
TZOFFSETFROM:-0400
TZOFFSETTO:-0500
TZNAME:EST
DTSTART:20261101T060000
END:STANDARD
END:VTIMEZONE
BEGIN:VEVENT
DTSTART;TZID=America/Toronto:20250605T110000
DTEND;TZID=America/Toronto:20250607T220000
DTSTAMP:20260419T102638
CREATED:20250523T143357Z
LAST-MODIFIED:20250523T143713Z
UID:22854-1749121200-1749333600@nakonhakaucc.ca
SUMMARY:Resonance2025
DESCRIPTION:You are invited to the Montreal Resonance 2025\, held at the Montreal Convention Centre\, from June 5-7. \nRESONANCE2025  is an invitation to explore how the secular and the spiritual can come together and inform one another in modern spaces of Resonance: work\, family\, art\, religion and nature. \nJoin us for what promises to be a dynamic and engaging conference hosted by Montreal City Mission. The event will feature a rich lineup of thought-provoking speakers\, interactive workshops\, immersive sensory experiences\, and meaningful conversations—all complemented by delicious meals and snacks. \nYou can find full details and register here. There is a discount for UCC members! Whether you’re able to attend just the opening afternoon\, the entire event\, or anything in between\, your presence will support and strengthen this vital initiative. Don’t miss the opportunity to be part of this important gathering. \nhttps://www.resonance2025.com/
URL:https://nakonhakaucc.ca/event/resonance2025/
LOCATION:Palais des congrès de Montréal\, 1001 Place Jean-Paul-Riopelle\, Montreal\, Quebec\, H2Z 1H5\, Canada
CATEGORIES:Community event,Conversation,Growth-Invite,Intercultural,Interfaith,Meeting
ATTACH;FMTTYPE=image/png:https://nakonhakaucc.ca/wp-content/uploads/2025/05/Resonance-2025.png
ORGANIZER;CN="Montreal City Mission":MAILTO:maan@montrealcitymission.org
END:VEVENT
BEGIN:VEVENT
DTSTART;TZID=America/Toronto:20240128T120000
DTEND;TZID=America/Toronto:20240128T133000
DTSTAMP:20260419T102638
CREATED:20240118T171502Z
LAST-MODIFIED:20240118T191952Z
UID:9694-1706443200-1706448600@nakonhakaucc.ca
SUMMARY:Muslim Awareness Week - 2024
DESCRIPTION:
URL:https://nakonhakaucc.ca/event/muslim-awareness-week-2024/
LOCATION:St. James United Church\, 1435 City Councillors\, Montreal\, Quebec\, H3A 2E4\, Canada
CATEGORIES:Community event,Conversation,Intercultural,Interfaith
ATTACH;FMTTYPE=image/jpeg:https://nakonhakaucc.ca/wp-content/uploads/2024/01/2024-MuslimAwarenessWeek.jpg
ORGANIZER;CN="Montreal City Mission":MAILTO:maan@montrealcitymission.org
END:VEVENT
BEGIN:VEVENT
DTSTART;TZID=America/Toronto:20230222T190000
DTEND;TZID=America/Toronto:20230222T210000
DTSTAMP:20260419T102638
CREATED:20230217T150000Z
LAST-MODIFIED:20230217T150000Z
UID:6732-1677092400-1677099600@nakonhakaucc.ca
SUMMARY:Spiritual Care and Palliative Care (online)
DESCRIPTION:Spiritual care and community workers discuss questions about advanced illness and decline\, death and dying – a multi-faith perspective. \nInvited guests: \n\nImam Salam Elmenyawi – McGill Office of Religious & Spiritual Life\nCathie Macauley – Service d’accompagnement spirituel des personnes malades ou âgées à domicile\nKim Chi Pham – Montreal Compassionate Society\nRev. Kosta Theophanus – CIUSSS Central West Spiritual Care\nRev. Gwenda Wells – MUHC Spiritual Care\n\nPlease forward this to your friends and colleagues \nZoom link
URL:https://nakonhakaucc.ca/event/spiritual-care-and-palliative-care-online/
LOCATION:Quebec
CATEGORIES:Conversation,Health,Intercultural,Interdenominational,Interfaith,ONLINE
ATTACH;FMTTYPE=image/jpeg:https://nakonhakaucc.ca/wp-content/uploads/2023/02/2023-02-22-SpiritualPalliativeCare.jpg
END:VEVENT
BEGIN:VEVENT
DTSTART;TZID=America/Toronto:20230205T080000
DTEND;TZID=America/Toronto:20230226T113000
DTSTAMP:20260419T102638
CREATED:20230117T144450Z
LAST-MODIFIED:20230117T144450Z
UID:6602-1675584000-1677411000@nakonhakaucc.ca
SUMMARY:Beaconsfield United Church Black History Month
DESCRIPTION:Black History Month
URL:https://nakonhakaucc.ca/event/beaconsfield-united-church-black-history-month/
LOCATION:Beaconsfield United Church\, 202 Woodside Drive\, Beaconsfield\, QC\, H9W 2P1\, Canada
CATEGORIES:Community event,Intercultural,Interfaith,Seasonal
ATTACH;FMTTYPE=image/png:https://nakonhakaucc.ca/wp-content/uploads/2023/01/2C83B7C0-FBE7-4B50-BE4F-CF498AA41FDC.png
ORGANIZER;CN="Beaconsfield United Church":MAILTO:community@beaconsfieldunitedchurch.ca
END:VEVENT
BEGIN:VEVENT
DTSTART;TZID=America/Toronto:20221218T100000
DTEND;TZID=America/Toronto:20221218T140000
DTSTAMP:20260419T102638
CREATED:20221115T210151Z
LAST-MODIFIED:20221115T210151Z
UID:6243-1671357600-1671372000@nakonhakaucc.ca
SUMMARY:BUC BLACK SANTA
DESCRIPTION:The Black Santa is an initiative to support the refugees during the Christmas season. To show them love and let them not feel loneliness of been far from home.
URL:https://nakonhakaucc.ca/event/buc-black-santa/
LOCATION:Beaconsfield United Church\, 202 Woodside Drive\, Beaconsfield\, QC\, H9W 2P1\, Canada
CATEGORIES:children and youth,Community event,Intercultural,Refugees,Seasonal
ATTACH;FMTTYPE=image/jpeg:https://nakonhakaucc.ca/wp-content/uploads/2022/11/E6DA653C-E4F9-4D6D-8382-323D302D193A.jpeg
ORGANIZER;CN="Beaconsfield United Church":MAILTO:community@beaconsfieldunitedchurch.ca
END:VEVENT
BEGIN:VEVENT
DTSTART;TZID=America/Toronto:20221201T190000
DTEND;TZID=America/Toronto:20221201T210000
DTSTAMP:20260419T102638
CREATED:20221114T145908Z
LAST-MODIFIED:20221114T145908Z
UID:6225-1669921200-1669928400@nakonhakaucc.ca
SUMMARY:Church\, Love and Refugees
DESCRIPTION:To showcase Beaconsfield United Church Refugee Integration Support Program model of hospitality to newly arrived refugees in Canada.
URL:https://nakonhakaucc.ca/event/church-love-and-refugees/
LOCATION:Beaconsfield United Church (online)
CATEGORIES:Anti-Racism,Intercultural,Refugees
ATTACH;FMTTYPE=image/jpeg:https://nakonhakaucc.ca/wp-content/uploads/2022/11/B6E69E2A-9357-46A0-B857-C1449BF07B65.jpeg
END:VEVENT
END:VCALENDAR