BEGIN:VCALENDAR
VERSION:2.0
PRODID:-//Nakonhaka Region 13 - ECPv6.15.20//NONSGML v1.0//EN
CALSCALE:GREGORIAN
METHOD:PUBLISH
X-ORIGINAL-URL:https://nakonhakaucc.ca
X-WR-CALDESC:Events for Nakonhaka Region 13
REFRESH-INTERVAL;VALUE=DURATION:PT1H
X-Robots-Tag:noindex
X-PUBLISHED-TTL:PT1H
BEGIN:VTIMEZONE
TZID:America/Toronto
BEGIN:DAYLIGHT
TZOFFSETFROM:-0500
TZOFFSETTO:-0400
TZNAME:EDT
DTSTART:20230312T070000
END:DAYLIGHT
BEGIN:STANDARD
TZOFFSETFROM:-0400
TZOFFSETTO:-0500
TZNAME:EST
DTSTART:20231105T060000
END:STANDARD
BEGIN:DAYLIGHT
TZOFFSETFROM:-0500
TZOFFSETTO:-0400
TZNAME:EDT
DTSTART:20240310T070000
END:DAYLIGHT
BEGIN:STANDARD
TZOFFSETFROM:-0400
TZOFFSETTO:-0500
TZNAME:EST
DTSTART:20241103T060000
END:STANDARD
BEGIN:DAYLIGHT
TZOFFSETFROM:-0500
TZOFFSETTO:-0400
TZNAME:EDT
DTSTART:20250309T070000
END:DAYLIGHT
BEGIN:STANDARD
TZOFFSETFROM:-0400
TZOFFSETTO:-0500
TZNAME:EST
DTSTART:20251102T060000
END:STANDARD
END:VTIMEZONE
BEGIN:VEVENT
DTSTART;TZID=America/Toronto:20240205T190000
DTEND;TZID=America/Toronto:20240205T210000
DTSTAMP:20260423T002405
CREATED:20240109T181427Z
LAST-MODIFIED:20240206T185315Z
UID:9453-1707159600-1707166800@nakonhakaucc.ca
SUMMARY:Learning Session: Grants
DESCRIPTION:Please join us for a Zoom information session to be held on Monday February 5 at 7:00 p.m.  The session will be hosted by Brian Ruse\, Rev. Éric Hébert-Daly\, Rev. Barbara Bryce\, and Erik Lo Forte of the United Church Foundation.  We will be discussing the granting process: \n\nGrants available from the General Council Office of the United Church of Canada\nGrants available from Nakonha:ka Regional Council\nMission Support grants\nHow to apply for a grant – procedures\, deadlines\, etc.\nQuestions and answers\n\n			\n				\n				\n				\n				\n				\n				\n			\n				\n				\n				\n				\n				Other post-meeting resources\n				\nPresentation (Rev. Éric Hébert-Daly) – PPT\nPresentation (Erik Lo Forte) – PDF\n\nLinks to additional resources (from Zoom chat) \n\neloforte@united-church.ca\ngrants@united-church.ca\nhttps://www.unitedchurchfoundation.ca/\nhttps://www.faithfulfootprints.org/\nhttps://united-church.ca/leadership/church-administration/compensation-and-benefits/financial-assistance\n2023-12-14-Fall-Granting-Summary-Website.pdf\nhttps://fondationegliseunie.ca/\nhttps://nakonhakaucc.ca/resources/granting-and-enabling/\nhttps://nakonhakaucc.ca/fr/ressources/financement-et-soutien/\n\n			\n				Post-meeting evaluation survey
URL:https://nakonhakaucc.ca/event/learning-session-grants/
CATEGORIES:Grants,Learning Session,ONLINE,Webinar
ATTACH;FMTTYPE=image/png:https://nakonhakaucc.ca/wp-content/uploads/2024/01/Grants-2024.png
ORGANIZER;CN="Brian Ruse":MAILTO:bruse@united-church.ca
END:VEVENT
BEGIN:VEVENT
DTSTART;TZID=America/Toronto:20240227T133000
DTEND;TZID=America/Toronto:20240227T143000
DTSTAMP:20260423T002405
CREATED:20240209T152611Z
LAST-MODIFIED:20240209T152611Z
UID:10029-1709040600-1709044200@nakonhakaucc.ca
SUMMARY:Online learning event: Demystifying Low Literacy
DESCRIPTION:(presented by Literacy Unlimited / Family Life Centre)\nFebruary 27\, 1:30 to 2:30 pm \nPlease advertise this free info session far and wide! It’s for church staff\, clergy\, lay leaders\, volunteers and\, in fact\, anyone! Please feel free to share it with any organizations with whom your church partners. The session is on Zoom to be easily accessible to all\, and it’s free. \nWhen I met with Literacy Unlimited to plan this\, I was astounded to learn that people who do not read or write well avoid any situation where they might feel `less than’ — and that there are simple ways we\, as churches\, can be more equitable and welcoming. It was eye-opening. \nEveryone knows someone who lives with low literacy — even if they keep it well hidden. Anything we can do in our church programmes\, activities\, worship and communications to make them feel comfortable is a worthwhile investment of time. \n– shared by Elizabeth Chown-Lafrenière\, Family Life Centre  \nDownload poster: 2024-02-27 Demystifying Low Literacy-FLC\nLearn more / register: familylifecentre@gmail.com
URL:https://nakonhakaucc.ca/event/online-learning-event-demystifying-low-literacy/
CATEGORIES:Community event,Conversation,Growth-Invite,Learning Session,ONLINE
ATTACH;FMTTYPE=image/jpeg:https://nakonhakaucc.ca/wp-content/uploads/2024/02/2024-02-27-DemystifyingLowLiteracy-FLC.jpg
ORGANIZER;CN="Family Life Centre":MAILTO:familylifecentre@gmail.com
END:VEVENT
END:VCALENDAR