BEGIN:VCALENDAR
VERSION:2.0
PRODID:-//Nakonhaka Region 13 - ECPv6.15.20//NONSGML v1.0//EN
CALSCALE:GREGORIAN
METHOD:PUBLISH
X-ORIGINAL-URL:https://nakonhakaucc.ca
X-WR-CALDESC:Events for Nakonhaka Region 13
REFRESH-INTERVAL;VALUE=DURATION:PT1H
X-Robots-Tag:noindex
X-PUBLISHED-TTL:PT1H
BEGIN:VTIMEZONE
TZID:America/Toronto
BEGIN:DAYLIGHT
TZOFFSETFROM:-0500
TZOFFSETTO:-0400
TZNAME:EDT
DTSTART:20220313T070000
END:DAYLIGHT
BEGIN:STANDARD
TZOFFSETFROM:-0400
TZOFFSETTO:-0500
TZNAME:EST
DTSTART:20221106T060000
END:STANDARD
BEGIN:DAYLIGHT
TZOFFSETFROM:-0500
TZOFFSETTO:-0400
TZNAME:EDT
DTSTART:20230312T070000
END:DAYLIGHT
BEGIN:STANDARD
TZOFFSETFROM:-0400
TZOFFSETTO:-0500
TZNAME:EST
DTSTART:20231105T060000
END:STANDARD
BEGIN:DAYLIGHT
TZOFFSETFROM:-0500
TZOFFSETTO:-0400
TZNAME:EDT
DTSTART:20240310T070000
END:DAYLIGHT
BEGIN:STANDARD
TZOFFSETFROM:-0400
TZOFFSETTO:-0500
TZNAME:EST
DTSTART:20241103T060000
END:STANDARD
END:VTIMEZONE
BEGIN:VEVENT
DTSTART;TZID=America/Toronto:20230306T133000
DTEND;TZID=America/Toronto:20230306T143000
DTSTAMP:20260425T235407
CREATED:20240118T192831Z
LAST-MODIFIED:20240118T192831Z
UID:9714-1678109400-1678113000@nakonhakaucc.ca
SUMMARY:Online Ministry Support Circle - March 2024
DESCRIPTION:
URL:https://nakonhakaucc.ca/event/online-ministry-support-circle-march-2024/
LOCATION:Quebec
CATEGORIES:Ministry personnel,ONLINE,Support Group
ATTACH;FMTTYPE=image/png:https://nakonhakaucc.ca/wp-content/uploads/2019/05/cropped-Nakonhaka-Logo.png
ORGANIZER;CN="Rev. Dan Hayward":MAILTO:dhayward@united-church.ca
END:VEVENT
BEGIN:VEVENT
DTSTART;TZID=America/Toronto:20230307T133000
DTEND;TZID=America/Toronto:20230307T143000
DTSTAMP:20260425T235407
CREATED:20221219T154634Z
LAST-MODIFIED:20221219T154634Z
UID:6412-1678195800-1678199400@nakonhakaucc.ca
SUMMARY:Online Clergy Support Circle
DESCRIPTION:Contact Rev. Dan Hayward for Zoom link.
URL:https://nakonhakaucc.ca/event/online-clergy-support-circle-3/
LOCATION:Quebec
CATEGORIES:Ministry personnel,ONLINE,Support Group
ATTACH;FMTTYPE=image/png:https://nakonhakaucc.ca/wp-content/uploads/2019/05/Nakonhaka-Logo.png
ORGANIZER;CN="Rev. Dan Hayward":MAILTO:dhayward@united-church.ca
END:VEVENT
BEGIN:VEVENT
DTSTART;TZID=America/Toronto:20230318T090000
DTEND;TZID=America/Toronto:20230318T120000
DTSTAMP:20260425T235407
CREATED:20230213T144111Z
LAST-MODIFIED:20230213T144955Z
UID:6685-1679130000-1679140800@nakonhakaucc.ca
SUMMARY:Ministry & Personnel Committee Workshop
DESCRIPTION:This workshop will cover all the main roles and responsibilities of the Ministry & Personnel Committee. This will be a repeat of the Fall 2022 workshop.  This is an orientation workshop for those on M&P Committees who have never taken it\, new members of an M&P Committee\, as well as a good refresher for everyone else.  Ministry Personnel are welcome to register for this workshop. \nPlease register in advance for this meeting. After registering\, you will receive a confirmation email containing information about joining the meeting. \n			\n				Register in advance\n			\n				\n				\n				\n				\n				For information about other workshops for 2023: https://nakonhakaucc.ca/blog/2023/02/13/ministry-and-personnel-workshops-2023/
URL:https://nakonhakaucc.ca/event/ministry-personnel-committee-workshop/
LOCATION:Quebec
CATEGORIES:Ministry personnel,ONLINE,Workshop
ATTACH;FMTTYPE=image/png:https://nakonhakaucc.ca/wp-content/uploads/2023/02/Ministry-Personnel-1.png
ORGANIZER;CN="Rev. Whitman Strong":MAILTO:wstrong@united-church.ca
END:VEVENT
BEGIN:VEVENT
DTSTART;TZID=America/Toronto:20230322T190000
DTEND;TZID=America/Toronto:20230322T190000
DTSTAMP:20260425T235407
CREATED:20230213T145204Z
LAST-MODIFIED:20230213T145210Z
UID:6695-1679511600-1679511600@nakonhakaucc.ca
SUMMARY:Creating a Living Faith Story & Profile (online workshop)
DESCRIPTION:Every Community of Faith is required to have a Living Faith Story on their ChurchHub page. Every Community of Faith who is in search for a new minister must also have a Living Faith Profile on ChurchHub. This workshop will provide you with a general outline for creating both a Living Faith Story and a Living Faith Profile\, as well as explaining the difference between the two. \nPlease register in advance for this meeting. After registering\, you will receive a confirmation email containing information about joining the meeting. \n			\n				Register in advance\n			\n				\n				\n				\n				\n				For information about other workshops for 2023: https://nakonhakaucc.ca/blog/2023/02/13/ministry-and-personnel-workshops-2023/
URL:https://nakonhakaucc.ca/event/creating-a-living-faith-story-profile-online-workshop/
LOCATION:Quebec
CATEGORIES:Ministry personnel,ONLINE,Workshop
ATTACH;FMTTYPE=image/png:https://nakonhakaucc.ca/wp-content/uploads/2023/02/Ministry-Personnel-1.png
ORGANIZER;CN="Rev. Whitman Strong":MAILTO:wstrong@united-church.ca
END:VEVENT
END:VCALENDAR