BEGIN:VCALENDAR
VERSION:2.0
PRODID:-//Nakonhaka Region 13 - ECPv6.15.20//NONSGML v1.0//EN
CALSCALE:GREGORIAN
METHOD:PUBLISH
X-ORIGINAL-URL:https://nakonhakaucc.ca
X-WR-CALDESC:Events for Nakonhaka Region 13
REFRESH-INTERVAL;VALUE=DURATION:PT1H
X-Robots-Tag:noindex
X-PUBLISHED-TTL:PT1H
BEGIN:VTIMEZONE
TZID:America/Toronto
BEGIN:DAYLIGHT
TZOFFSETFROM:-0500
TZOFFSETTO:-0400
TZNAME:EDT
DTSTART:20220313T070000
END:DAYLIGHT
BEGIN:STANDARD
TZOFFSETFROM:-0400
TZOFFSETTO:-0500
TZNAME:EST
DTSTART:20221106T060000
END:STANDARD
BEGIN:DAYLIGHT
TZOFFSETFROM:-0500
TZOFFSETTO:-0400
TZNAME:EDT
DTSTART:20230312T070000
END:DAYLIGHT
BEGIN:STANDARD
TZOFFSETFROM:-0400
TZOFFSETTO:-0500
TZNAME:EST
DTSTART:20231105T060000
END:STANDARD
BEGIN:DAYLIGHT
TZOFFSETFROM:-0500
TZOFFSETTO:-0400
TZNAME:EDT
DTSTART:20240310T070000
END:DAYLIGHT
BEGIN:STANDARD
TZOFFSETFROM:-0400
TZOFFSETTO:-0500
TZNAME:EST
DTSTART:20241103T060000
END:STANDARD
END:VTIMEZONE
BEGIN:VEVENT
DTSTART;TZID=America/Toronto:20231004T190000
DTEND;TZID=America/Toronto:20231004T210000
DTSTAMP:20260425T075540
CREATED:20230809T153902Z
LAST-MODIFIED:20231006T171230Z
UID:7865-1696446000-1696453200@nakonhakaucc.ca
SUMMARY:Regional Council Information Session about Remit 1 (online)
DESCRIPTION:SAVE THE DATE!  \nAn online information session about Remit 1 (Establishing an autonomous national indigenous organization) will be offered in English on October 4\, 2023 at 7 pm for Conseil régional Nakonha:ka Regional Council (CrNRC)\, Eastern Ontario Outaouais Regional Council (EOORC) and East Central Ontario Regional Council (ECORC). While this session may be most helpful to those in pastoral charges whose governing boards have not yet submitted their votes\, all are very welcome to attend. Hope to see you there! \nPlease note that an online information in French will be offered on October 11\, 2023 at 7 pmLearn more: https://nakonhakaucc.ca/fr/evenement/seance-dapprentissage-du-conseil-regional-a-propos-du-renvoi-1/  \nREMINDERThe governing board of each pastoral charge has a right and responsibility to vote on this remit\, and all votes must be submitted by March 31\, 2024. If a pastoral charge does not submit a vote\, the default will be to count the missing vote as a vote against the remit.Learn more: https://generalcouncil44.ca/council/remit-1-establishing-autonomous-national-indigenous-organization
URL:https://nakonhakaucc.ca/event/regional-council-information-session-about-remit-1/
CATEGORIES:Conversation,ONLINE
ATTACH;FMTTYPE=image/png:https://nakonhakaucc.ca/wp-content/uploads/2023/08/3.png
END:VEVENT
BEGIN:VEVENT
DTSTART;TZID=America/Toronto:20231024T190000
DTEND;TZID=America/Toronto:20231024T210000
DTSTAMP:20260425T075540
CREATED:20231004T165900Z
LAST-MODIFIED:20231004T165900Z
UID:8145-1698174000-1698181200@nakonhakaucc.ca
SUMMARY:Learning Opportunity for Pastoral Care Teams*
DESCRIPTION:Tuesday\, Oct 24 from 7-9 PM\nMonday\, Nov 6 from 7-9 PM\nWednesday\, Nov 22 from 7-9 PM\n\nAll sessions are on Zoom \n*For those who are on their congregation’s Pastoral Care Team\, those who might like to join their PC Team\, and anyone who is interested in learning more about offering congregational care and support \n\nWhat is Congregational Pastoral Care & how has it changed since Covid\nOffering Pastoral Care via text and email\nThe challenges of mental illness\, chronic or acute health issues\, job loss\, aging\, special needs\, and more\nOur new demographics – understanding cultural context\nComforting the mourner – how to support the bereaved\nListening deeply and praying for & with someone\nPractical ways to offer support             \n\nSpeakers \n\nCorrie Sirota MSW\, PSW\nRev. Ellie Hummel in NB\,\nJudy Addie in BC\,\nPaul Clarke\nElizabeth Chown Lafrenière\nRev. Dr. Elisabeth Jones\n\nPresented by the Family Life Centre with funding from the United Church of Canada Erskine American & Mountainside Trust \n$30 per person \nSAVE! Discounted rate of $25 for registrations by Oct 17 \nFree for members of FLC supporting churches \nPayable by etransfer to familylifecentre@gmail.com or mail your cheque payable to Family Life Centre c/o 204 Lakeview Avenue\, Pointe-Claire\, QC H9S 4C5 \nRegister at http://www.familylifecentre.ca \nPlease watch Practising the Pause before the first session \nThe Family Life Centre is a community resource supported by 7 West Island churches offering referral services\, information sessions and workshops.
URL:https://nakonhakaucc.ca/event/learning-opportunity-for-pastoral-care-teams/
CATEGORIES:ONLINE,Workshop
ATTACH;FMTTYPE=image/jpeg:https://nakonhakaucc.ca/wp-content/uploads/2023/10/PC-Training-jpeg.jpg
ORGANIZER;CN="Family Life Centre":MAILTO:familylifecentre@gmail.com
END:VEVENT
END:VCALENDAR