BEGIN:VCALENDAR
VERSION:2.0
PRODID:-//Nakonhaka Region 13 - ECPv6.15.20//NONSGML v1.0//EN
CALSCALE:GREGORIAN
METHOD:PUBLISH
X-ORIGINAL-URL:https://nakonhakaucc.ca
X-WR-CALDESC:Events for Nakonhaka Region 13
REFRESH-INTERVAL;VALUE=DURATION:PT1H
X-Robots-Tag:noindex
X-PUBLISHED-TTL:PT1H
BEGIN:VTIMEZONE
TZID:America/Toronto
BEGIN:DAYLIGHT
TZOFFSETFROM:-0500
TZOFFSETTO:-0400
TZNAME:EDT
DTSTART:20230312T070000
END:DAYLIGHT
BEGIN:STANDARD
TZOFFSETFROM:-0400
TZOFFSETTO:-0500
TZNAME:EST
DTSTART:20231105T060000
END:STANDARD
BEGIN:DAYLIGHT
TZOFFSETFROM:-0500
TZOFFSETTO:-0400
TZNAME:EDT
DTSTART:20240310T070000
END:DAYLIGHT
BEGIN:STANDARD
TZOFFSETFROM:-0400
TZOFFSETTO:-0500
TZNAME:EST
DTSTART:20241103T060000
END:STANDARD
BEGIN:DAYLIGHT
TZOFFSETFROM:-0500
TZOFFSETTO:-0400
TZNAME:EDT
DTSTART:20250309T070000
END:DAYLIGHT
BEGIN:STANDARD
TZOFFSETFROM:-0400
TZOFFSETTO:-0500
TZNAME:EST
DTSTART:20251102T060000
END:STANDARD
END:VTIMEZONE
BEGIN:VEVENT
DTSTART;TZID=America/Toronto:20241105T183000
DTEND;TZID=America/Toronto:20241105T193000
DTSTAMP:20260424T035511
CREATED:20240813T153215Z
LAST-MODIFIED:20240829T181600Z
UID:14095-1730831400-1730835000@nakonhakaucc.ca
SUMMARY:Candidates Connect - November 2024
DESCRIPTION:Attention Candidates and Applicants\nJoin Caroline Penhale Lukacs\, Vocational Minister for Quebec and East Ontario for an hour of conversation and connection the first Tuesday of every month from October to May at 6:30 pm. Come and share your Candidacy Pathway journey with others who are walking a similar road.\nZoom link: https://united-church.zoom.us/j/83183977228\n\nPlease note that this program will also be offered in French on the fourth Tuesday of each month at 11 am. See the French version of this event for more information and the Zoom link.
URL:https://nakonhakaucc.ca/event/candidates-connect-november-2024/
CATEGORIES:Conversation,ONLINE,Support Group
ATTACH;FMTTYPE=image/png:https://nakonhakaucc.ca/wp-content/uploads/2024/08/CandidatesConnect-NEW-2025.png
ORGANIZER;CN="Rev. Caroline Penhale":MAILTO:cpenhale@united-church.ca
END:VEVENT
BEGIN:VEVENT
DTSTART;TZID=America/Toronto:20241109T090000
DTEND;TZID=America/Toronto:20241109T120000
DTSTAMP:20260424T035511
CREATED:20240924T182118Z
LAST-MODIFIED:20240924T182510Z
UID:15524-1731142800-1731153600@nakonhakaucc.ca
SUMMARY:Tri-region online workshop for Ministry and Personnel Committee members
DESCRIPTION:There will be an M&P Committee online workshop on Saturday\, November 9\, 2024 (9am – 12noon). This workshop is open to M&P Ctte members (both new and current)\, Council members\, and Ministry Personnel. All new members to M&P Cttes are strongly urged to participate.  While this will be a repeat of past M&P workshops\, it will be a good refresher for all current M&P members. \nIf you have any questions\, please contact Rev. Whit Strong wstrong@united-church.ca \nPre-registration is required.  https://united-church.zoom.us/meeting/register/tZMucu6qrjIrH9zRqkbFDkXEIBPx3go7aB7O
URL:https://nakonhakaucc.ca/event/tri-region-online-workshop-for-ministry-and-personnel-committee-members/
CATEGORIES:Learning Session,ONLINE,Workshop
ATTACH;FMTTYPE=image/jpeg:https://nakonhakaucc.ca/wp-content/uploads/2022/12/Nakonhaka-Logo.jpg
ORGANIZER;CN="Rev. Whitman Strong":MAILTO:wstrong@united-church.ca
END:VEVENT
BEGIN:VEVENT
DTSTART;TZID=America/Toronto:20241121T090000
DTEND;TZID=America/Toronto:20241121T120000
DTSTAMP:20260424T035511
CREATED:20240813T152648Z
LAST-MODIFIED:20240813T152648Z
UID:14086-1732179600-1732190400@nakonhakaucc.ca
SUMMARY:Regional Council Executive Meeting - November 2024
DESCRIPTION:
URL:https://nakonhakaucc.ca/event/regional-council-executive-meeting-november-2024/
CATEGORIES:Meeting,ONLINE,RC Executive
ATTACH;FMTTYPE=image/png:https://nakonhakaucc.ca/wp-content/uploads/2019/05/Nakonhaka-Logo.png
END:VEVENT
END:VCALENDAR