BEGIN:VCALENDAR
VERSION:2.0
PRODID:-//Nakonhaka Region 13 - ECPv6.15.20//NONSGML v1.0//EN
CALSCALE:GREGORIAN
METHOD:PUBLISH
X-ORIGINAL-URL:https://nakonhakaucc.ca
X-WR-CALDESC:Events for Nakonhaka Region 13
REFRESH-INTERVAL;VALUE=DURATION:PT1H
X-Robots-Tag:noindex
X-PUBLISHED-TTL:PT1H
BEGIN:VTIMEZONE
TZID:America/Toronto
BEGIN:DAYLIGHT
TZOFFSETFROM:-0500
TZOFFSETTO:-0400
TZNAME:EDT
DTSTART:20210314T070000
END:DAYLIGHT
BEGIN:STANDARD
TZOFFSETFROM:-0400
TZOFFSETTO:-0500
TZNAME:EST
DTSTART:20211107T060000
END:STANDARD
BEGIN:DAYLIGHT
TZOFFSETFROM:-0500
TZOFFSETTO:-0400
TZNAME:EDT
DTSTART:20220313T070000
END:DAYLIGHT
BEGIN:STANDARD
TZOFFSETFROM:-0400
TZOFFSETTO:-0500
TZNAME:EST
DTSTART:20221106T060000
END:STANDARD
BEGIN:DAYLIGHT
TZOFFSETFROM:-0500
TZOFFSETTO:-0400
TZNAME:EDT
DTSTART:20230312T070000
END:DAYLIGHT
BEGIN:STANDARD
TZOFFSETFROM:-0400
TZOFFSETTO:-0500
TZNAME:EST
DTSTART:20231105T060000
END:STANDARD
END:VTIMEZONE
BEGIN:VEVENT
DTSTART;TZID=America/Toronto:20221022T090000
DTEND;TZID=America/Toronto:20221022T120000
DTSTAMP:20260422T222003
CREATED:20221005T185112Z
LAST-MODIFIED:20221006T191658Z
UID:5989-1666429200-1666440000@nakonhakaucc.ca
SUMMARY:M&P Committee Workshop:  October 2022 (online)
DESCRIPTION:This workshop is open to both M&P Committee members and Ministry Personnel in Conseil regional Nakonha:ka\, Eastern Ontario Outaouais and East Central Ontario Regional Councils. \nPre-registration is required to receive Zoom link: \nhttps://united-church.zoom.us/meeting/register/tZ0odumtqTsqHNxfczhD07f_0x_O5rL65xIW \n*******PLEASE SHARE WITH YOUR M&P COMMITTEE AND MINISTRY PERSONNEL *****
URL:https://nakonhakaucc.ca/event/mp-committee-workshop-october-2022-online/
CATEGORIES:Ministry personnel,ONLINE,Workshop
ATTACH;FMTTYPE=image/png:https://nakonhakaucc.ca/wp-content/uploads/2019/05/cropped-Nakonhaka-Logo.png
END:VEVENT
END:VCALENDAR