BEGIN:VCALENDAR
VERSION:2.0
PRODID:-//Nakonhaka Region 13 - ECPv6.15.20//NONSGML v1.0//EN
CALSCALE:GREGORIAN
METHOD:PUBLISH
X-WR-CALNAME:Nakonhaka Region 13
X-ORIGINAL-URL:https://nakonhakaucc.ca
X-WR-CALDESC:Events for Nakonhaka Region 13
REFRESH-INTERVAL;VALUE=DURATION:PT1H
X-Robots-Tag:noindex
X-PUBLISHED-TTL:PT1H
BEGIN:VTIMEZONE
TZID:America/Toronto
BEGIN:DAYLIGHT
TZOFFSETFROM:-0500
TZOFFSETTO:-0400
TZNAME:EDT
DTSTART:20180311T070000
END:DAYLIGHT
BEGIN:STANDARD
TZOFFSETFROM:-0400
TZOFFSETTO:-0500
TZNAME:EST
DTSTART:20181104T060000
END:STANDARD
BEGIN:DAYLIGHT
TZOFFSETFROM:-0500
TZOFFSETTO:-0400
TZNAME:EDT
DTSTART:20190310T070000
END:DAYLIGHT
BEGIN:STANDARD
TZOFFSETFROM:-0400
TZOFFSETTO:-0500
TZNAME:EST
DTSTART:20191103T060000
END:STANDARD
BEGIN:DAYLIGHT
TZOFFSETFROM:-0500
TZOFFSETTO:-0400
TZNAME:EDT
DTSTART:20200308T070000
END:DAYLIGHT
BEGIN:STANDARD
TZOFFSETFROM:-0400
TZOFFSETTO:-0500
TZNAME:EST
DTSTART:20201101T060000
END:STANDARD
BEGIN:DAYLIGHT
TZOFFSETFROM:-0500
TZOFFSETTO:-0400
TZNAME:EDT
DTSTART:20210314T070000
END:DAYLIGHT
BEGIN:STANDARD
TZOFFSETFROM:-0400
TZOFFSETTO:-0500
TZNAME:EST
DTSTART:20211107T060000
END:STANDARD
BEGIN:DAYLIGHT
TZOFFSETFROM:-0500
TZOFFSETTO:-0400
TZNAME:EDT
DTSTART:20220313T070000
END:DAYLIGHT
BEGIN:STANDARD
TZOFFSETFROM:-0400
TZOFFSETTO:-0500
TZNAME:EST
DTSTART:20221106T060000
END:STANDARD
END:VTIMEZONE
BEGIN:VTIMEZONE
TZID:UTC
BEGIN:STANDARD
TZOFFSETFROM:+0000
TZOFFSETTO:+0000
TZNAME:UTC
DTSTART:20180101T000000
END:STANDARD
END:VTIMEZONE
BEGIN:VEVENT
DTSTART;TZID=America/Toronto:20211109T193000
DTEND;TZID=America/Toronto:20211109T210000
DTSTAMP:20260422T174730
CREATED:20211105T174118Z
LAST-MODIFIED:20211105T174118Z
UID:4886-1636486200-1636491600@nakonhakaucc.ca
SUMMARY:Pre-meeting information session about proposals submitted for General Council 44
DESCRIPTION:This pre-meeting information session will present the three proposals which have been submitted for Regional Council review before sending on to General Council. \nThe three proposals address the following topics: \n\nTheological education;\nMembership in United Church through non-congregational communities of faith; and\nRecognition of La Table des ministères en français.\n\nThe information session will be held online. Please contact Judy at jcoffin@united-church.ca for the Zoom link. \n\nDownload the proposals \n\nCG44-PropositionEducationTheologique-E \nCG44-Proposition sur le membership au sein de l’Église Unie du Canada-E \nCG44-Proposition sur la Table des ministères en français-E
URL:https://nakonhakaucc.ca/event/pre-meeting-information-session-about-proposals-submitted-for-general-council-44/
CATEGORIES:ONLINE,Regional Gathering
END:VEVENT
BEGIN:VEVENT
DTSTART;VALUE=DATE:20211001
DTEND;VALUE=DATE:20211101
DTSTAMP:20260422T174730
CREATED:20211020T153816Z
LAST-MODIFIED:20211020T153816Z
UID:4804-1633046400-1635724799@nakonhakaucc.ca
SUMMARY:CLERGY APPRECIATION MONTH
DESCRIPTION:Romans 10:15 – How beautiful are the feet of them that preach the Gospel of Peace and bring glad tidings of good things. \nThe Board of Vocation feels tremendous gratitude for the dedication and commitment of the Ministers who work tirelessly for their communities. We understand and appreciate that it takes many hours of the day to be creative\, steadfast and perform the work that is necessary to fulfil that commitment of creating an atmosphere of peace and love in your church community. We see that this can be difficult in the face of the pandemic and unrest in other parts of the world as it affects us all. We want you to know that we as a board are grateful and send you our prayers in support of your well-being. \nCommunities of faith and pastoral charges are also invited to find creative ways to show their appreciation for their ministry personnel. See the link below for some suggestions. \nLearn more: https://nakonhakaucc.ca/blog/2021/10/18/october-is-clergy-appreciation-month/  
URL:https://nakonhakaucc.ca/event/clergy-appreciation-month/
ATTACH;FMTTYPE=image/jpeg:https://nakonhakaucc.ca/wp-content/uploads/2021/10/OCTOBER-ClergyAppreciation-TimothyEberly-Unsplash.jpg
END:VEVENT
BEGIN:VEVENT
DTSTART;TZID=America/Toronto:20210612T083000
DTEND;TZID=America/Toronto:20210612T120000
DTSTAMP:20260422T174730
CREATED:20210501T154633Z
LAST-MODIFIED:20211001T201906Z
UID:4190-1623486600-1623499200@nakonhakaucc.ca
SUMMARY:Regional Council Gathering-June 2021
DESCRIPTION:Roll the Stone Away / Sewanienhia’karateniat Eh’ren Sewanenhnienha;wit / À nous de rouler la pierre\nThis is our theme for 2021: As the stone is rolled away from the tomb\, beams of sunlight stream inward and a new life—a life beyond death—emerges. As we live through these strange times of struggle and change\, can we emerge from the shadows with a fresh understanding about how to live and share that new life as members of the United Church in the wider world? \n			\n				\n				\n				\n				\n				Registration form\n				\n \n			\n				\n				\n				\n				\n				Agenda (draft)\n				\n\n\n\n8:30-8:45 am \n\n\nCoffee & Conversation \n\n\n\n\n8:45-9:00 am \n\n\nLearning how to vote on Zoom \n\n\n\n\n9:00-9:20 am \n\n\nAcknowledgement/Welcome of the landWelcoming and Opening Prayer(including celebration of Candidates) \n\n\n\n\n9:20-9:35 am \n\n\nCall to Order\, Enabling Motions (omnibus motion)\, ‘Officers’Purpose of the outlined dayDuty of Care and EquityMessage from the Moderator \n\n\n\n\n9:35-9:40 am \n\n\nBreakout Rooms (introductions) \n\n\n\n\n9:40-10:00 am \n\n\nBecoming an Anti-Racist United Church: with Adele Halliday \n\n\n\n\n10:00-10:20 am  \n\n\nBreakout Rooms \n\n\n\n\n10:20-10:40 am \n\n\nBecoming an Anti-Racist United Church: with Adele Halliday \n\n\n\n\n10:40-10:45 am \n\n\nBreak \n\n\n\n\n10:45-11:05 am \n\n\nPrayer & Worship (celebrating the ministries of communities and ministers)  \n\n\n\n\n11:05-11:15 am \n\n\nCOVID Task Group Update \n\n\n\n\n11:15-11:30 am \n\n\nNominations Leadership Team(next executive and commissioners) \n\n\n\n\n11:30-11:40 am \n\n\nAnnual Report Booklet& changes to the handbook \n\n\n\n\n11:40-11:55 am \n\n\n(Room for any changes in the agenda) \n\n\n\n\n11:55-12:25 pm \n\n\nCelebration of Ministry (Retirees & Milestones) (covenanting with commissioners and executive and Leadership Teams) \n\n\n\n\n12:25-12:30 pm \n\n\nClosing (with reminders and enabling motions) \n\n\n\n\n12:30 pm \n\n\nOptional online lunch \n\n\n\n\n  \n			\n				\n				\n				\n				\n				Download documents \n				\nAgenda (draft): 2021-06-12-Agenda-draft\nNominations (GC44 Commissioners*): Nominees-GC44-E-2021-06-12\nNominations (Executive): 2021-06-12-Proposed CrNRC Executive-E\nMessage from Moderator Richard Bott (bilingual video): https://www.youtube.com/watch?v=4vMq2f4kO-o\nAnnual Report Book: 2021_RC 13 AGM_Report Book\nDraft Minutes of Regional Council meeting\, November 21\, 2020: 2020-11-21_General Annual Meeting_Draft\nDraft Minutes of Regional Council meeting\, March 20\, 2021: 2021-03-20_General Annual Meeting_Draft\nMotions for Regional Council meeting\, June 12\, 2021: MOTIONS_DÉCISIONS_AGM_AGA_2021-06-12\n\n  \nLAST MINUTE UPDATES: \n\nMemorial for Mark Rawlings : Memorial Mark Rawlings-E\nAmended Appendix E for Governance Handbook: Amended Appendix E – ENG\n\n  \n*We will be voting for ten (10) GC44 Commissioners:  \n\nOrdered ministry – 4\nLay – 4\nYouth – 1 \nPresident -1\n\n			\n				\n				\n				\n				\n				Presentations\, table group notes and decisions (follow-up from meeting)\n				Presentation by COVID Task Group (Peter Bisset): 2021-05-26-CrNRC-COVID-E2 \n\nAnti-Racism presentation (Adele Halliday)\nQuestions: \n1) What initial reflections would you offer about the principles for becoming an anti-racist denomination?2) How might some of these principles—and the work of becoming anti-racist—be lived out in your community of faith?3) How might markers of White supremacist culture be manifested in your community of faith or other areas of church life? How might some of the antidotes become part of community life?4) Are there any additional reflections? \nBackground information: \nIn the first 20 minutes of the workshop\, we’ll explore some of the principles for becoming an anti-racist denomination. The principles are named in the attached document\, starting on page 3.  \nAfter that\, we’ll explore some of the characteristics of White supremacist culture within our churches\, and by looking at some of the markers and the antidotes. All of the markers are noted here: http://www.cwsworkshop.org/PARC_site_B/dr-culture.html  \nSmall group discussion notes: 2021-06-12-Notes-AntiRacism-TableGroups \nWord cloud based on notes from small group discussions: \n \n\nDecisions: 2021-06-12_General Annual Meeting_Decisions_EN \n			\n			\n				\n				\n				\n				\n			\n				\n				\n				\n				\n				\n				\n				\n				\n				\n				\n				\n			\n			\n				\n				\n				\n				\n				\n				Visit the United Church Bookstore (UCRD)  \n			\n				\n				\n				\n				\n				FollowFollow
URL:https://nakonhakaucc.ca/event/regional-council-gathering-june-2021/
CATEGORIES:ONLINE,Regional Gathering
ATTACH;FMTTYPE=image/png:https://nakonhakaucc.ca/wp-content/uploads/2021/02/RollAwayStone-logo-H.png
ORGANIZER;CN="Rev. Tami Spires":MAILTO:spiresta@hotmail.com
END:VEVENT
BEGIN:VEVENT
DTSTART;TZID=America/Toronto:20210603T130000
DTEND;TZID=America/Toronto:20210603T143000
DTSTAMP:20260422T174731
CREATED:20210527T205320Z
LAST-MODIFIED:20220524T185240Z
UID:4451-1622725200-1622730600@nakonhakaucc.ca
SUMMARY:Doing Online Worship Better
DESCRIPTION:More than a year into a time of physical distancing and closed churches\, we are beginning to look to the future of online ministry\, and the need to continue using technology to reach as many people in our communities of faith as possible. Do you have questions about how to do a Facebook live stream? Do you wonder about what equipment is necessary to have a meaningful hybrid worship experience? Do you want to learn to use ZOOM to its full potential? Join us for a Webinar / Q&A with some of Nakonha:ka’s online worship (in)experts. We can all learn from each other! \nWATCH VIDEO: https://bit.ly/2021-06-03-OnlineWorshipWebinar-video \nPANELISTS / PRESENTATIONS: \n\nShanna Bernier\, Regional Council staff member responsible for Youth and Family Ministries and host of Children’s Church at Home\nRev. Dr. Elisabeth Jones\, Cedar Park United Church: http://bit.ly/2021-06-03-EJones-CPUC-FBLive\nRev. Darla Sloan\, Église Unie Saint-Pierre-Pinguet et Église Unie Sainte-Adèle: DSloan-Présentation Hybrid Worship\nRev. Darryl Macdonald\, Roxboro United Church\nRev. Lee Ann Hogle\, Ayer’s Cliff Magog Georgeville Pastoral Charge\nRev. Kent Chown\, Hudson Pastoral Charge: http://bit.ly/2021-06-03-KChown-Hudson-OnlineWorship\n\n\nNOTE: due to internal file-sharing policies\, links to these presentations may have expired… but the presentations are still available. Please contact Judy at jcoffin@united-church.ca to obtain a new link. Thanks.
URL:https://nakonhakaucc.ca/event/doing-online-worship-better/
CATEGORIES:ONLINE,Technology,Workshop,Worship
ATTACH;FMTTYPE=image/jpeg:https://nakonhakaucc.ca/wp-content/uploads/2021/05/2021-06-03-OnlineWorshipWebinar-image.jpg
ORGANIZER;CN="Shanna Bernier":MAILTO:sbernier@united-church.ca
END:VEVENT
BEGIN:VEVENT
DTSTART;TZID=America/Toronto:20210320T083000
DTEND;TZID=America/Toronto:20210320T120000
DTSTAMP:20260422T174731
CREATED:20210220T133016Z
LAST-MODIFIED:20210419T192712Z
UID:4119-1616229000-1616241600@nakonhakaucc.ca
SUMMARY:Regional Council Winter Gathering 2021
DESCRIPTION:Roll the Stone Away / Sewanienhia’karateniat Eh’ren Sewanenhnienha;wit / À nous de rouler la pierre\nAs the stone is rolled away from the tomb\, beams of sunlight stream inward and a new life—a life beyond death—emerges. As we live through these strange times of struggle and change\, can we emerge from the shadows with a fresh understanding about how to live and share that new life as members of the United Church in the wider world? \n			\n				\n				\n				\n				\n				Registration form\n				\n \n			\n				\n				\n				\n				\n				Agenda (draft)\n				\n\n\n\n8:30-9am \n\n\nCoffee & Conversation(Sign in)***Please be on-line no later than 9:00 a.m.!*** \n\n\n\n\n9:00-9:15 \n\n\nTech Time \n\n\n\n\n9:15-9:35 \n\n\n(Acknowledgement (Welcome) of the land) Welcoming and Opening Prayer \n\n\n\n\n9:35-9:50 \n\n\nCall to Order\, Enabling Motions\, ‘Officers’(Purpose of the outlined day)[Statement on Equity??] \n\n\n\n\n9:50-10:25 \n\n\nMission & Spiritual Development*Saint Columba House (15min)*Montreal City Mission (15min) \n\n\n\n\n10:25-10:30 \n\n\nBreak \n\n\n\n\n10:30-11:05 \n\n\nMission & Spiritual Development*Campus Ministries (15min)*United Theological College (15min) \n\n\n\n\n11:05-11:25 \n\n\nSmall group conversation:“Share some of the ways your COF engages in mission and spiritual development” \n\n\n\n\n11:25-11:35 \n\n\nTransitional Worship \n\n\n\n\n11:30-11:40 \n\n\nCOVID Task Group Update \n\n\n\n\n11:40-11:50 \n\n\nNominations Update \n\n\n\n\n11:50-12:00 \n\n\nClosing Prayer(with reminders and enabling motions) \n\n\n\n\n12:00-1pm \n\n\nOnline Luncheon \n\n\n\n\n			\n				\n				\n				\n				\n				Download documents \n				Agenda: CrNRC Winter 2021 schedule (Draft) \n\nMotions / Decisions (bilingual): 2021-03-20_General Annual Meeting_MOTIONS – DÉCISIONS \n\nCOVID Update (presentation from Peter Bisset): 2021-03-20-CrNRC-COVID19TaskGroupUpdate \n\nVideo clips of other presentations: \n\nIntroduction (Rev. Linda Buchanan)\nSaint Columba House (Lisa Byer-de Wever)\nMontreal City Mission (Rev. Paula Kline)\nConcordia Multi-Faith Spirituality Centre (Rev. Ellie Hummel)\nUnited Theological College (Rev. Dr. Maylanne Maybee)\n\n\nNotes from Breakout Group Discussions: 2021-03-20-GroupDiscussionNotes-final \n \n			\n				\n				\n				\n				\n				BONUS – Activities\nFor those who like to doodle during meetings—or to reflect on a theme in a non-verbal way—please download these activity sheets prepared by Shanna Bernier. \nNature Scavenger Hunt (en-fr)
URL:https://nakonhakaucc.ca/event/regional-council-winter-gathering-2021/
CATEGORIES:ONLINE,Regional Gathering
ATTACH;FMTTYPE=image/png:https://nakonhakaucc.ca/wp-content/uploads/2021/02/RollAwayStone-logo-H.png
ORGANIZER;CN="Rev. Tami Spires":MAILTO:spiresta@hotmail.com
END:VEVENT
BEGIN:VEVENT
DTSTART;TZID=America/Toronto:20201121T083000
DTEND;TZID=America/Toronto:20201121T120000
DTSTAMP:20260422T174731
CREATED:20200616T145655Z
LAST-MODIFIED:20201124T163820Z
UID:3314-1605947400-1605960000@nakonhakaucc.ca
SUMMARY:Regional Council Fall Gathering 2020
DESCRIPTION:Despite being physically distanced\, we continue to be community\, accompanied by our God.  \n			\n				\n				\n				\n				\n				Agenda\n				  \n\n\n\n8:30-9:00\nCoffee Time & Signing in\n\n\n9:00-9:10\nTech Time: Instructions & Clarifications\n\n\n9:10-9:30\nWelcoming and Opening Prayer (Acknowledgement (Welcome) of the land)\n\n\n9:30-9:45\nCall to Order\, Enabling Motions\, intros\, Duty of Care\, etc. (Purpose of the outlined day)\n\n\n9:45-10:05\nGovernance: *2021 Budget (Property & Finance) (20min)\n\n\n10:05-10:15\nGood News in exile\n\n\n10:15-10:35\nSmall Group conversation: *Good News in exile\n\n\n10:35-10:45\nBreak\n\n\n10:45-11:05\nGovernance: *2021 Funding Ministry & Mission (Granting & Enabling) (20min)\n\n\n11:05-11:15\nRemit (10 minutes)\n\n\n11:15-11:20\nUpdate from the COVID Task Group\n\n\n11:20-11:25\nGovernance: *Nomination Team\n\n\n11:25-11:50\nCovenanting with LLWL\n\n\n11:50-12:00\nClosing Prayer (with reminders and enabling motions)\n\n\n12:00 – ???\nOptional online lunch groups\n\n\n\n			\n				\n				\n				\n				\n				Registration form\n				\n \n			\n				\n				\n				\n				\n				Download documents \n				Motions / Decisions: 2020-04-25_General Annual Meeting_Minutes_Session 1 / 2020-05-30_General Annual Meeting_Minutes_Session 2 / 2020-11-21_Decisions and Appendices_Décisions et annexes – v2 \nRegional Council Budget 2021: Region 13 – Draft 2021 Budget – prepared 2020-11-05 \nFinance and Extension Board Budget 2021: 2021 Budget F & E – Draft 2020-10-30 \nGranting & Enabling 2021: budget: GrantsDisbursements-Jan01-Nov20-2020 / presentation: GELT Nov 2020 \nCOVID Response Task Group: NRC COVID19 Task Group Nov Update \nRemit: Remit 1 (Learn more: https://generalcouncil43.ca/council/remit) \nLicensed Lay Worship Leaders: LLWL-2020-2022 \nAdditional documents\nReport from La Table des ministères en français (in French): 2020-11-07-Rapport-LaTable \nReport from Emmanuel College: Emmanuel-Report-F2020 \nPreliminary Communications Survey Results: CommunicationsSurvey-PreliminaryResults-2020-11-08 \nColouring pages / activity sheets (for children\, youth or adults): We Are not alone worksheet \nUPDATES \n2020-11-20Report from United Theological College: UTC Report to Regional Councils Oct 2020 \n2020-11-24: 2020-11-21_Decisions and Appendices_Décisions et annexes_FINAL \n  \nPlease note that French versions of documents are available at https://nakonhakaucc.ca/fr/evenement/rassemblement-dautomne-2020-du-conseil-regional/ \n			\n				\n				\n				\n				\n				BONUS – Food for the Soul\nSome of you have lamented that one of the things you miss most about gathering in person (aside from the people!) is the delicious treats that have been shared over the years. We know this isn’t quite the same\, but a few of our famous bakers have shared their recipes so that you can enjoy those well-loved treats in the comfort of your own home during the meeting. Bon appetit! \n			\n			\n				\n				\n				\n				\n			\n				\n				\n				\n				\n				\n				\n				\n				\n				\n				\n				\n			\n				\n				\n				\n				\n				\n					\n					\n						Shirley Stark's Empire Biscuits\n						Download recipe \n					\n				\n			\n			\n				\n				\n				\n				\n				\n				\n				\n				\n				\n				\n				\n			\n				\n				\n				\n				\n				\n					\n					\n						Cinnamon Rolls with "Dragon" (AKA Mead Baldwin)\n						Watch video (includes recipe)
URL:https://nakonhakaucc.ca/event/crnrc-fall-gathering-2020/
CATEGORIES:ONLINE,Regional Gathering
ATTACH;FMTTYPE=image/png:https://nakonhakaucc.ca/wp-content/uploads/2020/06/WeAreNotAlone-Fall2020-logo.png
ORGANIZER;CN="Rev. Tami Spires":MAILTO:spiresta@hotmail.com
END:VEVENT
BEGIN:VEVENT
DTSTART;TZID=America/Toronto:20200530T090000
DTEND;TZID=America/Toronto:20200530T120000
DTSTAMP:20260422T174731
CREATED:20200129T210241Z
LAST-MODIFIED:20200615T160842Z
UID:2723-1590829200-1590840000@nakonhakaucc.ca
SUMMARY:Conseil régional Nakonha:ka Regional Council Gathering (ONLINE) - Spring 2020
DESCRIPTION:Appelé(e)s à être l’ÉgliseShonkwahonkarawis N’atsitewahteriwanhót’thase Called to be the Church\nIn this time\, more than ever\, we are called to be the church. Elected lay representatives and ministry personnel of Conseil regional Nakonha:ka Regional Council are called to participate in the Spring Regional Council Gathering\, which will be held ONLINE this year\, split into two separate half-day events : \n\nPart 1 – April 25\, 2020 from 9 am to noon\nPart 2 – May 30\, 2020 from 9 am to noon\n\nThe focus of the two meetings will be on existing and developing networks\, and on how communities of faith are coping during the pandemic. Click on boxes below to access information about each part of the meeting. \n\nThanks to Martha Randy for the beautiful photo representing the theme of being called forth. \n			\n				\n				\n				\n				\n				Registration form\n				\n \n			\n				\n				\n				\n				\n				Preview documents for April 25\, 2020\n				April 25\, 2020\n\nAgenda (DRAFT)https://nakonhakaucc.ca/wp-content/uploads/2020/01/CrNRC-Spring-2020-schedule-Draft.docx\nDecisions of November 2019 gathering:2019_11_23_General_Meeting_Minutes_Draft_V2\nupdated Governance Handbookhttps://nakonhakaucc.ca/resources/policies/\nDecisions and referral documents for business portion of meeting:2020-04-25_General Annual Meeting_Minutes_Session 1_Decisions_V2 (updated April 23\, 2020)\n\nPlease also be sure to download and complete expression of interest or nomination forms for positionson Regional Council Executive (or to be a Commissioner at General Council 44). Deadline to apply for Executive positions is May 20: https://nakonhakaucc.ca/resources/nominations/ \n			\n				\n				\n				\n				\n				Preview documents for May 30\, 2020\n				May 30\, 2020\n\nAgenda – Agenda-2020-final\nBios of nominees for GC44 commissioners –Nominees-GC44-E-2020-05-29 (updated May 29\, 2020)\nRegional Council Report Book – 2020_RC 13 AGM_Report Book (updated May 28\, 2020)\nDecisions and referral documents for business portion of meeting – 2020-05-30_General Annual Meeting_Session 2_Decisions_V3 (updated May 28\, 2020)\nOther documents\n\nMemorial – Rev.Dr. E. Leicester Bigby (added May 28\, 2020)\nCommunity and Justice Leadership Team (added May 28\, 2020)\n\n\n\n			\n				\n				\n				\n				\n				Announcements\n				  \n\n\n\n\nOn-line Ministry Support Gatherings\nFirst TUESDAY of the month on Zoom \nA time of prayer and reflection\, of sharing ideas and resources\, and of small group personal sharing \nNext Meeting:  Tuesday\, June 2 at 1:30 pm \nFor more information\, please contact: David-Roger Gagnon   DRGagnon@united-church.ca  \n\n\n\n\nOnline meeting to explore environmental initiatives and partnerships\nMonday June 15 at 1 pm \nFor more information\, please contact: jcoffin@united-church.ca \n\n\n\n\nThe Eco-Commoning Project\nLearn about Eco-Commoning on Thursdays in June with 3\, 90-minute online sessions on commoning\, social innovation and social enterprise! \nJune 11\, June 18\, June 25 from 11:30 am – 1:00 pm \nLEARN MORE: info@communityinnovationhub.org \n\n\n\n\nYAYA Check-in on Zoom\nYouth and young adults are invited every weekday at 3:00 pm  to join Shanna and Dana for conversation\, jokes\, prayer & community. \nContact sbernier@united-church.ca for more info! \n\n\n\n\nBursary Committee \n*applications are due by June 5\, 2020 \nFor more information\, consult the Bursaries resource page \n\n\n\n\nSABBATICAL LEAVE 2021\nDeadline for submitting an application extended to June 19\, 2020. \nThe Finance & Extension Board invites Ministry Personnel within the Nakonha:ka Regional Council to apply for a three months SABBATICAL LEAVE 2021\, a time for reflection\, renewal and new perspectives for ministry. \nFor further information\, please contact Renate Sutherland\, Chair of the Sabbatical Leave Committee\, at 514-695-1970  (email: renate.sutherland@bell.net) or access the Sabbatical Leave resource page to submit a preliminary proposal to the Sabbatical Leave Committee. \n\n\n\n\n			\n				\n				\n				\n				\n				Presentations and table group notes (post-meeting)\n				PRESENTATIONS\n\nProtocols for gradually re-opening church buildings\npresented by Peter Bisset \n\nTABLE GROUP NOTES\n\n\nChurch Responses to COVID-19 \n\n\nConcerns and Ideas about Re-opening Church Buildings (sorted by categories) – updated June 15\, 2020 \n\n\nOther presentations will be posted by mid-June
URL:https://nakonhakaucc.ca/event/conseil-regional-nakonhaka-regional-council-gathering-spring2020/
CATEGORIES:ONLINE,Regional Gathering
ATTACH;FMTTYPE=image/jpeg:https://nakonhakaucc.ca/wp-content/uploads/2020/01/Spring2020-MRandy.jpg
ORGANIZER;CN="Rev. Tami Spires":MAILTO:spiresta@hotmail.com
END:VEVENT
BEGIN:VEVENT
DTSTART;TZID=America/Toronto:20191123T083000
DTEND;TZID=America/Toronto:20191123T160000
DTSTAMP:20260422T174731
CREATED:20190718T201803Z
LAST-MODIFIED:20191128T191534Z
UID:1993-1574497800-1574524800@nakonhakaucc.ca
SUMMARY:Nakonha:ka Regional Council Gathering - Fall 2019
DESCRIPTION:Thanks for joining us on November 23 as we gathered to build new relationships and a shared future as a regional council. \n Documents\n\nAgenda\nMotions from Inaugural Meeting 2019-05-25\nPolicy regarding Decision-Making by Email_RC13\nPolicy regarding Licensing Sacramental Elders_RC13\nPolicy regarding Proceeds From Sale of Property_RC13\nPolicy regarding Travel_RC13\n2020 Budget\n2020 F&E Budget\n2020 Budget – Grants (including list of 2019 disbursements)\n2019 Multiple Grants\nCovenant-LaTable (bilingual)\n\n			\n				Click here for registration form
URL:https://nakonhakaucc.ca/event/nakonhaka-regional-council-gathering/
LOCATION:Summerlea United Church\, 225 - 50e avenue\, Lachine\, QC\, H8T 2T7\, Canada
CATEGORIES:Regional Gathering
ATTACH;FMTTYPE=image/jpeg:https://nakonhakaucc.ca/wp-content/uploads/2019/07/Nakonhaka-Banner-Autumn2019.jpg
ORGANIZER;CN="Rev. Tami Spires":MAILTO:spiresta@hotmail.com
END:VEVENT
BEGIN:VEVENT
DTSTART;TZID=UTC:20190525T090000
DTEND;TZID=UTC:20190525T210000
DTSTAMP:20260422T174731
CREATED:20190511T020535Z
LAST-MODIFIED:20190511T021101Z
UID:1855-1558774800-1558818000@nakonhakaucc.ca
SUMMARY:“Au commencement… / Tiotahsawahkwen… / In the beginning…”
DESCRIPTION:Please mark May 25th in your calendar and plan to join us in St. Lambert for the Nakonha:ka Inaugural Regional Gathering as we start a new day together: a day to honour our past\, celebrate our new beginnings as a region and share visions and dreams for the future. A heartfelt invitation is extended to all ministry personnel and to the lay representatives who will be selected by communities of faith at their annual general meetings\, with a special welcome to any new youth lay representatives from each community of faith who may be joining us for the first time. All are welcome! \n  \nRegistration now available!\nhttp://bit.ly/2019-Nakonhaka-IGM
URL:https://nakonhakaucc.ca/event/au-commencement-tiotahsawahkwen-in-the-beginning/
LOCATION:Église Unie Saint-Lambert United Church\, 85 Boulevard Desaulniers\, Saint-Lambert\, Quebec\, J4P 1L8\, Canada
ATTACH;FMTTYPE=image/jpeg:https://nakonhakaucc.ca/wp-content/uploads/2019/05/inaugural-gathering.jpg
END:VEVENT
END:VCALENDAR