BEGIN:VCALENDAR
VERSION:2.0
PRODID:-//Nakonhaka Region 13 - ECPv6.15.20//NONSGML v1.0//EN
CALSCALE:GREGORIAN
METHOD:PUBLISH
X-ORIGINAL-URL:https://nakonhakaucc.ca
X-WR-CALDESC:Events for Nakonhaka Region 13
REFRESH-INTERVAL;VALUE=DURATION:PT1H
X-Robots-Tag:noindex
X-PUBLISHED-TTL:PT1H
BEGIN:VTIMEZONE
TZID:America/Toronto
BEGIN:DAYLIGHT
TZOFFSETFROM:-0500
TZOFFSETTO:-0400
TZNAME:EDT
DTSTART:20210314T070000
END:DAYLIGHT
BEGIN:STANDARD
TZOFFSETFROM:-0400
TZOFFSETTO:-0500
TZNAME:EST
DTSTART:20211107T060000
END:STANDARD
BEGIN:DAYLIGHT
TZOFFSETFROM:-0500
TZOFFSETTO:-0400
TZNAME:EDT
DTSTART:20220313T070000
END:DAYLIGHT
BEGIN:STANDARD
TZOFFSETFROM:-0400
TZOFFSETTO:-0500
TZNAME:EST
DTSTART:20221106T060000
END:STANDARD
BEGIN:DAYLIGHT
TZOFFSETFROM:-0500
TZOFFSETTO:-0400
TZNAME:EDT
DTSTART:20230312T070000
END:DAYLIGHT
BEGIN:STANDARD
TZOFFSETFROM:-0400
TZOFFSETTO:-0500
TZNAME:EST
DTSTART:20231105T060000
END:STANDARD
END:VTIMEZONE
BEGIN:VEVENT
DTSTART;TZID=America/Toronto:20220223T190000
DTEND;TZID=America/Toronto:20220223T203000
DTSTAMP:20260423T150749
CREATED:20220211T223108Z
LAST-MODIFIED:20220307T231003Z
UID:5125-1645642800-1645648200@nakonhakaucc.ca
SUMMARY:Online learning opportunity: UPRC and property stewardship
DESCRIPTION:Join us for an online learning opportunity with a video prepared by United Property Resource Corporation (UPRC) and a discussion about the stewardship and potential redevelopment of our church buildings and other property resources\, facilitated by Executive Minister\, Rev. Rosemary Lambie. \nThe call of UPRC is “to be a trusted partner and leader\, working collaboratively to build diverse affordable\, sustainable communities where all can live\, gather and thrive.”  \n			\n			\n				\n				\n				\n				\n			\n				\n				\n				\n				\n				\n				\n				\n				\n				\n				\n				Recording now available\nFor those who weren’t able to join us\, or would like to share the resources with someone else\, the link to the recording of the session is now available.  \n			\n				\n				\n				\n				\n				\n			\n				Watch the recording\n			\n			\n				\n				\n				\n				\n				\n				\n				\n				\n				\n				Your opinion matters!\nIf you attended the learning session (or if you were unable to attend but would like to share some thoughts) please take two minutes to complete this short survey. \n			\n				Share your feedback
URL:https://nakonhakaucc.ca/event/online-learning-opportunity-uprc-and-property-stewardship/
ATTACH;FMTTYPE=image/jpeg:https://nakonhakaucc.ca/wp-content/uploads/2022/02/UPRC-event-photo1a.jpg
END:VEVENT
END:VCALENDAR