BEGIN:VCALENDAR
VERSION:2.0
PRODID:-//Nakonhaka Region 13 - ECPv6.15.20//NONSGML v1.0//EN
CALSCALE:GREGORIAN
METHOD:PUBLISH
X-WR-CALNAME:Nakonhaka Region 13
X-ORIGINAL-URL:https://nakonhakaucc.ca
X-WR-CALDESC:Events for Nakonhaka Region 13
REFRESH-INTERVAL;VALUE=DURATION:PT1H
X-Robots-Tag:noindex
X-PUBLISHED-TTL:PT1H
BEGIN:VTIMEZONE
TZID:America/Toronto
BEGIN:DAYLIGHT
TZOFFSETFROM:-0500
TZOFFSETTO:-0400
TZNAME:EDT
DTSTART:20210314T070000
END:DAYLIGHT
BEGIN:STANDARD
TZOFFSETFROM:-0400
TZOFFSETTO:-0500
TZNAME:EST
DTSTART:20211107T060000
END:STANDARD
BEGIN:DAYLIGHT
TZOFFSETFROM:-0500
TZOFFSETTO:-0400
TZNAME:EDT
DTSTART:20220313T070000
END:DAYLIGHT
BEGIN:STANDARD
TZOFFSETFROM:-0400
TZOFFSETTO:-0500
TZNAME:EST
DTSTART:20221106T060000
END:STANDARD
BEGIN:DAYLIGHT
TZOFFSETFROM:-0500
TZOFFSETTO:-0400
TZNAME:EDT
DTSTART:20230312T070000
END:DAYLIGHT
BEGIN:STANDARD
TZOFFSETFROM:-0400
TZOFFSETTO:-0500
TZNAME:EST
DTSTART:20231105T060000
END:STANDARD
END:VTIMEZONE
BEGIN:VEVENT
DTSTART;TZID=America/Toronto:20220301T180000
DTEND;TZID=America/Toronto:20220301T200000
DTSTAMP:20260423T132221
CREATED:20220223T223849Z
LAST-MODIFIED:20220922T160329Z
UID:5171-1646157600-1646164800@nakonhakaucc.ca
SUMMARY:Shrove Tuesday Online Pancake Supper (Beaconsfield\, Riverside\, Merging Waters)
DESCRIPTION:
URL:https://nakonhakaucc.ca/event/shrove-tuesday-online-pancake-supper-beaconsfield-riverside-merging-waters/
CATEGORIES:Adults of all ages,Meal,ONLINE,Seasonal,Seniors,Youth and Young Adult
ATTACH;FMTTYPE=image/jpeg:https://nakonhakaucc.ca/wp-content/uploads/2022/02/2022-ShroveTuesday-scaled.jpg
ORGANIZER;CN="Beaconsfield United Church":MAILTO:community@beaconsfieldunitedchurch.ca
END:VEVENT
BEGIN:VEVENT
DTSTART;TZID=America/Toronto:20220302T190000
DTEND;TZID=America/Toronto:20220302T203000
DTSTAMP:20260423T132221
CREATED:20220223T223418Z
LAST-MODIFIED:20220922T160311Z
UID:5164-1646247600-1646253000@nakonhakaucc.ca
SUMMARY:Ash Wednesday 2022 (Riverside\, Beaconsfield\, Merging Waters)
DESCRIPTION:
URL:https://nakonhakaucc.ca/event/ash-wednesday-2022-riverside-beaconsfield-merging-waters/
CATEGORIES:ONLINE,Worship
ATTACH;FMTTYPE=image/jpeg:https://nakonhakaucc.ca/wp-content/uploads/2022/02/2022-AshWednesday-scaled.jpg
ORGANIZER;CN="Riverside United Church":MAILTO:info.joyfulconnections@gmail.com
END:VEVENT
BEGIN:VEVENT
DTSTART;TZID=America/Toronto:20220311T183000
DTEND;TZID=America/Toronto:20220312T123000
DTSTAMP:20260423T132221
CREATED:20210709T164501Z
LAST-MODIFIED:20220324T171740Z
UID:4570-1647023400-1647088200@nakonhakaucc.ca
SUMMARY:Regional Council Gathering-March 2022
DESCRIPTION:The theme of upcoming Regional Council meetings (in March\, June and November 2022) will be based on the new call and vision statements of the United Church of Canada: https://united-church.ca/community-and-faith/welcome-united-church-canada/our-call-and-our-vision. \nThe March gathering will focus on bold discipleship. Rev. Wendy Evans will be our guest speaker\, offering some reflections and opportunities to engage with questions of how faith and environment intersect. \nThere will be a pre-meeting learning opportunity on Wednesday\, February 23 to view a video prepared by United Property Resource Corporation (UPRC) and share discussions about the stewardship of property in the context of our ministries. Learn more and register for this event at: https://nakonhakaucc.ca/event/online-learning-opportunity-uprc-and-property-stewardship/ \nREMINDER – Presentations and reportsLeadership teams are each asked to prepare a clear\, concise and uplifting 5-minute presentation about how their team is living into bold discipleship. (Since timing will be strictly observed\, preparing a script and rehearsing the presentation is highly recommended.) Presentations are due before March 9. \nWritten reports (maximum 1.5 pages) from leadership teams for the annual report book should be submitted to Joel Miller by February 14\, 2022 at jmiller@united-church.ca.  \nSAVE THE DATES: \n\nFebruary 23 (Wednesday\, 7:00 pm) Pre-meeting learning opportunity (Property)\nMarch 11 (Friday\, 6:30 pm) AND March 12 (Saturday\, 9:00 am) – Regional Council Gathering\n\n			\n				\n				\n				\n				\n				Registration form\n				\n \n			\n				\n				\n				\n				\n				Agenda (draft)\n				WINTER MEETING 2022 – Bold Discipleship \n  \n\n\n\n\nFriday\, March 11\, 2022 (6:45-8:45pm) \n\n\n\n\n6:30 \n\n\nSign in/ Registration \n\n\n\n\n6:45 \n\n\nThe words before all words: Acknowledgement (Welcome) of the land \nPrayer of Thanksgiving & Opening Worship \n\n\n\n\n7:00 \n\n\nCall to Order\, Enabling Motions\, Officers  \n[Duty of Care and Equity]\n\n\n\n7:20 \n\n\nReport from \n·       President Rev. Linda Buchanan (5min) \n·       Executive Minister Rev. Rosemary Lambie (5min) \n\n\n\n\n7:35 \n\n\nKeynote Speaker & Breakout Rooms \n\n\n\n\n8:05 \n\n\nCOVID Task Group Update \n\n\n\n\n8:10 \n\n\nReport from \n·       Regional Meeting Planning Leadership Team (5min) \n·       Youth and Family Leadership Team (5min) \n·       La Table des ministères en français (5min) \n\n\n\n\n8:30 \n\n\nGood-night blessing \n\n\n\n\n                                                         \n\n\n\n\nSaturday\, March 12\, 2022 (9am-12pm) \n\n\n\n\n8:45 \n\n\nCoffee & Conversation (Sign in/ Registration) \n\n\n\n\n9:00 \n\n\nMorning Blessing & Covenanting \n\n\n\n\n9:20 \n\n\nReport from \n·       Pastoral Relations Leadership Team (5min) \n·       Licensed Lay Worship Leaders Leadership Team (5min) \n·       Nominations Leadership Team (5min) \n\n\n\n\n9:40 \n\n\nReport from \n·       Community and Justice Leadership Team (5min) \n·       Montreal City Mission (5min) \n·       Saint Columba House (5min) \n\n\n\n\n10:00 \n\n\nKeynote Speaker & Breakout Rooms \n\n\n\n\n10:35 \n\n\nBreak \n\n\n\n\n10:40 \n\n\nMinister Supporting Networks & Clusters’ Report \n·       United Church of Canada Women Network \n·       Living into Right Relations Leadership Circle \n·       Green Network \n·       Pride & Friends Network \n\n\n\n\n11:05 \n\n\nReport from \n·       Granting and Enabling Leadership Team (5min) \n·       Property & Finance Leadership Team (5min) \n·       Finance & Extension Board\, President’s Report (5min) \n\n\n\n\n11:25 \n\n\nVote to adopt \n·       The Annual Report Book 2021 \n·       The updated Governance handbook \n\n\n\n\n11:30 \n\n\nCommissioners GC44 Update (Leading Elder: Linda) \n\n\n\n\n11:35 \n\n\nClosing worship \n\n\n\n\n11:50 \n\n\nEquity Team \n\n\n\n\n11:55 \n\n\nClosing (with reminders and enabling motions) \n\n\n\n\n  \nDownload PDF: 2022-03-11-12-Agenda-E \n			\n				\n				\n				\n				\n				Download documents \n				  \nUPDATED 2022-03-09 – MOTIONS_GM_11-12-03-2022_V3 \nAppendix A: 2021-11-12-13_Annual General Meeting_MINUTES_EN_Draft \nUPDATED 2022-03-11 Appendix B:2021-CrNRC-Report Book AND 2022-03-11 Rapport de la Table des ministères en français au Conseil régional Nakonhaka – EN \nAppendix C: Terms of Reference of the Executive (Feb. 2022) \nAppendix D: Agreement_LLWL\, RC and MIF_EN \nAppendix E: Compensation for Pulpit Supply Policy \n  \n			\n			\n				\n				\n				\n				\n			\n				\n				\n				\n				\n				\n				\n				\n				\n				\n				\n				\n			\n			\n				\n				\n				\n				\n				\n				\n				\n				\n				\n				ACTIVITY SHEET\nSome people find it easier to concentrate or to reflect more deeply when they have an activity to keep their hands busy during an online meeting. Hoping that this activity sheet prepared by Shanna Bernier will help you engage in creative ways with our theme of Bold Discipleship. \nWhen you are done\, feel free to snap a photo of your completed sheet and send it to jcoffin@united-church.ca to create a shared collage. \n			\n				Download the activity sheet\n			\n			\n				\n				\n				\n				\n			\n				\n				\n				\n				\n				\n				\n				\n				\n				\n				\n				Final documents and additional resources (follow-up from meeting)\n				Decisions and Updated Governance Handbook\n\nMOTIONS_GM_11-12-03-2022_FINAL (also found on web page for Resources – Minutes and Reports)\nGovernance Handbook (Version March 12\, 2022) (also found on web page for Resources – Polices and Forms)\n\nKeynote: Bold in the Body (Rev. Wendy Evans)\nFriday evening: https://bit.ly/2022-03-11-RevWEvans-Keynote-FriSaturday morning: https://bit.ly/2022-03-12-RevWEvans-Keynote-Sat \n\nVideo: ’One’ by Birdtalker: https://www.youtube.com/watch?v=Odlw8WdsZS8 \nVideo: ‘Earthrise’ by Amanda Gorman: https://www.youtube.com/watch?v=xwOvBv8RLmo\nText of Earthrise poem: https://www.sierraclub.org/los-padres/blog/2021/02/earthrise-poem-amanda-gorman\nWebsite resources:\n\nGreenFaith: https://greenfaith.org\nFor the love of creation: https://fortheloveofcreation.ca\nWatershed Discipleship: https://watersheddiscipleship.org\nSenior Stewards Acting for the Environment: https://seniorstewardsactingfortheenvironment.org\nThe All We Can Save Project: https://www.allwecansave.earth\nThe BTS centre:  https://thebtscenter.org\nBooks:\n\nBraiding Sweetgrass: Indigenous Wisdom\, Scientific Knowledge and the Teachings of Plants – By Robin Wall Kimmerer\nRooted & Rising: Voices of Courage in a Time of Climate Crisis – Edited by Leah D Schade and Margaret Bullit-Jonas\nAll We Can Save: Truth\, Courage\, and Solutions for the Climate Crisis – Edited by Anyone Elizabeth Johnson & Katharine K. Wilkinson\nFrom What is to What If: Unleashing the Power of Imagination to create the future we want – By Rob Hopkins\n\nReflections: Bold Discipleship (Ben Ryan)\n\nBoldDiscipleship-BenRyan (DOC)\n\nPresentations\n\nUCW Presentation (PPT)\nEnvironment Network Presentation (PDF)
URL:https://nakonhakaucc.ca/event/regional-council-gathering-march-2022/
CATEGORIES:ONLINE,Regional Gathering
ATTACH;FMTTYPE=image/jpeg:https://nakonhakaucc.ca/wp-content/uploads/2021/07/2022-BoldDiscipleship-update.jpg
ORGANIZER;CN="Rev. Tami Spires":MAILTO:spiresta@hotmail.com
END:VEVENT
BEGIN:VEVENT
DTSTART;TZID=America/Toronto:20220314T190000
DTEND;TZID=America/Toronto:20220314T190000
DTSTAMP:20260423T132221
CREATED:20220310T163248Z
LAST-MODIFIED:20220310T163248Z
UID:5240-1647284400-1647284400@nakonhakaucc.ca
SUMMARY:LIRR - Adrian Jacobs Speaks: Treaties\, United Church Apologies and the Work of Restoring Indigenous Languages and Identity at Sandy-Saulteaux Spiritual Centre
DESCRIPTION:(sponsored by Living into Right Relations Leadership Circle of Conseil régional Nakonha:ka Regional Council)\nEmail: rightrelationsnakonhaka@gmail.com for Zoom link
URL:https://nakonhakaucc.ca/event/lirr-adrian-jacobs-speaks-treaties-united-church-apologies-and-the-work-of-restoring-indigenous-languages-and-identity-at-sandy-saulteaux-spiritual-centre/
CATEGORIES:Adults of all ages,ONLINE,Right Relations,Seniors,Webinar,Youth and Young Adult
ATTACH;FMTTYPE=image/jpeg:https://nakonhakaucc.ca/wp-content/uploads/2022/03/2022-03-14-LIRR-AdrianJacobs.jpg
ORGANIZER;CN="Living Into Right Relation":MAILTO:rightrelationsnakonhaka@gmail.com
END:VEVENT
BEGIN:VEVENT
DTSTART;TZID=America/Toronto:20220330T110000
DTEND;TZID=America/Toronto:20220330T120000
DTSTAMP:20260423T132221
CREATED:20220317T165228Z
LAST-MODIFIED:20220922T160253Z
UID:5291-1648638000-1648641600@nakonhakaucc.ca
SUMMARY:GreenFaith Montreal - planning meeting - March 2022
DESCRIPTION:SAVE THE DATE: Monday\, April 25\, 2022 (around noon) for an in-person event in St. James Square in support of GreenFaith Sacred Seasons (https://greenfaith.org/sacred-season/). The timing overlaps with the start of Easter season\, the final days of Ramadan\, and having just finished the celebration of Passover and Earth Day – and so climate justice/earth day themes could be reflected on in the context of these high holy seasons. If you aren’t able to be there on the actual day\, any input you would still want to offer to the planning will be very appreciated! A planning session (on Zoom) for the event is scheduled for March 30\, 2022 at 11:00 am.  \nContact Rev. Wendy Evans (email below) for Zoom link. 
URL:https://nakonhakaucc.ca/event/greenfaith-montreal-planning-meeting-march-2022/
CATEGORIES:Adults of all ages,Climate Justice,Environment,Interfaith,Meeting,ONLINE,Seniors,Youth and Young Adult
ATTACH;FMTTYPE=image/jpeg:https://nakonhakaucc.ca/wp-content/uploads/2022/03/GreenFaith-logo.jpg
ORGANIZER;CN="GreenFaith Montreal":MAILTO:greenfaithmontreal@gmail.com
END:VEVENT
END:VCALENDAR