BEGIN:VCALENDAR
VERSION:2.0
PRODID:-//Nakonhaka Region 13 - ECPv6.15.20//NONSGML v1.0//EN
CALSCALE:GREGORIAN
METHOD:PUBLISH
X-WR-CALNAME:Nakonhaka Region 13
X-ORIGINAL-URL:https://nakonhakaucc.ca
X-WR-CALDESC:Events for Nakonhaka Region 13
REFRESH-INTERVAL;VALUE=DURATION:PT1H
X-Robots-Tag:noindex
X-PUBLISHED-TTL:PT1H
BEGIN:VTIMEZONE
TZID:America/Toronto
BEGIN:DAYLIGHT
TZOFFSETFROM:-0500
TZOFFSETTO:-0400
TZNAME:EDT
DTSTART:20220313T070000
END:DAYLIGHT
BEGIN:STANDARD
TZOFFSETFROM:-0400
TZOFFSETTO:-0500
TZNAME:EST
DTSTART:20221106T060000
END:STANDARD
BEGIN:DAYLIGHT
TZOFFSETFROM:-0500
TZOFFSETTO:-0400
TZNAME:EDT
DTSTART:20230312T070000
END:DAYLIGHT
BEGIN:STANDARD
TZOFFSETFROM:-0400
TZOFFSETTO:-0500
TZNAME:EST
DTSTART:20231105T060000
END:STANDARD
BEGIN:DAYLIGHT
TZOFFSETFROM:-0500
TZOFFSETTO:-0400
TZNAME:EDT
DTSTART:20240310T070000
END:DAYLIGHT
BEGIN:STANDARD
TZOFFSETFROM:-0400
TZOFFSETTO:-0500
TZNAME:EST
DTSTART:20241103T060000
END:STANDARD
END:VTIMEZONE
BEGIN:VEVENT
DTSTART;TZID=America/Toronto:20230502T133000
DTEND;TZID=America/Toronto:20230502T143000
DTSTAMP:20260422T045553
CREATED:20221219T154736Z
LAST-MODIFIED:20221219T154736Z
UID:6416-1683034200-1683037800@nakonhakaucc.ca
SUMMARY:Online Clergy Support Circle
DESCRIPTION:Contact Rev. Dan Hayward for Zoom link.
URL:https://nakonhakaucc.ca/event/online-clergy-support-circle-5/
CATEGORIES:Ministry personnel,ONLINE,Support Group
ATTACH;FMTTYPE=image/png:https://nakonhakaucc.ca/wp-content/uploads/2019/05/Nakonhaka-Logo.png
ORGANIZER;CN="Rev. Dan Hayward":MAILTO:dhayward@united-church.ca
END:VEVENT
BEGIN:VEVENT
DTSTART;TZID=America/Toronto:20230503T190000
DTEND;TZID=America/Toronto:20230503T210000
DTSTAMP:20260422T045553
CREATED:20230213T145434Z
LAST-MODIFIED:20230213T145437Z
UID:6700-1683140400-1683147600@nakonhakaucc.ca
SUMMARY:Healthy Church – Happy Church: Bridges & Roadblocks to Good Communication (online workshop)
DESCRIPTION:Good communication is vital to the health and well being of a Community of Faith. This workshop will help you identify some of the roadblocks that can lead to full-blown conflict\, as well as pathways to a healthier future. this workshop is intended for Ministry Personnel\, M&P Committee members\, members of your Council/Board\, and anyone else interested in learning more about shaping healthier relationships. \nPlease register in advance for this meeting. After registering\, you will receive a confirmation email containing information about joining the meeting. \n			\n				Register in advance\n			\n				\n				\n				\n				\n				For information about other workshops for 2023: https://nakonhakaucc.ca/blog/2023/02/13/ministry-and-personnel-workshops-2023/
URL:https://nakonhakaucc.ca/event/healthy-church-happy-church-bridges-roadblocks-to-good-communication-online-workshop/
CATEGORIES:Ministry personnel,ONLINE,Workshop
ATTACH;FMTTYPE=image/png:https://nakonhakaucc.ca/wp-content/uploads/2023/02/Ministry-Personnel-1.png
ORGANIZER;CN="Rev. Whitman Strong":MAILTO:wstrong@united-church.ca
END:VEVENT
BEGIN:VEVENT
DTSTART;TZID=America/Toronto:20230506T080000
DTEND;TZID=America/Toronto:20230506T130000
DTSTAMP:20260422T045554
CREATED:20230501T145557Z
LAST-MODIFIED:20230501T145557Z
UID:7315-1683360000-1683378000@nakonhakaucc.ca
SUMMARY:GARAGE SALE (Mount Bruno)
DESCRIPTION:If you are looking for Bits and Pieces\nCome Tour Our\nGARAGE SALE\nSaturday\, May 6\, 2023 from 08h to 13h\nMount Bruno / Richelieu Valley United Church\n25 Lakeview\, St-Bruno de Montarville\, J3V 2L4 \nConsult With The\nBICYCLE WORKSHOP & MAINTENANCE ADVISOR\nBrowse through the kitchen items\, lamps\, small furniture\, toys and games\, bric a brac\, jewelry\, books\, yard tools\, sports gear\, bicycles\, tricycles\, as well as push cycles and baby gear. \nIf you have items to donate\, goods may be received\,\nFriday\, May 5th\, 2023\, from 10 am. to 4 pm.\n(we cannot accept clothing\, plush toys\, electronics or big furniture.)
URL:https://nakonhakaucc.ca/event/garage-sale-mount-bruno/
LOCATION:Mount Bruno United Church\, 25 Rue Lakeview\, Saint-Bruno-de-Montarville\, QC\, J3V 2L4\, Canada
CATEGORIES:Fundraiser
ATTACH;FMTTYPE=image/png:https://nakonhakaucc.ca/wp-content/uploads/2023/05/2023-05-06-GarageSale-MountBruno.png
END:VEVENT
BEGIN:VEVENT
DTSTART;TZID=America/Toronto:20230506T090000
DTEND;TZID=America/Toronto:20230506T120000
DTSTAMP:20260422T045554
CREATED:20230501T174004Z
LAST-MODIFIED:20230501T174004Z
UID:7299-1683363600-1683374400@nakonhakaucc.ca
SUMMARY:Spring Rummage Sale & Bake Sale
DESCRIPTION:Sale of used clothing and accessories\, books\, toys\, puzzles\, household items\, kitchenware\, jewellery\, office furniture\, tools and more. A Bake Table will offer a wonderful variety of homemade baked goodies.
URL:https://nakonhakaucc.ca/event/spring-rummage-sale-bake-sale/
LOCATION:Valois United Church\, 70 Belmont Avenue\, Pointe Claire\, Quebec\, H9R 2N5\, Canada
CATEGORIES:Fundraiser
ORGANIZER;CN="Valois United UCW":MAILTO:kaner@colba.net
END:VEVENT
BEGIN:VEVENT
DTSTART;TZID=America/Toronto:20230517T190000
DTEND;TZID=America/Toronto:20230517T210000
DTSTAMP:20260422T045554
CREATED:20230213T145558Z
LAST-MODIFIED:20230213T153353Z
UID:6704-1684350000-1684357200@nakonhakaucc.ca
SUMMARY:Conducting Annual Evaluations of Staff and Programs (online workshop)
DESCRIPTION:How can you know that your Community of Faith is on the intended path if you never review and re-evaluate the mission and ministry taking place in your congregation? How can church leaders – ministry personnel and lay leadership alike – know if they are on the right path? This workshop is intended for members of the Ministry & Personnel Committee\, as well as Ministry Personnel and those in congregational leadership. You will be introduced to some tools that will help both the congregation and its minister to intentionally review where you have been and where you wish to go in the future. \nPlease register in advance for this meeting. After registering\, you will receive a confirmation email containing information about joining the meeting. \n			\n				Register in advance\n			\n				\n				\n				\n				\n				For information about other workshops for 2023: https://nakonhakaucc.ca/blog/2023/02/13/ministry-and-personnel-workshops-2023/
URL:https://nakonhakaucc.ca/event/conducting-annual-evaluations-of-staff-and-programs-online-workshop/
CATEGORIES:Ministry personnel,ONLINE,Workshop
ATTACH;FMTTYPE=image/png:https://nakonhakaucc.ca/wp-content/uploads/2023/02/Ministry-Personnel-1.png
ORGANIZER;CN="Rev. Whitman Strong":MAILTO:wstrong@united-church.ca
END:VEVENT
BEGIN:VEVENT
DTSTART;TZID=America/Toronto:20230522T100000
DTEND;TZID=America/Toronto:20230522T130000
DTSTAMP:20260422T045554
CREATED:20230504T123710Z
LAST-MODIFIED:20230516T165426Z
UID:7339-1684749600-1684760400@nakonhakaucc.ca
SUMMARY:11th Annual Interfaith Eco-Action Day
DESCRIPTION:We will be doing clean-up in Verdun in the Parc Monseigneur J. A. Richard. Families welcome. Please bring a picnic lunch and enjoy this lovely area.\nJoin friends old and new to clean and beautify a Montreal park in a spirit of interfaith encounter and solidarity.
URL:https://nakonhakaucc.ca/event/11th-annual-interfaith-eco-action-day/
LOCATION:Parc Monseigneur-J.-A.-Richard\, 5150\, boulevard LaSalle\, Montréal\, QC\, H4G 3G2\, Canada
CATEGORIES:Community event,Environment
ATTACH;FMTTYPE=image/jpeg:https://nakonhakaucc.ca/wp-content/uploads/2023/05/2023-05-23-EcoActionDay-E.jpg
ORGANIZER;CN="Christian Jewish Dialogue of Montreal /Dialogue Jud%C3%A9o-Chr%C3%A9tien de Montr%C3%A9al":MAILTO:rabbiegreenspan@outlook.com
END:VEVENT
END:VCALENDAR