BEGIN:VCALENDAR
VERSION:2.0
PRODID:-//Nakonhaka Region 13 - ECPv6.15.20//NONSGML v1.0//EN
CALSCALE:GREGORIAN
METHOD:PUBLISH
X-WR-CALNAME:Nakonhaka Region 13
X-ORIGINAL-URL:https://nakonhakaucc.ca
X-WR-CALDESC:Events for Nakonhaka Region 13
REFRESH-INTERVAL;VALUE=DURATION:PT1H
X-Robots-Tag:noindex
X-PUBLISHED-TTL:PT1H
BEGIN:VTIMEZONE
TZID:America/Toronto
BEGIN:DAYLIGHT
TZOFFSETFROM:-0500
TZOFFSETTO:-0400
TZNAME:EDT
DTSTART:20220313T070000
END:DAYLIGHT
BEGIN:STANDARD
TZOFFSETFROM:-0400
TZOFFSETTO:-0500
TZNAME:EST
DTSTART:20221106T060000
END:STANDARD
BEGIN:DAYLIGHT
TZOFFSETFROM:-0500
TZOFFSETTO:-0400
TZNAME:EDT
DTSTART:20230312T070000
END:DAYLIGHT
BEGIN:STANDARD
TZOFFSETFROM:-0400
TZOFFSETTO:-0500
TZNAME:EST
DTSTART:20231105T060000
END:STANDARD
BEGIN:DAYLIGHT
TZOFFSETFROM:-0500
TZOFFSETTO:-0400
TZNAME:EDT
DTSTART:20240310T070000
END:DAYLIGHT
BEGIN:STANDARD
TZOFFSETFROM:-0400
TZOFFSETTO:-0500
TZNAME:EST
DTSTART:20241103T060000
END:STANDARD
END:VTIMEZONE
BEGIN:VEVENT
DTSTART;TZID=America/Toronto:20231101T190000
DTEND;TZID=America/Toronto:20231101T190000
DTSTAMP:20260419T120723
CREATED:20231026T135333Z
LAST-MODIFIED:20231026T135407Z
UID:8299-1698865200-1698865200@nakonhakaucc.ca
SUMMARY:Relationship building and reconciliation
DESCRIPTION:(in person or by Zoom – see link on poster)
URL:https://nakonhakaucc.ca/event/relationship-building-and-reconciliation/
LOCATION:Boyd Museum\, 21 Canal Street\, Bobcaygeon\, ON\, Canada
CATEGORIES:Book launch,ONLINE,Right Relations
ATTACH;FMTTYPE=image/jpeg:https://nakonhakaucc.ca/wp-content/uploads/2023/10/2023-11-MeetingTreatyKin.jpg
ORGANIZER;CN="Rev. Rodney Smith-Merkley":MAILTO:RSMerkley@united-church.ca
END:VEVENT
BEGIN:VEVENT
DTSTART;VALUE=DATE:20231103
DTEND;VALUE=DATE:20231106
DTSTAMP:20260419T120723
CREATED:20231020T141924Z
LAST-MODIFIED:20231020T144426Z
UID:8267-1698969600-1699228799@nakonhakaucc.ca
SUMMARY:Youth Forum - November 2023
DESCRIPTION:Join us for a Youth Forum on building bridges of understanding between Christians and Muslims. We will learn about the Islamic faith\, and take a field trip to a local Mosque. We hope to learn\, make new connections\, and begin to dismantle some of the discrimination and Islamophobia that are present in our society. \nYouth Forum is a weekend retreat for high-school & CEGEP aged youth. This is a youth-centred event. Youth Forum is led and organized by young people. \nEveryone is welcome at Youth Forum. It is organized by a Protestant\, Christian Church\, however people of all faiths or no faith are always welcome. \nCost: 60$ (If you cannot pay\, please speak to Shanna – cost should not be a barrier) \nRegistration: https://forms.gle/6K6tnsjypNUbA5Go8\nFacebook event: https://www.facebook.com/events/885230612961477 \nThis is an event sponsored by the Conseil régional Nakonha:ka Regional Council of The United Church of Canada.
URL:https://nakonhakaucc.ca/event/youth-forum-november-2023/
LOCATION:Plymouth-Trinity United Church\, 380 Dufferin\, Sherbrooke\, Quebec\, J1H 4M7
CATEGORIES:Retreat,Youth and Young Adult
ATTACH;FMTTYPE=image/jpeg:https://nakonhakaucc.ca/wp-content/uploads/2023/10/2023-11-YouthForum-E.jpg
ORGANIZER;CN="Shanna Bernier":MAILTO:sbernier@united-church.ca
END:VEVENT
BEGIN:VEVENT
DTSTART;TZID=America/Toronto:20231111T093000
DTEND;TZID=America/Toronto:20231111T140000
DTSTAMP:20260419T120723
CREATED:20231020T134352Z
LAST-MODIFIED:20231020T134352Z
UID:8263-1699695000-1699711200@nakonhakaucc.ca
SUMMARY:Bazaar
DESCRIPTION:Bazaar with home baked goods\, home-cooked frozen meals from our chefs kitchen\, handicrafts\,  sewing and knitting\, fleamarket\, discriminating discards\, jewelry\,  books and much more. Come shopping with us!
URL:https://nakonhakaucc.ca/event/bazaar/
LOCATION:Roxboro United Church\, 116 Cartier\, Roxboro\, Quebec\, H8Y 1G8\, Canada
CATEGORIES:Community event
ATTACH;FMTTYPE=image/jpeg:https://nakonhakaucc.ca/wp-content/uploads/2023/10/Screenshot_20231019_182555_Google.jpg
ORGANIZER;CN="Roxboro United Church UCW":MAILTO:Ruc_office@yahoo.ca
END:VEVENT
BEGIN:VEVENT
DTSTART;TZID=America/Toronto:20231112T140000
DTEND;TZID=America/Toronto:20231112T170000
DTSTAMP:20260419T120723
CREATED:20231011T192622Z
LAST-MODIFIED:20231011T192622Z
UID:8198-1699797600-1699808400@nakonhakaucc.ca
SUMMARY:Covenanting Service of Wesley United Church and Rev. Cynthia Reynolds
DESCRIPTION:You are all warmly welcome to join us for a Covenanting Service between Wesley United Church and Rev. Cynthia Reynolds. Along with guest preacher Rev. Mark Hammond\, we hope you will be able to celebrate with us the beginning of this new journey of spirit and ministry. Refreshments and a small reception will follow the service. \n  \nDetails: \nDate and time: November 12\, 2023 @2:00pm \nLocation: Wesley United Church \n5964 Av. Notre-Dame-de-Grâce\, Montréal\, QC\, H4A 1N1  \nContact: wesleyunitedchurch@gmail.com \n*Zoom link available upon email request \nPlease RSVP is possible
URL:https://nakonhakaucc.ca/event/covenanting-service-of-wesley-united-church-and-rev-cynthia-reynolds/
LOCATION:Wesley United Church (Montreal)\, 5964 Av. Notre-Dame-de-Grâce\, Montréal\, QC\, H4A 1N1 \, Canada
CATEGORIES:Celebration of ministry,Ministry personnel,Worship
ATTACH;FMTTYPE=image/jpeg:https://nakonhakaucc.ca/wp-content/uploads/2023/10/Covenanting-Service-at-Wesley-United-Church-Nov-12-2023.jpg
ORGANIZER;CN="Wesley United Church (Montreal)":MAILTO:wesleyunitedchurch@gmail.com
END:VEVENT
BEGIN:VEVENT
DTSTART;TZID=America/Toronto:20231116T090000
DTEND;TZID=America/Toronto:20231116T120000
DTSTAMP:20260419T120723
CREATED:20231019T161530Z
LAST-MODIFIED:20231019T161654Z
UID:8249-1700125200-1700136000@nakonhakaucc.ca
SUMMARY:Regional Council Executive Meeting - November 2023
DESCRIPTION:
URL:https://nakonhakaucc.ca/event/regional-council-executive-meeting-november-2023/
CATEGORIES:Meeting,ONLINE,RC Executive
ATTACH;FMTTYPE=image/png:https://nakonhakaucc.ca/wp-content/uploads/2019/05/Nakonhaka-Logo.png
END:VEVENT
BEGIN:VEVENT
DTSTART;TZID=America/Toronto:20231118T090000
DTEND;TZID=America/Toronto:20231118T133000
DTSTAMP:20260419T120723
CREATED:20231106T155212Z
LAST-MODIFIED:20231106T155212Z
UID:8443-1700298000-1700314200@nakonhakaucc.ca
SUMMARY:Country Corner Fair
DESCRIPTION:A church sale of homemade baked goods and meat pies\, handmade ornaments\, cards\, knitting and quilts\, toys\, puzzles\, attic treasures\, used books\, jewellery and a silent auction.
URL:https://nakonhakaucc.ca/event/country-corner-fair/
LOCATION:Valois United Church\, 70 Belmont Avenue\, Pointe Claire\, Quebec\, H9R 2N5\, Canada
CATEGORIES:Fundraiser
ORGANIZER;CN="Valois United UCW":MAILTO:kaner@colba.net
END:VEVENT
BEGIN:VEVENT
DTSTART;TZID=America/Toronto:20231120T190000
DTEND;TZID=America/Toronto:20231120T210000
DTSTAMP:20260419T120723
CREATED:20231106T175347Z
LAST-MODIFIED:20231124T011802Z
UID:8482-1700506800-1700514000@nakonhakaucc.ca
SUMMARY:Online Learning Session: Strategic Plan 2024
DESCRIPTION:The VisionAction Team has been hard at work listening to all of you who have participated in our consultations and have submitted written feedback. From pages of feedback\, the VisionAction Team will distill a final draft report which it will submit to the Regional Council for consideration and a vote at the November 24-25 meeting. \nIn order to have more time to explain the report and the outcomes of the public consultation process\, we will be holding an information session on Monday\, November 20 at 7:00 pm on Zoom. \nPlease join us to dig deeper into the report\, into what you have told about the priorities for Nakonha:ka\, and to do any final fine-tuning to the report before it comes before the Regional Council at the end of that week. \n			\n				Download 2024 Strategic Plan
URL:https://nakonhakaucc.ca/event/online-learning-session-strategic-plan-2024/
CATEGORIES:Conversation,ONLINE,Regional Gathering
ATTACH;FMTTYPE=image/png:https://nakonhakaucc.ca/wp-content/uploads/2023/11/2023-11-20-StrategicPlan2024-E-1.png
ORGANIZER;CN="David-Roger Gagnon":MAILTO:drgagnon@united-church.ca
END:VEVENT
BEGIN:VEVENT
DTSTART;TZID=America/Toronto:20231122T190000
DTEND;TZID=America/Toronto:20231122T190000
DTSTAMP:20260419T120723
CREATED:20231106T175929Z
LAST-MODIFIED:20231123T022534Z
UID:8485-1700679600-1700679600@nakonhakaucc.ca
SUMMARY:Online Learning Session: Budget 2024
DESCRIPTION:In conjunction with our November Regional Council gathering\, this session will give participants an opportunity to learn more about the proposed budget for the regional council in 2024. \n			\n			\n				\n				\n				\n				\n			\n				\n				\n				\n				\n				\n				\n				\n				\n				\n				\n				2024 Regional Council Budget\n			\n				Download GRAPH\n			\n				Download CHART\n			\n			\n				\n				\n				\n				\n				\n				\n				\n				\n				\n				2024 Finance & Extension Board Budget\n			\n				Download GRAPH\n			\n				Download CHART
URL:https://nakonhakaucc.ca/event/online-learning-session-budget-2024/
CATEGORIES:Conversation,ONLINE,Regional Gathering
ATTACH;FMTTYPE=image/png:https://nakonhakaucc.ca/wp-content/uploads/2023/11/2023-11-22-Budget2024-1.png
ORGANIZER;CN="Conseil r%C3%A9gional Nakonha%3Aka Regional Council":MAILTO:jcoffin@united-church.ca
END:VEVENT
BEGIN:VEVENT
DTSTART;TZID=America/Toronto:20231124T183000
DTEND;TZID=America/Toronto:20231125T120000
DTSTAMP:20260419T120723
CREATED:20230627T194411Z
LAST-MODIFIED:20240110T163739Z
UID:7757-1700850600-1700913600@nakonhakaucc.ca
SUMMARY:Regional Council Meeting - November 2023 (online)
DESCRIPTION:Join us online on the evening of November 24 and the morning of November 25 to reflect on what it means to strengthen invitation and take a strategic approach to growth. There will be two learning sessions offered in advance of the meeting for in-depth exploration of the strategic plan and the budget before voting during the meeting. Additional presentations will include Communications\, Office of Vocation\, Nominations\, Granting & Enabling\, and updates to the Governance Handbook. \nPlease note there will be two pre-meeting learning opportunities (links to learn more below) to discuss proposals for the strategic plan and the budget for 2024 in depth before voting on them at the meeting. \nRegistration for meeting will open October 24\, 2023 and close at 11:30 pm on November 23\, 2023 \n			\n				\n				\n				\n				\n				Registration form (click here to register)\n				 \n			\n				\n				\n				\n				\n				Download documents\n				Draft agenda (updated 2023-11-16) \nMotions (updated 2023-11-24) \n\n\n\nAppendix A\nMinutes of June 3\, 2023 Spring General Meeting (updated 2023-11-25)\n\n\nAppendix B\nRegional Council 2024 Strategic Plan (updated 2023-11-23)\n\n\nAppendix C\nRosemary Lambie Fund for Learning: Respecting our Indigenous Neighbours – Terms of Reference (updated 2023-11-22)\n\n\nAppendix D\nFinance & Extension Board 2024 Budget: Graphs / Charts\n\n\nAppendix E\nRegional Council 2024 Budget: Graphs / Charts\n\n\nAppendix F\nGS 57 Ministry Leadership to Meet the Needs of the Church in the 2020s\, Part B Designated Lay Ministry\n\n\nAppendix G\nSacraments Licensing Policy (updated 2023-11-22)\n\n\n\n  \n			\n				\n				\n				\n				\n				Pre-meeting learning opportunities (online)\n			\n			\n				\n				\n				\n				\n			\n				\n				\n				\n				\n				\n				\n				\n				\n				\n				\n				\n			\n			\n				\n				\n				\n				\n				\n				\n				\n				\n				\n				\n			\n			\n				\n				\n				\n				\n			\n				\n				\n				\n				\n				\n				\n				\n				\n				\n				\n				Post-meeting resources\n  \n			\n				\n				\n				\n				\n				Download post-meeting resources\n				\nDecisions\nUpdated governance manual\n\n			\n			\n				\n				\n				\n				\n			\n				\n				\n				\n				\n				\n				\n				\n				\n				\n				\n				Friday evening\n			\n				\n				\n				\n				\n				\n				\n			\n			\n				\n				\n				\n				\n				\n				\n				\n				\n				\n				Saturday morning\n			\n				\n				\n				\n				\n				\n			\n			\n				\n				\n				\n				\n			\n				\n				\n				\n				\n				\n				\n				Evaluation survey
URL:https://nakonhakaucc.ca/event/regional-council-meeting-november-2023-online/
CATEGORIES:Meeting,ONLINE,Regional Gathering
ATTACH;FMTTYPE=image/png:https://nakonhakaucc.ca/wp-content/uploads/2023/06/2023-11-24-25-E.png
ORGANIZER;CN="Conseil r%C3%A9gional Nakonha%3Aka Regional Council":MAILTO:jcoffin@united-church.ca
END:VEVENT
END:VCALENDAR