BEGIN:VCALENDAR
VERSION:2.0
PRODID:-//Nakonhaka Region 13 - ECPv6.15.20//NONSGML v1.0//EN
CALSCALE:GREGORIAN
METHOD:PUBLISH
X-ORIGINAL-URL:https://nakonhakaucc.ca
X-WR-CALDESC:Events for Nakonhaka Region 13
REFRESH-INTERVAL;VALUE=DURATION:PT1H
X-Robots-Tag:noindex
X-PUBLISHED-TTL:PT1H
BEGIN:VTIMEZONE
TZID:America/Toronto
BEGIN:DAYLIGHT
TZOFFSETFROM:-0500
TZOFFSETTO:-0400
TZNAME:EDT
DTSTART:20230312T070000
END:DAYLIGHT
BEGIN:STANDARD
TZOFFSETFROM:-0400
TZOFFSETTO:-0500
TZNAME:EST
DTSTART:20231105T060000
END:STANDARD
BEGIN:DAYLIGHT
TZOFFSETFROM:-0500
TZOFFSETTO:-0400
TZNAME:EDT
DTSTART:20240310T070000
END:DAYLIGHT
BEGIN:STANDARD
TZOFFSETFROM:-0400
TZOFFSETTO:-0500
TZNAME:EST
DTSTART:20241103T060000
END:STANDARD
BEGIN:DAYLIGHT
TZOFFSETFROM:-0500
TZOFFSETTO:-0400
TZNAME:EDT
DTSTART:20250309T070000
END:DAYLIGHT
BEGIN:STANDARD
TZOFFSETFROM:-0400
TZOFFSETTO:-0500
TZNAME:EST
DTSTART:20251102T060000
END:STANDARD
END:VTIMEZONE
BEGIN:VEVENT
DTSTART;TZID=America/Toronto:20240118T090000
DTEND;TZID=America/Toronto:20240118T120000
DTSTAMP:20260419T083950
CREATED:20231019T163351Z
LAST-MODIFIED:20231019T163351Z
UID:8253-1705568400-1705579200@nakonhakaucc.ca
SUMMARY:Regional Council Executive Meeting - January 2024
DESCRIPTION:
URL:https://nakonhakaucc.ca/event/regional-council-executive-meeting-january-2024/
CATEGORIES:Meeting,ONLINE,RC Executive
ATTACH;FMTTYPE=image/png:https://nakonhakaucc.ca/wp-content/uploads/2019/05/Nakonhaka-Logo.png
END:VEVENT
BEGIN:VEVENT
DTSTART;TZID=America/Toronto:20240121T160000
DTEND;TZID=America/Toronto:20240121T160000
DTSTAMP:20260419T083950
CREATED:20240112T164340Z
LAST-MODIFIED:20240112T164340Z
UID:9562-1705852800-1705852800@nakonhakaucc.ca
SUMMARY:Ecumenical Celebration: Week of Prayer for Christian Unity (2024)
DESCRIPTION:Please share this invitation with your community of faith. \nDownload poster: English / French
URL:https://nakonhakaucc.ca/event/ecumenical-celebration-week-of-prayer-for-christian-unity-2024/
LOCATION:St-George & St-Joseph Church\, 17400 boul. Pierrefonds\, Pierrefonds\, QC\, H9J 3E4\, Canada
CATEGORIES:Ecumenical,Worship
ATTACH;FMTTYPE=image/jpeg:https://nakonhakaucc.ca/wp-content/uploads/2024/01/2024-01-21-ChristianUnity.jpg
END:VEVENT
BEGIN:VEVENT
DTSTART;TZID=America/Toronto:20240128T120000
DTEND;TZID=America/Toronto:20240128T133000
DTSTAMP:20260419T083950
CREATED:20240118T171502Z
LAST-MODIFIED:20240118T191952Z
UID:9694-1706443200-1706448600@nakonhakaucc.ca
SUMMARY:Muslim Awareness Week - 2024
DESCRIPTION:
URL:https://nakonhakaucc.ca/event/muslim-awareness-week-2024/
LOCATION:St. James United Church\, 1435 City Councillors\, Montreal\, Quebec\, H3A 2E4\, Canada
CATEGORIES:Community event,Conversation,Intercultural,Interfaith
ATTACH;FMTTYPE=image/jpeg:https://nakonhakaucc.ca/wp-content/uploads/2024/01/2024-MuslimAwarenessWeek.jpg
ORGANIZER;CN="Montreal City Mission":MAILTO:maan@montrealcitymission.org
END:VEVENT
END:VCALENDAR