BEGIN:VCALENDAR
VERSION:2.0
PRODID:-//Nakonhaka Region 13 - ECPv6.15.20//NONSGML v1.0//EN
CALSCALE:GREGORIAN
METHOD:PUBLISH
X-ORIGINAL-URL:https://nakonhakaucc.ca
X-WR-CALDESC:Events for Nakonhaka Region 13
REFRESH-INTERVAL;VALUE=DURATION:PT1H
X-Robots-Tag:noindex
X-PUBLISHED-TTL:PT1H
BEGIN:VTIMEZONE
TZID:America/Toronto
BEGIN:DAYLIGHT
TZOFFSETFROM:-0500
TZOFFSETTO:-0400
TZNAME:EDT
DTSTART:20230312T070000
END:DAYLIGHT
BEGIN:STANDARD
TZOFFSETFROM:-0400
TZOFFSETTO:-0500
TZNAME:EST
DTSTART:20231105T060000
END:STANDARD
BEGIN:DAYLIGHT
TZOFFSETFROM:-0500
TZOFFSETTO:-0400
TZNAME:EDT
DTSTART:20240310T070000
END:DAYLIGHT
BEGIN:STANDARD
TZOFFSETFROM:-0400
TZOFFSETTO:-0500
TZNAME:EST
DTSTART:20241103T060000
END:STANDARD
BEGIN:DAYLIGHT
TZOFFSETFROM:-0500
TZOFFSETTO:-0400
TZNAME:EDT
DTSTART:20250309T070000
END:DAYLIGHT
BEGIN:STANDARD
TZOFFSETFROM:-0400
TZOFFSETTO:-0500
TZNAME:EST
DTSTART:20251102T060000
END:STANDARD
END:VTIMEZONE
BEGIN:VEVENT
DTSTART;VALUE=DATE:20240503
DTEND;VALUE=DATE:20240506
DTSTAMP:20260419T120815
CREATED:20240306T171534Z
LAST-MODIFIED:20240306T171534Z
UID:10303-1714694400-1714953599@nakonhakaucc.ca
SUMMARY:ICHRP Canada National Conference: Resist State Terror\, stand for People’s Rights in the Philippines
DESCRIPTION:Get ready for an electrifying event as Beaconsfield Initiative\, a grassroots movement of the progressive United Church of Canada and ICHRP-Canada\, proudly announce their National Conference: Resist State Terror\, stand for People’s Rights in the Philippines at St Columba House\, 2365 Grand Trunk Street\, in the vibrant city of Montréal\, Québec\, from May 3-5\, 2024! \nPrepare for a ground-breaking gathering where human rights activists and believers from every corner of Canada unite to delve into the crucial connection between human rights in Canada and the Philippines. Our mission? To arm organizations\, National Church institutions\, and individuals with the resources needed to amplify our collective voice for human rights. \nHuman rights abuses don’t recognize borders\, and Canada’s Indo-Pacific Strategy\, including bolstering military ties with nations like the Philippines\, is a red flag; with Canada’s recent pact on security cooperation\, complicity in the Philippines’ human rights quagmire looms larger. \nBut that’s not all. Canadian corporations’ involvement in labour exploitation and resource plundering is exacerbating the Philippine crisis\, hitting the most vulnerable hardest. The numbers are chilling—799 political prisoners\, hundreds of extrajudicial killings\, attacks against HR activists\, Church People\, and journalists —the world is taking notice of the increasingly constricted democratic space\, the Philippine State using the justice system as a tool to target leftist activist groups. \nBut fear not! Our conference isn’t just about talk; it’s action-packed with riveting panel discussions\, skill-boosting workshops\, and star-studded keynotes featuring luminaries like former congressman Attorney Neri Colmenares\, the tireless human rights crusader\, and Amirah Lidasan\, the dynamic co-chair of Sandugo – Movement of Moro and Indigenous Peoples for Self-Determination. \nAnd the excitement doesn’t stop there! Pre-conference (May 2nd)\, including an enthralling colloquium in collaboration with the Université de Montréal\, under the leadership of the eminent professor Dr Dominique Caouette\, Ph. D. in Government\, set the stage for a whirlwind of inspiration. \nICHRP Canada is part of a global movement striving for justice in the Philippines. Join us in our mission to champion peace and justice while spotlighting the Philippines’ human rights travails. \nLet’s not just talk the talk; let’s walk it together. Join us as we raise our voices in solidarity for justice and freedom for all! \nPlease contact Patricia Lisson (Rev. Dr.) at 514-241-9036 if you need information. \nSee you in Beautiful Montréal!!! \nRegistration Link: ichrpcanada.org/register
URL:https://nakonhakaucc.ca/event/ichrp-canada-national-conference-resist-state-terror-stand-for-peoples-rights-in-the-philippines/
LOCATION:St. Columba House\, 2365 Grand Trunk Street\, Montréal\, QC\, H3K 1M8\, Canada
CATEGORIES:Justice,Partner event
ATTACH;FMTTYPE=image/jpeg:https://nakonhakaucc.ca/wp-content/uploads/2024/03/2024-05-03-ICHRP-E.jpg
END:VEVENT
BEGIN:VEVENT
DTSTART;TZID=America/Toronto:20240506T130000
DTEND;TZID=America/Toronto:20240506T150000
DTSTAMP:20260419T120815
CREATED:20240416T134500Z
LAST-MODIFIED:20240416T134500Z
UID:10996-1715000400-1715007600@nakonhakaucc.ca
SUMMARY:Card games
DESCRIPTION:Alone or with friends come to play card games of your choice. Dessert and beverages will be served. Door prizes. Bring your own deck of cards
URL:https://nakonhakaucc.ca/event/card-games/
LOCATION:Roxboro United Church\, 116 Cartier\, Roxboro\, Quebec\, H8Y 1G8\, Canada
CATEGORIES:Community event
ATTACH;FMTTYPE=image/jpeg:https://nakonhakaucc.ca/wp-content/uploads/2024/04/Screenshot_20240403_233300_Slides.jpg
ORGANIZER;CN="Roxboro United Church UCW":MAILTO:Ruc_office@yahoo.ca
END:VEVENT
BEGIN:VEVENT
DTSTART;TZID=America/Toronto:20240506T153000
DTEND;TZID=America/Toronto:20240506T170000
DTSTAMP:20260419T120815
CREATED:20240326T181632Z
LAST-MODIFIED:20240326T181716Z
UID:10808-1715009400-1715014800@nakonhakaucc.ca
SUMMARY:State of the Church: Leaning into God’s Future (with Michael Blair)
DESCRIPTION:Michael Blair is the General Secretary of the United Church of Canada\, a role he has held since November 2020. Born in Jamaica\, Michael is a dynamic speaker and leader who has held leadership roles across the church. In his time as General Secretary\, he has led the church through a strategic planning process that has resulted in an emphasis on Deep Spirituality\, Bold Discipleship\, and Daring Justice. As the United Church looks to its 100th anniversary in 2025 amid a changing Canada and a changing world\, the United Church Studies Program at Montreal Dio is delighted to welcome Michael for an open forum on where the church stands now and where God is calling it in the future. This event will be held prior to Montreal Dio Convocation on Monday\, May 6th\, 2024 from 3:30 to 5 pm at St. George’s Church (address above).\nLearn more: https://montrealdio.ca/state-of-the-church/
URL:https://nakonhakaucc.ca/event/state-of-the-church-leaning-into-gods-future-with-michael-blair/
LOCATION:St. George’s Church\, 1101 av. des Canadiens-de-Montréal\, Montreal\, QC\, Canada
CATEGORIES:Conversation
ATTACH;FMTTYPE=image/png:https://nakonhakaucc.ca/wp-content/uploads/2024/03/2024-05-06-MBlair-1200.png
ORGANIZER;CN="Montreal Diocesan College (Dio)":MAILTO:info@montrealdio.ca
END:VEVENT
BEGIN:VEVENT
DTSTART;TZID=America/Toronto:20240511T100000
DTEND;TZID=America/Toronto:20240511T160000
DTSTAMP:20260419T120815
CREATED:20240305T193544Z
LAST-MODIFIED:20240305T193544Z
UID:10242-1715421600-1715443200@nakonhakaucc.ca
SUMMARY:Spring Market
DESCRIPTION:Annual fundraising event for St. Lambert United Church. More than 30 artisans\, bake sale\, coffee bar and antiques and collectibles.
URL:https://nakonhakaucc.ca/event/spring-market-2/
LOCATION:Saint Lambert United Church\, 415A Mercille Ave\, Saint Lambert\, QC\, J4P 1L8\, Canada
CATEGORIES:Fundraiser
ATTACH;FMTTYPE=image/jpeg:https://nakonhakaucc.ca/wp-content/uploads/2024/03/2024-Spring-Market-Flyer.jpeg
ORGANIZER;CN="St. Lambert United Church":MAILTO:slunitedchurch@videotron.ca
END:VEVENT
BEGIN:VEVENT
DTSTART;TZID=America/Toronto:20240516T090000
DTEND;TZID=America/Toronto:20240516T120000
DTSTAMP:20260419T120815
CREATED:20240118T192324Z
LAST-MODIFIED:20240118T192324Z
UID:9705-1715850000-1715860800@nakonhakaucc.ca
SUMMARY:Regional Council Executive Meeting - May 2024
DESCRIPTION:
URL:https://nakonhakaucc.ca/event/regional-council-executive-meeting-may-2024/
CATEGORIES:Meeting,ONLINE,RC Executive
ATTACH;FMTTYPE=image/png:https://nakonhakaucc.ca/wp-content/uploads/2019/05/Nakonhaka-Logo.png
END:VEVENT
BEGIN:VEVENT
DTSTART;TZID=America/Toronto:20240524T130000
DTEND;TZID=America/Toronto:20240524T160000
DTSTAMP:20260419T120815
CREATED:20240506T173701Z
LAST-MODIFIED:20240516T172410Z
UID:11192-1716555600-1716566400@nakonhakaucc.ca
SUMMARY:Learning Opportunity for Communicators: Media Training with Anne Lagacé Dowson
DESCRIPTION:Is your community of faith interested in making a splash\, or casting your net a little wider? Do you have stories about faith in action to share with a broader audience? As part of the strategic initiative for Growth (Invitation)\, learn how to share those stories more effectively with bilingual facilitator Anne Lagacé Dowson in person at Montreal West United Church on Friday\, May 24 at 1 pm. \nNOTE: For those planning to attend both the media training and the celebration of ministry\, there are several restaurants nearby or you may choose to bring your own supper. IMPORTANT NOTE: PLEASE NO NUTS OR TREE NUTS! \nPlease register before May 17 so we know how many people to expect. \n			\n				Click here to register
URL:https://nakonhakaucc.ca/event/media-training-2024-05-24/
LOCATION:Montreal West United Church\, 88 Av. Ballantyne N\,\, Montréal-Ouest\, QC\, H4X 2B8\, Canada
CATEGORIES:Learning Session,Workshop
ATTACH;FMTTYPE=image/jpeg:https://nakonhakaucc.ca/wp-content/uploads/2024/05/Media-Training.jpg
ORGANIZER;CN="Judy Coffin":MAILTO:jcoffin@united-church.ca
END:VEVENT
BEGIN:VEVENT
DTSTART;TZID=America/Toronto:20240524T190000
DTEND;TZID=America/Toronto:20240524T190000
DTSTAMP:20260419T120815
CREATED:20240507T153250Z
LAST-MODIFIED:20240525T032941Z
UID:11243-1716577200-1716577200@nakonhakaucc.ca
SUMMARY:Celebration of Ministry Service (May 2024)
DESCRIPTION:Download bulletin (updated 2024-05-22)
URL:https://nakonhakaucc.ca/event/celebration-of-ministry-service-may-2024/
LOCATION:Montreal West United Church\, 88 Av. Ballantyne N\,\, Montréal-Ouest\, QC\, H4X 2B8\, Canada
CATEGORIES:Celebration of ministry,Worship
ATTACH;FMTTYPE=image/png:https://nakonhakaucc.ca/wp-content/uploads/2019/05/Nakonhaka-Logo.png
ORGANIZER;CN="Rev. Dan Hayward":MAILTO:dhayward@united-church.ca
END:VEVENT
END:VCALENDAR