BEGIN:VCALENDAR
VERSION:2.0
PRODID:-//Nakonhaka Region 13 - ECPv6.15.20//NONSGML v1.0//EN
CALSCALE:GREGORIAN
METHOD:PUBLISH
X-ORIGINAL-URL:https://nakonhakaucc.ca
X-WR-CALDESC:Events for Nakonhaka Region 13
REFRESH-INTERVAL;VALUE=DURATION:PT1H
X-Robots-Tag:noindex
X-PUBLISHED-TTL:PT1H
BEGIN:VTIMEZONE
TZID:America/Toronto
BEGIN:DAYLIGHT
TZOFFSETFROM:-0500
TZOFFSETTO:-0400
TZNAME:EDT
DTSTART:20230312T070000
END:DAYLIGHT
BEGIN:STANDARD
TZOFFSETFROM:-0400
TZOFFSETTO:-0500
TZNAME:EST
DTSTART:20231105T060000
END:STANDARD
BEGIN:DAYLIGHT
TZOFFSETFROM:-0500
TZOFFSETTO:-0400
TZNAME:EDT
DTSTART:20240310T070000
END:DAYLIGHT
BEGIN:STANDARD
TZOFFSETFROM:-0400
TZOFFSETTO:-0500
TZNAME:EST
DTSTART:20241103T060000
END:STANDARD
BEGIN:DAYLIGHT
TZOFFSETFROM:-0500
TZOFFSETTO:-0400
TZNAME:EDT
DTSTART:20250309T070000
END:DAYLIGHT
BEGIN:STANDARD
TZOFFSETFROM:-0400
TZOFFSETTO:-0500
TZNAME:EST
DTSTART:20251102T060000
END:STANDARD
END:VTIMEZONE
BEGIN:VEVENT
DTSTART;TZID=America/Toronto:20240608T093000
DTEND;TZID=America/Toronto:20240608T093000
DTSTAMP:20260419T135750
CREATED:20240507T134226Z
LAST-MODIFIED:20240605T142419Z
UID:11229-1717839000-1717839000@nakonhakaucc.ca
SUMMARY:Deep Spirituality Worship Showcase
DESCRIPTION:The Deep Spirituality Worship Showcase\, Saturday June 8\, 9:30 am to 4:30 pm\, at Cedar Park United Church (204 Lakeview Ave.\, Pointe-Claire)\, features several presentations and workshops which will allow us to learn from each other about innovative worship. Sessions include Godly Play\, faith and nature\, Wild Church\, technology and worship\, Messy Church\, scripture telling\, labyrinths and spirituality\, and closing worship with Taizé. It is free of charge\, and includes lunch! \nBring your entire worship team – ministry personnel (ordained\, commissioned\, DLMs\, active and retired)\, Licenced Lay Worship Leaders\, worship committee\, Sacraments Elders\, church musicians\, lay readers\, tech and audio-visual team\, elders – everyone who is interested in the art of worship as one of the ways that we celebrate God’s presence\, love and serve others\, seek justice and resist evil\, and proclaim Jesus\, crucified and risen\, our judge and our hope. And did we mention that it’s free? \n			\n				Download draft agenda\n			\n				Register
URL:https://nakonhakaucc.ca/event/deep-spirituality-worship-showcase/
LOCATION:Cedar Park United Church\, 204 Lakeview Ave.\, Pointe-Claire\, QC\, H9S 4C5\, Canada
CATEGORIES:Workshop,Worship
ATTACH;FMTTYPE=image/png:https://nakonhakaucc.ca/wp-content/uploads/2024/05/WorshipShowcase.png
ORGANIZER;CN="Rev. Dan Hayward":MAILTO:dhayward@united-church.ca
END:VEVENT
BEGIN:VEVENT
DTSTART;TZID=America/Toronto:20240608T133000
DTEND;TZID=America/Toronto:20240608T133000
DTSTAMP:20260419T135750
CREATED:20240603T154444Z
LAST-MODIFIED:20240603T171854Z
UID:11640-1717853400-1717853400@nakonhakaucc.ca
SUMMARY:Chantons l'été! Summer Sing Along
DESCRIPTION:
URL:https://nakonhakaucc.ca/event/chantons-lete-summer-sing-along/
LOCATION:Eglise Unie Sainte-Adèle\, 1300 Ch Du Chantecler\, Ste Adele\, QC\, J8B 2Y3\, Canada
CATEGORIES:Community event,Music
ATTACH;FMTTYPE=image/png:https://nakonhakaucc.ca/wp-content/uploads/2024/06/Concert-8-juin-site.png
ORGANIZER;CN="%C3%89glise Unie Sainte Ad%C3%A8le":MAILTO:eglise.ste.adele@gmail.com
END:VEVENT
BEGIN:VEVENT
DTSTART;TZID=America/Toronto:20240612T120000
DTEND;TZID=America/Toronto:20240612T120000
DTSTAMP:20260419T135750
CREATED:20240603T143429Z
LAST-MODIFIED:20240603T143500Z
UID:11608-1718193600-1718193600@nakonhakaucc.ca
SUMMARY:Sunday School Share and Swap (First Third Ministries)
DESCRIPTION:We put Sunday School in the title\, because it allowed us to make a fun alliteration\, but this is for all your congregational children ministry\, whether or not you have a formal Sunday School. \nThe idea is simple: come on a zoom meeting at lunch time on Wednesday June 12th and share and swap ideas about lectionary-based children friendly church experiences for the season of creation. It can be a Sunday School lesson\, a story for worship\, a craft\, a game\, you name it! \nThe goal is to better equip ministers\, lay staff\, and volunteers with creative ideas to minister to the children in our communities of faith. \nThis project is still in the development stage. We are hoping to have a session like this for every liturgical season and develop an accessible regional resource for children ministry. \nNo registration needed: just show up with an open mind and a willingness to share. \nJoin Zoom Meeting: https://us06web.zoom.us/j/81254484699  \nMeeting ID: 812 5448 4699
URL:https://nakonhakaucc.ca/event/sunday-school-share-and-swap-first-third-ministries/
CATEGORIES:children and youth,Conversation,Learning Session,ONLINE,Worship
ATTACH;FMTTYPE=image/png:https://nakonhakaucc.ca/wp-content/uploads/2022/01/YAYA-CCAH-picto.png
ORGANIZER;CN="First Third Ministries Leadership Team":MAILTO:sbernier@united-church.ca
END:VEVENT
BEGIN:VEVENT
DTSTART;TZID=America/Toronto:20240615T090000
DTEND;TZID=America/Toronto:20240615T130000
DTSTAMP:20260419T135750
CREATED:20240521T183052Z
LAST-MODIFIED:20240521T183052Z
UID:11459-1718442000-1718456400@nakonhakaucc.ca
SUMMARY:Summer Bazaar
DESCRIPTION:Come visit our summer bazaar for fresh homebaked goods\, jewelry\, flea market items and books.
URL:https://nakonhakaucc.ca/event/summer-bazaar/
LOCATION:Roxboro United Church\, 116 Cartier\, Roxboro\, Quebec\, H8Y 1G8\, Canada
CATEGORIES:Community event
ATTACH;FMTTYPE=image/jpeg:https://nakonhakaucc.ca/wp-content/uploads/2024/05/church.jpg
ORGANIZER;CN="Roxboro United Church UCW":MAILTO:Ruc_office@yahoo.ca
END:VEVENT
BEGIN:VEVENT
DTSTART;TZID=America/Toronto:20240615T110000
DTEND;TZID=America/Toronto:20240615T140000
DTSTAMP:20260419T135750
CREATED:20240524T150226Z
LAST-MODIFIED:20240524T150226Z
UID:11525-1718449200-1718460000@nakonhakaucc.ca
SUMMARY:Old Fashioned Strawberry Social
DESCRIPTION:We’re serving up tea biscuits with strawberries and ice cream\, coffee\, tea\, iced tea or juice.
URL:https://nakonhakaucc.ca/event/old-fashioned-strawberry-social/
LOCATION:Emmanuel United Church\, 203 rue Principale\, Cowansville\, QC\, J2K 1J3\, Canada
CATEGORIES:Fundraiser
ATTACH;FMTTYPE=image/jpeg:https://nakonhakaucc.ca/wp-content/uploads/2024/05/Strawberry-Social-2024-Poster.jpg
ORGANIZER;CN="Emmanuel United Church":MAILTO:capcchurchoffice@bellnet.ca
END:VEVENT
BEGIN:VEVENT
DTSTART;TZID=America/Toronto:20240620T090000
DTEND;TZID=America/Toronto:20240620T120000
DTSTAMP:20260419T135750
CREATED:20240118T192410Z
LAST-MODIFIED:20240118T192410Z
UID:9708-1718874000-1718884800@nakonhakaucc.ca
SUMMARY:Regional Council Executive Meeting - June 2024
DESCRIPTION:
URL:https://nakonhakaucc.ca/event/regional-council-executive-meeting-june-2024/
CATEGORIES:Meeting,ONLINE,RC Executive
ATTACH;FMTTYPE=image/png:https://nakonhakaucc.ca/wp-content/uploads/2019/05/Nakonhaka-Logo.png
END:VEVENT
END:VCALENDAR