BEGIN:VCALENDAR
VERSION:2.0
PRODID:-//Nakonhaka Region 13 - ECPv6.15.20//NONSGML v1.0//EN
CALSCALE:GREGORIAN
METHOD:PUBLISH
X-WR-CALNAME:Nakonhaka Region 13
X-ORIGINAL-URL:https://nakonhakaucc.ca
X-WR-CALDESC:Events for Nakonhaka Region 13
REFRESH-INTERVAL;VALUE=DURATION:PT1H
X-Robots-Tag:noindex
X-PUBLISHED-TTL:PT1H
BEGIN:VTIMEZONE
TZID:America/Toronto
BEGIN:DAYLIGHT
TZOFFSETFROM:-0500
TZOFFSETTO:-0400
TZNAME:EDT
DTSTART:20230312T070000
END:DAYLIGHT
BEGIN:STANDARD
TZOFFSETFROM:-0400
TZOFFSETTO:-0500
TZNAME:EST
DTSTART:20231105T060000
END:STANDARD
BEGIN:DAYLIGHT
TZOFFSETFROM:-0500
TZOFFSETTO:-0400
TZNAME:EDT
DTSTART:20240310T070000
END:DAYLIGHT
BEGIN:STANDARD
TZOFFSETFROM:-0400
TZOFFSETTO:-0500
TZNAME:EST
DTSTART:20241103T060000
END:STANDARD
BEGIN:DAYLIGHT
TZOFFSETFROM:-0500
TZOFFSETTO:-0400
TZNAME:EDT
DTSTART:20250309T070000
END:DAYLIGHT
BEGIN:STANDARD
TZOFFSETFROM:-0400
TZOFFSETTO:-0500
TZNAME:EST
DTSTART:20251102T060000
END:STANDARD
END:VTIMEZONE
BEGIN:VEVENT
DTSTART;TZID=America/Toronto:20240908T100000
DTEND;TZID=America/Toronto:20240908T100000
DTSTAMP:20260419T212335
CREATED:20240827T214259Z
LAST-MODIFIED:20240827T214522Z
UID:14388-1725789600-1725789600@nakonhakaucc.ca
SUMMARY:Covenanting service between Rev. Rolanda Taylor and Union United Church Montréal
DESCRIPTION:Members of the regional council are invited to celebrate with Rev. Rolanda and Union United on this joyous occasion \nIf you are unable to attend\, but would still like to participate\, we are offering two alternatives: \n\nYou can send a message by email with or without your picture that will be added to a digital booklet for Reverend Taylor (it will be read during the service if time permits)\nYou can send a video message (can be recorded from your phone). This will be added to the booklet and a select few will be played during the service but all will be added to her digital booklet.\n\nBoth options must be sent to: wendy@unionunitedchurchmtl.com\nby August 31st\, 2024.
URL:https://nakonhakaucc.ca/event/covenanting-service-between-rev-rolanda-taylor-and-union-united-church-montreal/
LOCATION:Union (Montreal) United Church\, 3007 rue Delisle\, Montreal\, H4C 1M8
CATEGORIES:Worship
ATTACH;FMTTYPE=image/jpeg:https://nakonhakaucc.ca/wp-content/uploads/2024/08/Rev-Taylors-Covenanting-Invite.jpg
ORGANIZER;CN="Wendy":MAILTO:wendy@unionunitedchurchmtl.com
END:VEVENT
BEGIN:VEVENT
DTSTART;TZID=America/Toronto:20240910T190000
DTEND;TZID=America/Toronto:20240910T190000
DTSTAMP:20260419T212335
CREATED:20240813T153024Z
LAST-MODIFIED:20240829T145756Z
UID:14090-1725994800-1725994800@nakonhakaucc.ca
SUMMARY:CANCELLED! Candidates Connect - September 2024
DESCRIPTION:NOTE: DUE TO SCHEDULING CONFLICTS\, THE SEPTEMBER GATHERING IS CANCELLED; STAY TUNED FOR REVISED DATE FOR OCTOBER.\n\n Attention Candidates and Applicants\nJoin Caroline Penhale Lukacs\, Vocational Minister for Quebec and East Ontario for an hour of conversation and connection the second Tuesday of every month. Come and share your Candidacy Pathway journey with others who are walking a similar road.\nZoom link: https://united-church.zoom.us/j/87692462278\n\nPlease note that this program will also be offered in French on the second Tuesday of each month at noon. See the French version of this event for more information and the Zoom link.
URL:https://nakonhakaucc.ca/event/candidates-connect-september-2024/
CATEGORIES:Conversation,ONLINE,Support Group
ORGANIZER;CN="Rev. Caroline Penhale":MAILTO:cpenhale@united-church.ca
END:VEVENT
BEGIN:VEVENT
DTSTART;VALUE=DATE:20240915
DTEND;VALUE=DATE:20240916
DTSTAMP:20260419T212335
CREATED:20240813T183141Z
LAST-MODIFIED:20240813T183142Z
UID:14113-1726358400-1726444799@nakonhakaucc.ca
SUMMARY:Deadline - grant submission (September 2024)
DESCRIPTION:Grant application deadlines happen three times a year (February 15\, May 15 and September 15.) Your community of faith or pastoral charge may apply for grants at any of those times\, with the following exceptions: Mission Support applications are only accepted for the September 15 deadline\, and Erskine-American Mountainside applications are only accepted for February 15 deadline (other than emergencies). \nLearn more / download forms: https://nakonhakaucc.ca/resources/granting-and-enabling/\nVideo of learning session about grants: https://nakonhakaucc.ca/event/learning-session-grants/
URL:https://nakonhakaucc.ca/event/deadline-grant-submission-september-2024/
CATEGORIES:Grants
ATTACH;FMTTYPE=image/png:https://nakonhakaucc.ca/wp-content/uploads/2024/08/7.png
END:VEVENT
BEGIN:VEVENT
DTSTART;TZID=America/Toronto:20240919T100000
DTEND;TZID=America/Toronto:20240919T100000
DTSTAMP:20260419T212335
CREATED:20240813T152126Z
LAST-MODIFIED:20240813T152402Z
UID:14081-1726740000-1726740000@nakonhakaucc.ca
SUMMARY:Regional Council Executive Meeting - September 2024
DESCRIPTION:
URL:https://nakonhakaucc.ca/event/regional-council-executive-meeting-september-2024/
LOCATION:Kahnawake United Church\, Old Malone Highway\, Kahnawake\, QC\, J0L 1B0\, Canada
CATEGORIES:Meeting,RC Executive
ATTACH;FMTTYPE=image/png:https://nakonhakaucc.ca/wp-content/uploads/2019/05/Nakonhaka-Logo.png
END:VEVENT
BEGIN:VEVENT
DTSTART;TZID=America/Toronto:20240921T090000
DTEND;TZID=America/Toronto:20240921T163000
DTSTAMP:20260419T212335
CREATED:20240715T172404Z
LAST-MODIFIED:20240716T141811Z
UID:12577-1726909200-1726936200@nakonhakaucc.ca
SUMMARY:Flourishing - Conseil régional Nakonha:ka Regional Council
DESCRIPTION:Spend a day with the Moderator\, engaging in reflection and energizing activities towards dream-oriented actions for our churches and communities. \nSaturday\, September 21\, 2024 9:00 am to 4:30 pm (local time). \n\n9:00am -9:30am Registration and coffee\n9:30am – Welcome and Introductions\n\n  \nIn person \nCedar Park United Church\n204 Lakeview Ave.\nPointe-Claire\, Quebec H9S 4C5 \nAll around the world – from universities to the United Nations\, from corporations to community organizations – people are talking about flourishing. Rooted in belonging\, flourishing means living with purpose and joy\, and bringing bold collaborative solutions to our world’s challenges. \nThe Moderator\, the Rev. Dr. Carmen Lansdowne\, wants to bring that conversation to The United Church of Canada. She invites us to connect to one another in hope\, with a deep conviction by a belief that\, despite all the challenges of church life in this day and age\, we can move from despair to transformation – from languishing to flourishing. \nIs your church flourishing? \n(Perhaps that’s the wrong question.) \nIs your church contributing to the flourishing of your community? \nHow might we truly be a flourishing church in the world? How might we live in deep spirituality\, bold discipleship and daring justice\, linked from coast to coast to coast in ministry that transforms us and the world around us? \nCLICK HERE TO REGISTER:  Conseil régional Nakonha:ka Regional Council Workshop
URL:https://nakonhakaucc.ca/event/flourishing-conseil-regional-nakonhaka-regional-council/
LOCATION:Cedar Park United Church\, 204 Lakeview Ave.\, Pointe-Claire\, QC\, H9S 4C5\, Canada
CATEGORIES:Regional Gathering,Workshop
ATTACH;FMTTYPE=image/jpeg:https://nakonhakaucc.ca/wp-content/uploads/2024/07/Flourishing-social-graphic_Billingual-1500x1500-1.jpg
END:VEVENT
BEGIN:VEVENT
DTSTART;TZID=America/Toronto:20240925T110000
DTEND;TZID=America/Toronto:20240925T120000
DTSTAMP:20260419T212335
CREATED:20240924T153803Z
LAST-MODIFIED:20240924T154738Z
UID:15513-1727262000-1727265600@nakonhakaucc.ca
SUMMARY:GreenFaith Montreal - Autumn online gathering
DESCRIPTION:Here is the zoom link for our autumn online gathering tomorrow morning\, Wednesday Sept 25th from 11am to noon. Feel free to have an early lunch during the meeting! \nTopic: Montreal GreenFaith circle meeting \nTime: Sep 25\, 2024 11:00 AM Eastern Time (US and Canada)\nJoin Zoom Meeting\nhttps://mcgill.zoom.us/j/87218937468 \nMeeting ID: 872 1893 7468
URL:https://nakonhakaucc.ca/event/greenfaith-montreal-autumn-online-gathering/
CATEGORIES:Climate Justice,Conversation,Environment,ONLINE
ATTACH;FMTTYPE=image/jpeg:https://nakonhakaucc.ca/wp-content/uploads/2024/09/GreenFaithMontreal-logo.jpg
ORGANIZER;CN="GreenFaith Montreal":MAILTO:greenfaithmontreal@gmail.com
END:VEVENT
BEGIN:VEVENT
DTSTART;VALUE=DATE:20240927
DTEND;VALUE=DATE:20240930
DTSTAMP:20260419T212335
CREATED:20240830T154715Z
LAST-MODIFIED:20240830T154715Z
UID:14455-1727395200-1727654399@nakonhakaucc.ca
SUMMARY:Journées de la Culture
DESCRIPTION:St James is participating for the first time in the official programming of the Journées de la culture de Montréal. We cordially invite you to come and experience the three days with us at 463\, rue Sainte-Catherine Ouest\, Montréal\, and to visit our church. The ensembles and music are very varied and we can listen to established musicians as well as young up-and-coming artists!
URL:https://nakonhakaucc.ca/event/journees-de-la-culture/
LOCATION:St. James United Church\, 1435 City Councillors\, Montreal\, Quebec\, H3A 2E4\, Canada
CATEGORIES:Community event,Music
ATTACH;FMTTYPE=image/jpeg:https://nakonhakaucc.ca/wp-content/uploads/2024/08/2024_JdlC-Poster-1.jpg
ORGANIZER;CN="Alexandra Fol":MAILTO:music@stjamesmontreal.ca
END:VEVENT
BEGIN:VEVENT
DTSTART;TZID=America/Toronto:20240927T180000
DTEND;TZID=America/Toronto:20240927T180000
DTSTAMP:20260419T212335
CREATED:20240924T154035Z
LAST-MODIFIED:20240924T154644Z
UID:15516-1727460000-1727460000@nakonhakaucc.ca
SUMMARY:Montreal Climate March
DESCRIPTION:This year the Montreal Climate March will be taking place in the evening!  Meetup time is 6pm this Friday\, September 27th at the statue on Mt Royal and the march will begin around 6:30pm down to Place Bonaventure and event will wrap up by 8pm.  People are invited to bring along flashlights/lanterns.  For those who are planning to join and would like to meet up with our GreenFaith circle\, please email us to let us know so we can stay in touch for meet-up location! \nHere is the facebook link that describes the event in more detail:  https://www.facebook.com/events/982585846868063
URL:https://nakonhakaucc.ca/event/montreal-climate-march/
CATEGORIES:Climate Justice,Community event,Environment,Partner event
ATTACH;FMTTYPE=image/jpeg:https://nakonhakaucc.ca/wp-content/uploads/2024/09/GreenFaithMontreal-logo.jpg
ORGANIZER;CN="GreenFaith Montreal":MAILTO:greenfaithmontreal@gmail.com
END:VEVENT
END:VCALENDAR