BEGIN:VCALENDAR
VERSION:2.0
PRODID:-//Nakonhaka Region 13 - ECPv6.15.20//NONSGML v1.0//EN
CALSCALE:GREGORIAN
METHOD:PUBLISH
X-ORIGINAL-URL:https://nakonhakaucc.ca
X-WR-CALDESC:Events for Nakonhaka Region 13
REFRESH-INTERVAL;VALUE=DURATION:PT1H
X-Robots-Tag:noindex
X-PUBLISHED-TTL:PT1H
BEGIN:VTIMEZONE
TZID:America/Toronto
BEGIN:DAYLIGHT
TZOFFSETFROM:-0500
TZOFFSETTO:-0400
TZNAME:EDT
DTSTART:20230312T070000
END:DAYLIGHT
BEGIN:STANDARD
TZOFFSETFROM:-0400
TZOFFSETTO:-0500
TZNAME:EST
DTSTART:20231105T060000
END:STANDARD
BEGIN:DAYLIGHT
TZOFFSETFROM:-0500
TZOFFSETTO:-0400
TZNAME:EDT
DTSTART:20240310T070000
END:DAYLIGHT
BEGIN:STANDARD
TZOFFSETFROM:-0400
TZOFFSETTO:-0500
TZNAME:EST
DTSTART:20241103T060000
END:STANDARD
BEGIN:DAYLIGHT
TZOFFSETFROM:-0500
TZOFFSETTO:-0400
TZNAME:EDT
DTSTART:20250309T070000
END:DAYLIGHT
BEGIN:STANDARD
TZOFFSETFROM:-0400
TZOFFSETTO:-0500
TZNAME:EST
DTSTART:20251102T060000
END:STANDARD
END:VTIMEZONE
BEGIN:VEVENT
DTSTART;TZID=America/Toronto:20241205T193000
DTEND;TZID=America/Toronto:20241205T193000
DTSTAMP:20260422T045758
CREATED:20241123T175204Z
LAST-MODIFIED:20241127T153354Z
UID:17485-1733427000-1733427000@nakonhakaucc.ca
SUMMARY:Blue Christmas 2024 (Trinity United Church-Montreal)
DESCRIPTION:Trinity and Anjou United Churches will hold our Annual Blue Christmas & Memorial Service on Thursday\, Dec 5 at 7:30pm at Trinity\, 3050 Blvd. Rosemont\, Montreal\, QC H1Y1M2.  Parking available at Nesbitt School across the street\, access by 8th Ave. via Bellechasse.  Call 514-721-1830 for more information or for Zoom link.  A service for those missing loved ones and all those mourning the state of the world just now.  A gentle service of hope and light \nWe invite folks to join us in person\, via Zoom\, or via YouTube Live: \n\nIn person: 3050 Rosemount Boulevard\, Montreal  H1Y 1M2\nZoom:  409-899-9875\, passcode 901455\nYouTube channel: https://www.youtube.com/channel/UC_xdojt7NCLwUS6_WG4pzbQ\n\n  \n\nWe also have two special fundraisers associated with Blue Christmas. \n1) You can light a candle during the service for our family and friends who have died during the year.  Please contact Christine Tatarewicz at office@trinityuc.net or 514-721-1830 with the name. If you cannot come in person to light the candle\, someone from Trinity can light it on your behalf.  Any donation amount is greatly appreciated.  Deadline:  Monday December 2. \n2) You can purchase an ornament in memory of\, or in honor of\, a loved one.  Every year during the Blue Christmas memorial service\, a tree is decorated with special ornaments in memory of family and friends who have departed. This year’s ornaments feature Nativity figures arranged in a cross shape. (Refer to attached photo.  There are 6 design variations within this style.) Please contact Diane Best at fellowship@trinityuc.net or 438-765-7904. Donations of $5 and up per ornament are accepted. Deadline not available at press time. \n(Photo credit:  Diane Best\, Montreal\, November 2024. ) \n  \nIn both cases:  Tax receipts are available for donations of $10 or more. \n 
URL:https://nakonhakaucc.ca/event/blue-christmas-2024-trinity-united-church-montreal/
LOCATION:Trinity United Church\, 3050 Boulevard Rosemont\, Montréal\, QC\, H1Y 1M2\, Canada
CATEGORIES:Community event,Worship
ATTACH;FMTTYPE=image/png:https://nakonhakaucc.ca/wp-content/uploads/2024/11/Blue-Christmas.png
END:VEVENT
BEGIN:VEVENT
DTSTART;TZID=America/Toronto:20241212T120000
DTEND;TZID=America/Toronto:20241212T123000
DTSTAMP:20260422T045758
CREATED:20241206T152730Z
LAST-MODIFIED:20241206T152730Z
UID:17714-1734004800-1734006600@nakonhakaucc.ca
SUMMARY:Webinar – Coffee with Jim Simpson & Sarah Charters
DESCRIPTION:Mark your calendars for “Coffee with Jim Simpson & Sarah Charters” on December 12\, 2024\, at 12 PM EST! \nJoin us for a special year-end edition of our “Coffee With” webinar series\, as we reflect on the past year and look ahead to what’s in store for the United Church of Canada Foundation in 2025. This half-hour session will feature Jim Simpson\, Foundation Board Chair\, and Sarah Charters\, Foundation President\, who will share insights on the Foundation’s progress and future plans. \nRegister here: https://unitedchurchfoundation.ca/upcoming-webinar-coffee-with-jim-simpson-sarah-charters/
URL:https://nakonhakaucc.ca/event/webinar-coffee-with-jim-simpson-sarah-charters/
LOCATION:online
CATEGORIES:Conversation,Finances,ONLINE,Webinar
ATTACH;FMTTYPE=image/png:https://nakonhakaucc.ca/wp-content/uploads/2024/12/Webinar-Graphic-Coffee-with-Jim-and-Sarah.png
ORGANIZER;CN="The United Church of Canada Foundation":MAILTO:fdn@united-church.ca
END:VEVENT
END:VCALENDAR