BEGIN:VCALENDAR
VERSION:2.0
PRODID:-//Nakonhaka Region 13 - ECPv6.15.20//NONSGML v1.0//EN
CALSCALE:GREGORIAN
METHOD:PUBLISH
X-WR-CALNAME:Nakonhaka Region 13
X-ORIGINAL-URL:https://nakonhakaucc.ca
X-WR-CALDESC:Events for Nakonhaka Region 13
REFRESH-INTERVAL;VALUE=DURATION:PT1H
X-Robots-Tag:noindex
X-PUBLISHED-TTL:PT1H
BEGIN:VTIMEZONE
TZID:America/Toronto
BEGIN:DAYLIGHT
TZOFFSETFROM:-0500
TZOFFSETTO:-0400
TZNAME:EDT
DTSTART:20240310T070000
END:DAYLIGHT
BEGIN:STANDARD
TZOFFSETFROM:-0400
TZOFFSETTO:-0500
TZNAME:EST
DTSTART:20241103T060000
END:STANDARD
BEGIN:DAYLIGHT
TZOFFSETFROM:-0500
TZOFFSETTO:-0400
TZNAME:EDT
DTSTART:20250309T070000
END:DAYLIGHT
BEGIN:STANDARD
TZOFFSETFROM:-0400
TZOFFSETTO:-0500
TZNAME:EST
DTSTART:20251102T060000
END:STANDARD
BEGIN:DAYLIGHT
TZOFFSETFROM:-0500
TZOFFSETTO:-0400
TZNAME:EDT
DTSTART:20260308T070000
END:DAYLIGHT
BEGIN:STANDARD
TZOFFSETFROM:-0400
TZOFFSETTO:-0500
TZNAME:EST
DTSTART:20261101T060000
END:STANDARD
END:VTIMEZONE
BEGIN:VEVENT
DTSTART;TZID=America/Toronto:20250211T193000
DTEND;TZID=America/Toronto:20250211T203000
DTSTAMP:20260422T101137
CREATED:20241210T165916Z
LAST-MODIFIED:20241212T192425Z
UID:17749-1739302200-1739305800@nakonhakaucc.ca
SUMMARY:GreenFaith Montreal - Winter 2025 Book Study
DESCRIPTION:Life After Doom: Wisdom and Courage for a World Falling Apart by Brian D. McLaren \n\nFebruary 11th (Part 1 & 2) 7:30 – 8:30 pm on Zoom\nFebruary 25th (Part 3 & 4) 7:30 – 8:30 pm on Zoom\n\nAll welcome to join us for a guided discussion! \nRegister / learn more: greenfaithmontreal@gmail.com \nDownload poster to share: PDF / JPG
URL:https://nakonhakaucc.ca/event/greenfaith-montreal-winter-2025-book-study/
CATEGORIES:Climate Justice,Community event,Conversation,Environment,ONLINE
ATTACH;FMTTYPE=image/jpeg:https://nakonhakaucc.ca/wp-content/uploads/2024/12/GreenFaith-2025-Book-Study-1.jpg
ORGANIZER;CN="GreenFaith Montreal":MAILTO:greenfaithmontreal@gmail.com
END:VEVENT
BEGIN:VEVENT
DTSTART;VALUE=DATE:20250215
DTEND;VALUE=DATE:20250216
DTSTAMP:20260422T101137
CREATED:20240813T183315Z
LAST-MODIFIED:20241220T182118Z
UID:14116-1739577600-1739663999@nakonhakaucc.ca
SUMMARY:Deadline - grant submission (February 2025)
DESCRIPTION:Grant application deadlines happen three times a year (February 15\, May 15 and September 15.) Your community of faith or pastoral charge may apply for grants at any of those times\, with the following exceptions: Mission Support applications are only accepted for the September 15 deadline\, and Erskine-American Mountainside applications are only accepted for February 15 deadline (other than emergencies). \nLearn more / download forms: https://nakonhakaucc.ca/resources/granting-and-enabling/\nVideo of learning session about grants: https://nakonhakaucc.ca/event/learning-session-grants/
URL:https://nakonhakaucc.ca/event/deadline-grant-submission-february-2025/
CATEGORIES:Grants
ATTACH;FMTTYPE=image/png:https://nakonhakaucc.ca/wp-content/uploads/2024/08/2025-02-15-Grants.png
END:VEVENT
BEGIN:VEVENT
DTSTART;TZID=America/Toronto:20250225T193000
DTEND;TZID=America/Toronto:20250225T203000
DTSTAMP:20260422T101137
CREATED:20241210T170003Z
LAST-MODIFIED:20241210T170003Z
UID:17752-1740511800-1740515400@nakonhakaucc.ca
SUMMARY:GreenFaith Montreal - Winter 2025 Book Study
DESCRIPTION:Life After Doom: Wisdom and Courage for a World Falling Apart by Brian D. McLaren \n\nFebruary 11th (Part 1 & 2) 7:30 – 8:30 pm on Zoom\nFebruary 25th (Part 3 & 4) 7:30 – 8:30 pm on Zoom\n\nAll welcome to join us for a guided discussion! \nRegister / learn more: greenfaithmontreal@gmail.com
URL:https://nakonhakaucc.ca/event/greenfaith-montreal-winter-2025-book-study-2/
CATEGORIES:Climate Justice,Community event,Conversation,Environment,ONLINE
ATTACH;FMTTYPE=image/jpeg:https://nakonhakaucc.ca/wp-content/uploads/2024/12/LifeAfterDoom.jpg
ORGANIZER;CN="GreenFaith Montreal":MAILTO:greenfaithmontreal@gmail.com
END:VEVENT
END:VCALENDAR