BEGIN:VCALENDAR
VERSION:2.0
PRODID:-//Nakonhaka Region 13 - ECPv6.15.20//NONSGML v1.0//EN
CALSCALE:GREGORIAN
METHOD:PUBLISH
X-WR-CALNAME:Nakonhaka Region 13
X-ORIGINAL-URL:https://nakonhakaucc.ca
X-WR-CALDESC:Events for Nakonhaka Region 13
REFRESH-INTERVAL;VALUE=DURATION:PT1H
X-Robots-Tag:noindex
X-PUBLISHED-TTL:PT1H
BEGIN:VTIMEZONE
TZID:America/Toronto
BEGIN:DAYLIGHT
TZOFFSETFROM:-0500
TZOFFSETTO:-0400
TZNAME:EDT
DTSTART:20230312T070000
END:DAYLIGHT
BEGIN:STANDARD
TZOFFSETFROM:-0400
TZOFFSETTO:-0500
TZNAME:EST
DTSTART:20231105T060000
END:STANDARD
BEGIN:DAYLIGHT
TZOFFSETFROM:-0500
TZOFFSETTO:-0400
TZNAME:EDT
DTSTART:20240310T070000
END:DAYLIGHT
BEGIN:STANDARD
TZOFFSETFROM:-0400
TZOFFSETTO:-0500
TZNAME:EST
DTSTART:20241103T060000
END:STANDARD
BEGIN:DAYLIGHT
TZOFFSETFROM:-0500
TZOFFSETTO:-0400
TZNAME:EDT
DTSTART:20250309T070000
END:DAYLIGHT
BEGIN:STANDARD
TZOFFSETFROM:-0400
TZOFFSETTO:-0500
TZNAME:EST
DTSTART:20251102T060000
END:STANDARD
END:VTIMEZONE
BEGIN:VEVENT
DTSTART;TZID=America/Toronto:20240408T190000
DTEND;TZID=America/Toronto:20240408T210000
DTSTAMP:20260424T002953
CREATED:20240307T150308Z
LAST-MODIFIED:20240307T150308Z
UID:10348-1712602800-1712610000@nakonhakaucc.ca
SUMMARY:Cooking with Roma
DESCRIPTION:Cooking for Love & Comfort \nRoma comes with a welcoming and open spirit to the shared exploration of how cooking can bring comfort to ourselves and others in times of loss. \n  \nIn Roma’s kitchen there is space for learning new skills\, telling stories and sharing the favourite recipes of loved ones.   Participants will learn how to prepare simple\, economical\, and healthy meals while sharing memories and meals together. \n  \nCourse Information:    Monday Evenings – 8 week sessions \nMaximum 8 participants per session \nTo Register: donna.stegennys@gmail.com or call 514-626-4795 \nCost:  Suggested donation of $60.00 per session….  IF YOU CAN NOT AFFORD THIS YOU ARE STILL WELCOME….  Contact Donna
URL:https://nakonhakaucc.ca/event/cooking-with-roma/
LOCATION:Ste. Genevieve United Church\, 4697 boulevard Saint-Jean\, Dollard-des-Ormeaux\, QC\, Canada
CATEGORIES:Fundraiser,Meal,Support Group,Workshop
ATTACH;FMTTYPE=image/jpeg:https://nakonhakaucc.ca/wp-content/uploads/2024/03/2023-12-13_Poster-Romas-Kitchen_page-0001-2.jpg
ORGANIZER;CN="Ste Genevieve United Church":MAILTO:donna.stegennys@gmail.com
END:VEVENT
BEGIN:VEVENT
DTSTART;TZID=America/Toronto:20240421T120000
DTEND;TZID=America/Toronto:20240421T140000
DTSTAMP:20260424T002953
CREATED:20240307T150435Z
LAST-MODIFIED:20240307T150435Z
UID:10338-1713700800-1713708000@nakonhakaucc.ca
SUMMARY:Resurrect Your Bike
DESCRIPTION:Evaluations and minor tune-ups for free\nAs part of our commitment to live in respect with creation\, \nSte Genevieve United Church is offering to give your bicycle a boost of life on Earth Day Sunday. \nActive transportation is part of the solution to fight climate change\, and a bike in good working condition is a good place to start! \nThis event is open to people of all faiths and no faith. \nWe can get your bike ready for the season and advice about any major repairs it might need. \nApril 21 & 28\, 2024   Noon to 2 pm (weather permitting) \nSte Genevieve United Church\, 4697 St-Jean\, Dollard-des-Ormeaux
URL:https://nakonhakaucc.ca/event/resurrect-your-bike-2/
LOCATION:Ste. Genevieve United Church\, 4697 boulevard Saint-Jean\, Dollard-des-Ormeaux\, QC\, Canada
CATEGORIES:Adults of all ages,Environment,Youth and Young Adult
ATTACH;FMTTYPE=image/jpeg:https://nakonhakaucc.ca/wp-content/uploads/2024/03/2024-04-21_Ressurect-your-Bike_Plant-Sale_Final_page-0002.jpg
ORGANIZER;CN="Ste Genevieve United Church":MAILTO:donna.stegennys@gmail.com
END:VEVENT
BEGIN:VEVENT
DTSTART;TZID=America/Toronto:20240428T120000
DTEND;TZID=America/Toronto:20240428T140000
DTSTAMP:20260424T002953
CREATED:20240307T150343Z
LAST-MODIFIED:20240307T150343Z
UID:10343-1714305600-1714312800@nakonhakaucc.ca
SUMMARY:Resurrect Your Bike
DESCRIPTION:Evaluations and minor tune-ups for free\nAs part of our commitment to live in respect with creation\, \nSte Genevieve United Church is offering to give your bicycle a boost of life on Earth Day Sunday. \nActive transportation is part of the solution to fight climate change\, and a bike in good working condition is a good place to start! \nThis event is open to people of all faiths and no faith. \nWe can get your bike ready for the season and advice about any major repairs it might need. \nApril 21 & 28\, 2024   Noon to 2 pm (weather permitting) \nSte Genevieve United Church\, 4697 St-Jean\, Dollard-des-Ormeaux
URL:https://nakonhakaucc.ca/event/resurrect-your-bike/
LOCATION:Ste. Genevieve United Church\, 4697 boulevard Saint-Jean\, Dollard-des-Ormeaux\, QC\, Canada
CATEGORIES:Adults of all ages,children and youth,Community event,Environment
ATTACH;FMTTYPE=image/jpeg:https://nakonhakaucc.ca/wp-content/uploads/2024/03/2024-04-21_Ressurect-your-Bike_Plant-Sale_Final_page-0002-1.jpg
ORGANIZER;CN="Ste Genevieve United Church":MAILTO:donna.stegennys@gmail.com
END:VEVENT
END:VCALENDAR