BEGIN:VCALENDAR
VERSION:2.0
PRODID:-//Conseil régional Nakonha:ka - ECPv6.15.20//NONSGML v1.0//EN
CALSCALE:GREGORIAN
METHOD:PUBLISH
X-WR-CALNAME:Conseil régional Nakonha:ka
X-ORIGINAL-URL:https://nakonhakaucc.ca/fr
X-WR-CALDESC:Évènements pour Conseil régional Nakonha:ka
REFRESH-INTERVAL;VALUE=DURATION:PT1H
X-Robots-Tag:noindex
X-PUBLISHED-TTL:PT1H
BEGIN:VTIMEZONE
TZID:America/Toronto
BEGIN:DAYLIGHT
TZOFFSETFROM:-0500
TZOFFSETTO:-0400
TZNAME:EDT
DTSTART:20210314T070000
END:DAYLIGHT
BEGIN:STANDARD
TZOFFSETFROM:-0400
TZOFFSETTO:-0500
TZNAME:EST
DTSTART:20211107T060000
END:STANDARD
BEGIN:DAYLIGHT
TZOFFSETFROM:-0500
TZOFFSETTO:-0400
TZNAME:EDT
DTSTART:20220313T070000
END:DAYLIGHT
BEGIN:STANDARD
TZOFFSETFROM:-0400
TZOFFSETTO:-0500
TZNAME:EST
DTSTART:20221106T060000
END:STANDARD
BEGIN:DAYLIGHT
TZOFFSETFROM:-0500
TZOFFSETTO:-0400
TZNAME:EDT
DTSTART:20230312T070000
END:DAYLIGHT
BEGIN:STANDARD
TZOFFSETFROM:-0400
TZOFFSETTO:-0500
TZNAME:EST
DTSTART:20231105T060000
END:STANDARD
END:VTIMEZONE
BEGIN:VEVENT
DTSTART;TZID=America/Toronto:20220223T190000
DTEND;TZID=America/Toronto:20220223T203000
DTSTAMP:20260423T151527
CREATED:20220216T174606Z
LAST-MODIFIED:20220308T001034Z
UID:4321-1645642800-1645648200@nakonhakaucc.ca
SUMMARY:Formation en ligne : UPRC et l'intendance des biens immobiliers
DESCRIPTION:Veuillez vous joindre à nous pour une formation en ligne avec une vidéo préparée par United Property Resource Corporation (UPRC – Société de gestion des ressources immobilières de l’Église Unie et une discussion sur l’intendance et le réaménagement potentiel de nos bâtiments d’église et d’autres ressources immobilières\, animée par la ministre exécutive\, la pasteure Rosemary Lambie. \nL’appel de l’UPRC est « d’être un partenaire et un leader de confiance\, travaillant en collaboration pour développer des communautés diversifiées\, abordables et durables où toutes les personnes peuvent vivre\, se rassembler et s’épanouir ». \n			\n			\n				\n				\n				\n				\n			\n				\n				\n				\n				\n				\n				\n				\n				\n				\n				\n				Enregistrement maintenant disponible\nPour ceux et celles qui n’ont pas pu se joindre à nous ou qui aimeraient partager les ressources avec d’autres\, le lien vers l’enregistrement de cet événement est maintenant disponible. \n			\n				\n				\n				\n				\n				\n			\n				Visionnez l'enregistrement\n			\n			\n				\n				\n				\n				\n				\n				\n				\n				\n				\n				Votre avis est important!\nSi vous avez participé à la formation (ou si vous n’avez pas pu le faire mais souhaitez partager quelques réflexions)\, veuillez prendre deux minutes pour répondre à ce court sondage. \n			\n				Cliquez ici pour partager vos idées...
URL:https://nakonhakaucc.ca/fr/evenement/formation-en-ligne-uprc-et-lintendance-des-biens-immobiliers/
LOCATION:QC
CATEGORIES:adultes de tous âges,atelier,EN LIGNE,rassemblement régional
ATTACH;FMTTYPE=image/jpeg:https://nakonhakaucc.ca/fr/wp-content/uploads/sites/2/2022/02/UPRC-event-photo1a.jpg
END:VEVENT
END:VCALENDAR