BEGIN:VCALENDAR
VERSION:2.0
PRODID:-//Conseil régional Nakonha:ka - ECPv6.15.20//NONSGML v1.0//EN
CALSCALE:GREGORIAN
METHOD:PUBLISH
X-WR-CALNAME:Conseil régional Nakonha:ka
X-ORIGINAL-URL:https://nakonhakaucc.ca/fr
X-WR-CALDESC:Évènements pour Conseil régional Nakonha:ka
REFRESH-INTERVAL;VALUE=DURATION:PT1H
X-Robots-Tag:noindex
X-PUBLISHED-TTL:PT1H
BEGIN:VTIMEZONE
TZID:America/Toronto
BEGIN:DAYLIGHT
TZOFFSETFROM:-0500
TZOFFSETTO:-0400
TZNAME:EDT
DTSTART:20210314T070000
END:DAYLIGHT
BEGIN:STANDARD
TZOFFSETFROM:-0400
TZOFFSETTO:-0500
TZNAME:EST
DTSTART:20211107T060000
END:STANDARD
BEGIN:DAYLIGHT
TZOFFSETFROM:-0500
TZOFFSETTO:-0400
TZNAME:EDT
DTSTART:20220313T070000
END:DAYLIGHT
BEGIN:STANDARD
TZOFFSETFROM:-0400
TZOFFSETTO:-0500
TZNAME:EST
DTSTART:20221106T060000
END:STANDARD
BEGIN:DAYLIGHT
TZOFFSETFROM:-0500
TZOFFSETTO:-0400
TZNAME:EDT
DTSTART:20230312T070000
END:DAYLIGHT
BEGIN:STANDARD
TZOFFSETFROM:-0400
TZOFFSETTO:-0500
TZNAME:EST
DTSTART:20231105T060000
END:STANDARD
END:VTIMEZONE
BEGIN:VEVENT
DTSTART;TZID=America/Toronto:20221017T190000
DTEND;TZID=America/Toronto:20221017T210000
DTSTAMP:20260423T020553
CREATED:20221005T191356Z
LAST-MODIFIED:20221005T191356Z
UID:4876-1666033200-1666040400@nakonhakaucc.ca
SUMMARY:ORA Perte et Vivre (deuil): Cooking for Love and Comfort with Chef Roma Trottier
DESCRIPTION:Mondays\, 7-9 pm (Oct 17\, 24\, 31\, Nov. 7\,14\,21\,28\, Dec. 5) – en anglais \nOur programs are offered for free but please consider a donation to help offset costs. \nRegistration: contact Roma at roma.trottier@gmail.com
URL:https://nakonhakaucc.ca/fr/evenement/ora-loss-living-cooking-roma-oct2022-fr/
LOCATION:Ste. Genevieve United Church\, 4697 boul. Saint Jean\, Dollard-des-Ormeaux\, QC\, H9H 2A7\, Canada
CATEGORIES:adultes de tous âges,atelier,deuil
ATTACH;FMTTYPE=image/jpeg:https://nakonhakaucc.ca/fr/wp-content/uploads/sites/2/2022/10/ORA-CookingForLoveComfort-Eventbrite.jpg
ORGANIZER;CN="Programme Perte et Vivre ORA":MAILTO:info@ora-mtl.org
END:VEVENT
END:VCALENDAR