BEGIN:VCALENDAR
VERSION:2.0
PRODID:-//Conseil régional Nakonha:ka - ECPv6.15.20//NONSGML v1.0//EN
CALSCALE:GREGORIAN
METHOD:PUBLISH
X-WR-CALNAME:Conseil régional Nakonha:ka
X-ORIGINAL-URL:https://nakonhakaucc.ca/fr
X-WR-CALDESC:Évènements pour Conseil régional Nakonha:ka
REFRESH-INTERVAL;VALUE=DURATION:PT1H
X-Robots-Tag:noindex
X-PUBLISHED-TTL:PT1H
BEGIN:VTIMEZONE
TZID:America/Toronto
BEGIN:DAYLIGHT
TZOFFSETFROM:-0500
TZOFFSETTO:-0400
TZNAME:EDT
DTSTART:20210314T070000
END:DAYLIGHT
BEGIN:STANDARD
TZOFFSETFROM:-0400
TZOFFSETTO:-0500
TZNAME:EST
DTSTART:20211107T060000
END:STANDARD
BEGIN:DAYLIGHT
TZOFFSETFROM:-0500
TZOFFSETTO:-0400
TZNAME:EDT
DTSTART:20220313T070000
END:DAYLIGHT
BEGIN:STANDARD
TZOFFSETFROM:-0400
TZOFFSETTO:-0500
TZNAME:EST
DTSTART:20221106T060000
END:STANDARD
BEGIN:DAYLIGHT
TZOFFSETFROM:-0500
TZOFFSETTO:-0400
TZNAME:EDT
DTSTART:20230312T070000
END:DAYLIGHT
BEGIN:STANDARD
TZOFFSETFROM:-0400
TZOFFSETTO:-0500
TZNAME:EST
DTSTART:20231105T060000
END:STANDARD
END:VTIMEZONE
BEGIN:VEVENT
DTSTART;VALUE=DATE:20220626
DTEND;VALUE=DATE:20220703
DTSTAMP:20260424T201211
CREATED:20220405T172547Z
LAST-MODIFIED:20220518T153349Z
UID:4491-1656201600-1656806399@nakonhakaucc.ca
SUMMARY:Camp Esprit Uni 2022 - Prendre soin de la création
DESCRIPTION:Nous sommes un camp d’une semaine\, dirigé par des bénévoles\, pour les enfants âgés de 8 à 15 ans.\nNous accueillons divers campeurs de partout au Québec\, en Ontario et au-delà. Le camp se déroule principalement en anglais\, nous faisons de notre mieux pour accueillir les enfants francophones. La thème pour 2022 est « Prendre soin de la Création » \nPrix: 400$ (rabais disponible au besoin) \nTéléchargez la brochure : https://nakonhakaucc.ca/wp-content/uploads/2022/05/Camp-Tri-fold-Brochure.pdf \nInscription : https://sites.google.com/view/campunitedspirit/registration \nPage Facebook: https://www.facebook.com/events/672738927154847
URL:https://nakonhakaucc.ca/fr/evenement/camp-esprit-uni-2022-prendre-soin-de-la-creation/
LOCATION:Camp Esprit Uni
CATEGORIES:camp,enfants et jeunes
ATTACH;FMTTYPE=image/png:https://nakonhakaucc.ca/fr/wp-content/uploads/sites/2/2022/04/Caring-for-creation-Logo.png
ORGANIZER;CN="Shanna Bernier":MAILTO:sbernier@united-church.ca
END:VEVENT
END:VCALENDAR